{"text_format":"1","workbook":"xlsx","n_sheets":10,"sheets":["Inicio","PGC","Redactor Contable","Mayores","PyG","Balance","Flujos de Tesoreria","Ratios","Sumas y Saldos","Solucion"],"not_rendered":{"charts":1,"images":7,"macros":1,"external_links":0,"defined_names":101,"comments":1,"pivot_tables":3},"unopened":[],"bounds":{"document_bytes":16777216,"sheet_cells":100000,"rows_first":2000,"rows_last":500,"rows_between":2000,"halvings":0,"cell_chars":16384,"cell_head_chars":4096},"cells_cut":0,"cells_raw":0,"read":"whole","date_system":"1900"}

{"sheet":"Inicio","index":0,"n_rows":23,"n_cols":13,"rows_kept":23,"cut":false,"hidden":false,"merged":[[37,3,38,10],[41,3,42,10],[2,9,6,15]]}
[]
[]
[null,null,null,null,null,null,null,null,null,"\"… la hoja de cálculo es un instrumento extraordinariamente potente, de fácil uso y versátil pero puede contener graves errores ocultos derivados de fallos cometidos en el diseño del modelo “……. Consejo: Audite continuamente sus trabajos…"]
[]
[]
[]
[]
[]
[null,null,null,null,null,null,null,null,null,"Consejos de navegacion a tráves de los vínculos del libro"]
[null,null,null,null,null,null,null,null,null,"Volver al vínculo anterior",null,"ALT + ←","ALT+FLECHA IZQUIERDA"]
[null,null,null,null,null,null,null,null,null,"Volver al vínculo siguiente",null,"ALT + →","ALT+FLECHA DERECHA"]
[]
[]
[]
[]
[]
[]
[]
["Indice General"]
[null,"Diario de Contabilidad. Registro Contable"]
[null,"Mayores"]
[null,"Pérdidas y Ganacias"]
[null,"Balance. Estado Patrimonial"]

{"sheet":"PGC","index":1,"n_rows":866,"n_cols":27,"rows_kept":866,"cut":false,"hidden":true,"merged":[[0,0,1,7]]}
["PGC Básico - 2008",null,null,null,null,null,null,null,null,null,null,null,null,null,null,null,null,null,null,null,"Formula Básica 1","SI(ESERROR(BUSCARV([@Cta];PGCtotal[[Nivel 4]:[Subcuenta]];5;FALSO));\"\";BUSCARV([@Cta];PGCtotal[[Nivel 4]:[Subcuenta]];5;FALSO))"]
[null,null,null,null,null,null,null,null,null,null,null,null,null,null,null,null,null,null,null,null,"Nº As","Importe","Cta","Descripción","D/H","Fecha","Observaciones"]
["Nivel 1","Nivel 2","Nivel 3","Nivel 4","Grupo","Subgrupo","Cuenta","Subcuenta",null,null,null,null,null,null,"Grupos","Subgrupos","Cuentas","Subcuentas",null,null,null,null,null,{"$f":"IF(ISERROR(VLOOKUP(Tabla_Asiento_24[[#This Row],[Cta]],PGCtotal[[Nivel 4]:[Subcuenta]],5,FALSE)),\"\",VLOOKUP(Tabla_Asiento_24[[#This Row],[Cta]],PGCtotal[[Nivel 4]:[Subcuenta]],5,FALSE))","v":""}]
[1,10,100,1000,"Financiación Básica","Capital","Capital social","Capital social",null,null,null,null,null,null,1,10,100,1000]
[1,10,101,1010,"Financiación Básica","Capital","Fondo social","Fondo social",null,null,null,null,null,null,2,11,101,1010,null,null,"Formato"]
[1,10,102,1020,"Financiación Básica","Capital","Capital","Capital",null,null,null,null,null,null,3,12,102,1020,null,null,1,125,100,{"$f":"IF(ISERROR(VLOOKUP(Tabla_Asiento_2[[#This Row],[Cta]],PGCtotal[[Nivel 3]:[Subcuenta]],5,FALSE)),\"\",VLOOKUP(Tabla_Asiento_2[[#This Row],[Cta]],PGCtotal[[Nivel 3]:[Subcuenta]],5,FALSE))","v":""},"D","2012-01-01"]
[1,10,103,1030,"Financiación Básica","Capital","Socios por desembolsos no exigidos...","Socios por desembolsos no exigidos, capital social",null,null,null,null,null,null,4,13,103,1030]
[1,10,103,1034,"Financiación Básica","Capital","Socios por desembolsos no exigidos, capital pendiente de inscripción","Socios por desembolsos no exigidos, capital pendiente de inscripción",null,null,null,null,null,null,5,14,104,1034]
[1,10,104,1040,"Financiación Básica","Capital","Socios por aportaciones no dinerarias pendientes...","Socios por aportaciones no dinerarias pendientes, capital social",null,null,null,null,null,null,6,15,108,1040]
[1,10,104,1044,"Financiación Básica","Capital","Socios por aportaciones no dinerarias pendientes, capital pendiente de inscripción.","Socios por aportaciones no dinerarias pendientes, capital pendiente de inscripción.",null,null,null,null,null,null,7,16,109,1044]
[1,10,108,1080,"Financiación Básica","Capital","Acciones o participaciones propias en situaciones especiales","Acciones o participaciones propias en situaciones especiales",null,null,null,null,null,null,8,17,110,1080]
[1,10,109,1090,"Financiación Básica","Capital","Acciones o participaciones propias para reducción de capital","Acciones o participaciones propias para reducción de capital",null,null,null,null,null,null,9,18,111,1090]
[1,11,110,1100,"Financiación Básica","Reservas","Prima de emisión o asunción","Prima de emisión o asunción",null,null,null,null,null,null,null,19,112,1100]
[1,11,111,1110,"Financiación Básica","Reservas","Patrimonio neto por emisión de instrumentos financieros compuestos","Patrimonio neto por emisión de instrumentos financieros compuestos",null,null,null,null,null,null,null,20,113,1110]
[1,11,111,1111,"Financiación Básica","Reservas","Resto de instrumentos de patrimonio neto","Resto de instrumentos de patrimonio neto",null,null,null,null,null,null,null,21,114,1111]
[1,11,112,1120,"Financiación Básica","Reservas","Reserva legal","Reserva legal",null,null,null,null,null,null,null,22,115,1120]
[1,11,113,1130,"Financiación Básica","Reservas","Reservas voluntarias","Reservas voluntarias",null,null,null,null,null,null,null,23,117,1130]
[1,11,114,1140,"Financiación Básica","Reservas","Reservas especiales","Reservas para acciones o participaciones de la sociedad dominante",null,null,null,null,null,null,null,24,118,1140]
[1,11,114,1141,"Financiación Básica","Reservas","Reservas estatutarias","Reservas estatutarias",null,null,null,null,null,null,null,25,119,1141]
[1,11,114,1142,"Financiación Básica","Reservas","Reserva por capital amortizado","Reserva por capital amortizado",null,null,null,null,null,null,null,26,120,1142]
[1,11,114,1143,"Financiación Básica","Reservas","Reserva por fondo de comercio","Reserva por fondo de comercio",null,null,null,null,null,null,null,27,121,1143]
[1,11,114,1144,"Financiación Básica","Reservas","Reservas por acciones propias aceptadas en garantía","Reservas por acciones propias aceptadas en garantía",null,null,null,null,null,null,null,28,129,1144]
[1,11,115,1150,"Financiación Básica","Reservas","Reservas por pérdidas y ganancias actuariales y otros ajustes","Reservas por pérdidas y ganancias actuariales y otros ajustes",null,null,null,null,null,null,null,29,130,1150,null,null,null,null,"f"]
[1,11,117,1170,"Financiación Básica","Reservas","Otras Aportaciones","Otras Aportaciones",null,null,null,null,null,null,null,30,131,1170]
[1,11,117,1171,"Financiación Básica","Reservas","Otras Aportaciones","Otras Aportaciones",null,null,null,null,null,null,null,31,132,1171]
[1,11,118,1180,"Financiación Básica","Reservas","Aportaciones de socios o propietarios","Aportaciones de socios o propietarios",null,null,null,null,null,null,null,32,133,1180]
[1,11,119,1190,"Financiación Básica","Reservas","Diferencias por ajuste del capital a euros","Diferencias por ajuste del capital a euros",null,null,null,null,null,null,null,33,134,1190]
[1,12,120,1200,"Financiación Básica","Resultados pendientes de aplicación","Remanente","Remanente",null,null,null,null,null,null,null,34,135,1200]
[1,12,121,1210,"Financiación Básica","Resultados pendientes de aplicación","Resultados negativos de ejercicios anteriores","Resultados negativos de ejercicios anteriores",null,null,null,null,null,null,null,35,136,1210]
[1,12,129,1290,"Financiación Básica","Resultados pendientes de aplicación","Resultados del ejercicio","Resultados del ejercicio",null,null,null,null,null,null,null,36,137,1290]
[1,13,130,1300,"Financiación Básica","Subvenciones, donaciones y ajustes por cambios de valor","Subvenciones oficiales de capital","Subvenciones oficiales de capital",null,null,null,null,null,null,null,39,140,1300]
[1,13,131,1310,"Financiación Básica","Subvenciones, donaciones y ajustes por cambios de valor","Donaciones y legados de capital","Donaciones y legados de capital",null,null,null,null,null,null,null,40,141,1310]
[1,13,132,1320,"Financiación Básica","Subvenciones, donaciones y ajustes por cambios de valor","Otras subvenciones, donaciones y legados","Otras subvenciones, donaciones y legados",null,null,null,null,null,null,null,41,142,1320]
[1,13,133,1330,"Financiación Básica","Subvenciones, donaciones y ajustes por cambios de valor","Ajustes por valoración en instrumentos financieros","Ajustes por valoración en instrumentos financieros",null,null,null,null,null,null,null,43,143,1330]
[1,13,134,1340,"Financiación Básica","Subvenciones, donaciones y ajustes por cambios de valor","Operaciones de cobertura","Cobertura de flujos de efectivo",null,null,null,null,null,null,null,44,145,1340]
[1,13,134,1341,"Financiación Básica","Subvenciones, donaciones y ajustes por cambios de valor","Cobertura de una inversión neta en un negocio en el extranjero","Cobertura de una inversión neta en un negocio en el extranjero",null,null,null,null,null,null,null,46,146,1341]
[1,13,135,1350,"Financiación Básica","Subvenciones, donaciones y ajustes por cambios de valor","Diferencias de conversión","Diferencias de conversión",null,null,null,null,null,null,null,47,147,1350]
[1,13,136,1360,"Financiación Básica","Subvenciones, donaciones y ajustes por cambios de valor","Ajustes por valoración en activos no corrientes y grupos enajenables de elementos mantenidos para la venta","Ajustes por valoración en activos no corrientes y grupos enajenables de elementos mantenidos para la venta",null,null,null,null,null,null,null,48,150,1360]
[1,13,137,1370,"Financiación Básica","Subvenciones, donaciones y ajustes por cambios de valor","Ingresos fiscales a distribuir en varios ejercicios","Ingresos fiscales por diferencias permanentes a distribuir en varios ejercicios",null,null,null,null,null,null,null,49,153,1370]
[1,13,137,1371,"Financiación Básica","Subvenciones, donaciones y ajustes por cambios de valor","Ingresos fiscales por deducciones y bonificaciones a distribuir en varios ejercicios","Ingresos fiscales por deducciones y bonificaciones a distribuir en varios ejercicios",null,null,null,null,null,null,null,50,154,1371]
[1,14,140,1400,"Financiación Básica"," Provisiones","Provisión para retribuciones y otras prestaciones al personal.","Provisión para retribuciones y otras prestaciones al personal.",null,null,null,null,null,null,null,51,160,1400]
[1,14,141,1410,"Financiación Básica"," Provisiones","Provisión para impuestos","Provisión para impuestos",null,null,null,null,null,null,null,52,161,1410]
[1,14,142,1420,"Financiación Básica"," Provisiones","Provisión para otras responsabilidades","Provisión para otras responsabilidades",null,null,null,null,null,null,null,53,162,1420]
[1,14,143,1430,"Financiación Básica"," Provisiones","Provisión por desmantelamiento, retiro o rehabilitación del inmovilizado.","Provisión por desmantelamiento, retiro o rehabilitación del inmovilizado.",null,null,null,null,null,null,null,54,163,1430]
[1,14,145,1450,"Financiación Básica"," Provisiones","Provisión para actuaciones medioambientales","Provisión para actuaciones medioambientales",null,null,null,null,null,null,null,55,170,1450]
[1,14,146,1460,"Financiación Básica"," Provisiones","Provisión para reestructuraciones","Provisión para reestructuraciones",null,null,null,null,null,null,null,56,171,1460]
[1,14,147,1470,"Financiación Básica"," Provisiones","Provisiones por transacciones con pagos basados en instrumentos de patrimonio","Provisiones por transacciones con pagos basados en instrumentos de patrimonio",null,null,null,null,null,null,null,57,172,1470]
[1,15,150,1500,"Financiación Básica","Deudas a largo plazo con características especiales","Acciones o participaciones a largo plazo contabilizadas como pasivo","Acciones o participaciones a largo plazo contabilizadas como pasivo",null,null,null,null,null,null,null,58,173,1500]
[1,15,153,1530,"Financiación Básica","Deudas a largo plazo con características especiales","Desembolsos no exigidos por acciones o participaciones contabilizadas como pasivo.","Desembolsos no exigidos por acciones o participaciones contabilizadas como pasivo.",null,null,null,null,null,null,null,59,174,1530]
[1,15,153,1533,"Financiación Básica","Deudas a largo plazo con características especiales","Desembolsos no exigidos, empresas del grupo","Desembolsos no exigidos, empresas del grupo",null,null,null,null,null,null,null,60,175,1533]
[1,15,153,1534,"Financiación Básica","Deudas a largo plazo con características especiales","Desembolsos no exigidos, empresas asociadas","Desembolsos no exigidos, empresas asociadas",null,null,null,null,null,null,null,61,176,1534]
[1,15,153,1535,"Financiación Básica","Deudas a largo plazo con características especiales","Desembolsos no exigidos, otras partes vinculadas","Desembolsos no exigidos, otras partes vinculadas",null,null,null,null,null,null,null,62,177,1535]
[1,15,153,1536,"Financiación Básica","Deudas a largo plazo con características especiales","Otros desembolsos no exigidos","Otros desembolsos no exigidos",null,null,null,null,null,null,null,63,178,1536]
[1,15,154,1540,"Financiación Básica","Deudas a largo plazo con características especiales","Aportaciones no dinerarias pendientes por acciones o participaciones contabilizadas como pasivo","Aportaciones no dinerarias pendientes por acciones o participaciones contabilizadas como pasivo",null,null,null,null,null,null,null,64,179,1540]
[1,15,154,1543,"Financiación Básica","Deudas a largo plazo con características especiales","Aportaciones no dinerarias pendientes, empresas del grupo","Aportaciones no dinerarias pendientes, empresas del grupo",null,null,null,null,null,null,null,65,180,1543]
[1,15,154,1544,"Financiación Básica","Deudas a largo plazo con características especiales","Aportaciones no dinerarias pendientes, empresas asociadas","Aportaciones no dinerarias pendientes, empresas asociadas",null,null,null,null,null,null,null,66,181,1544]
[1,15,154,1545,"Financiación Básica","Deudas a largo plazo con características especiales","Aportaciones no dinerarias pendientes, otras partes vinculadas","Aportaciones no dinerarias pendientes, otras partes vinculadas",null,null,null,null,null,null,null,67,185,1545]
[1,15,154,1546,"Financiación Básica","Deudas a largo plazo con características especiales","Otras aportaciones no dinerarias pendientes","Otras aportaciones no dinerarias pendientes",null,null,null,null,null,null,null,68,189,1546]
[1,16,160,1600,"Financiación Básica","Deudas a largo plazo con partes vinculadas","Deudas a largo plazo con entidades de crédito vinculadas","Deudas a largo plazo con entidades de crédito vinculadas",null,null,null,null,null,null,null,69,190,1600]
[1,16,160,1603,"Financiación Básica","Deudas a largo plazo con partes vinculadas","Deudas a largo plazo con entidades de crédito, empresas del grupo","Deudas a largo plazo con entidades de crédito, empresas del grupo",null,null,null,null,null,null,null,70,192,1603]
[1,16,160,1604,"Financiación Básica","Deudas a largo plazo con partes vinculadas","Deudas a largo plazo con entidades de crédito, empresas asociadas","Deudas a largo plazo con entidades de crédito, empresas asociadas",null,null,null,null,null,null,null,71,194,1604]
[1,16,160,1605,"Financiación Básica","Deudas a largo plazo con partes vinculadas","Deudas a largo plazo con otras entidades de crédito vinculadas","Deudas a largo plazo con otras entidades de crédito vinculadas",null,null,null,null,null,null,null,73,195,1605]
[1,16,161,1610,"Financiación Básica","Deudas a largo plazo con partes vinculadas","Proveedores de inmovilizado a largo plazo, partes vinculadas","Proveedores de inmovilizado a largo plazo, partes vinculadas",null,null,null,null,null,null,null,74,197,1610]
[1,16,161,1613,"Financiación Básica","Deudas a largo plazo con partes vinculadas","Proveedores de inmovilizado a largo plazo, empresas del grupo","Proveedores de inmovilizado a largo plazo, empresas del grupo",null,null,null,null,null,null,null,75,199,1613]
[1,16,161,1614,"Financiación Básica","Deudas a largo plazo con partes vinculadas","Proveedores de inmovilizado a largo plazo, empresas asociadas","Proveedores de inmovilizado a largo plazo, empresas asociadas",null,null,null,null,null,null,null,76,200,1614]
[1,16,161,1615,"Financiación Básica","Deudas a largo plazo con partes vinculadas","Proveedores de inmovilizado a largo plazo, otras partes vinculadas","Proveedores de inmovilizado a largo plazo, otras partes vinculadas",null,null,null,null,null,null,null,77,201,1615]
[1,16,162,1620,"Financiación Básica","Deudas a largo plazo con partes vinculadas","Otras deudas a largo plazo con partes vinculadas","Otras deudas a largo plazo con partes vinculadas",null,null,null,null,null,null,null,79,202,1620]
[1,16,162,1623,"Financiación Básica","Deudas a largo plazo con partes vinculadas","Acreedores por arrendamiento financiero a largo plazo, empresas de grupo","Acreedores por arrendamiento financiero a largo plazo, empresas de grupo",null,null,null,null,null,null,null,80,203,1623]
[1,16,162,1624,"Financiación Básica","Deudas a largo plazo con partes vinculadas","Acreedores por arrendamiento financiero a largo plazo, empresas asociadas","Acreedores por arrendamiento financiero a largo plazo, empresas asociadas",null,null,null,null,null,null,null,81,204,1624]
[1,16,162,1625,"Financiación Básica","Deudas a largo plazo con partes vinculadas","Acreedores por arrendamiento financiero a largo plazo, otras partes vinculadas","Acreedores por arrendamiento financiero a largo plazo, otras partes vinculadas",null,null,null,null,null,null,null,82,205,1625]
[1,16,163,1630,"Financiación Básica","Deudas a largo plazo con partes vinculadas","Otras deudas a largo plazo con partes vinculadas","Otras deudas a largo plazo con partes vinculadas",null,null,null,null,null,null,null,83,206,1630]
[1,16,163,1633,"Financiación Básica","Deudas a largo plazo con partes vinculadas","Otras deudas a largo plazo, empresas del grupo","Otras deudas a largo plazo, empresas del grupo",null,null,null,null,null,null,null,84,209,1633]
[1,16,163,1634,"Financiación Básica","Deudas a largo plazo con partes vinculadas","Otras deudas a largo plazo, empresas asociadas","Otras deudas a largo plazo, empresas asociadas",null,null,null,null,null,null,null,85,210,1634]
[1,16,163,1635,"Financiación Básica","Deudas a largo plazo con partes vinculadas","Otras deudas a largo plazo, con otras partes vinculadas","Otras deudas a largo plazo, con otras partes vinculadas",null,null,null,null,null,null,null,86,211,1635]
[1,17,170,1700,"Financiación Básica","Deudas a largo plazo por préstamos recibidos y otros conceptos","Deudas a largo plazo con entidades de crédito","Deudas a largo plazo con entidades de crédito",null,null,null,null,null,null,null,89,212,1700]
[1,17,170,1701,"Financiación Básica","Deudas a largo plazo por préstamos recibidos y otros conceptos","Deudas a largo plazo con entidades de crédito","Deudas a largo plazo con entidades de crédito",null,null,null,null,null,null,null,90,213,1701]
[1,17,170,1705,"Financiación Básica","Deudas a largo plazo por préstamos recibidos y otros conceptos","Deudas a largo plazo con entidades de crédito","Deudas a largo plazo con entidades de crédito",null,null,null,null,null,null,null,91,214,1705]
[1,17,170,1707,"Financiación Básica","Deudas a largo plazo por préstamos recibidos y otros conceptos","Deudas a largo plazo con entidades de crédito","Deudas a largo plazo con entidades de crédito",null,null,null,null,null,null,null,92,215,1707]
[1,17,171,1710,"Financiación Básica","Deudas a largo plazo por préstamos recibidos y otros conceptos","Deudas a largo plazo","Deudas a largo plazo",null,null,null,null,null,null,null,94,216,1710]
[1,17,172,1720,"Financiación Básica","Deudas a largo plazo por préstamos recibidos y otros conceptos","Deudas a largo plazo transformables en subvenciones, donaciones y legados","Deudas a largo plazo transformables en subvenciones, donaciones y legados",null,null,null,null,null,null,null,95,217,1720]
[1,17,173,1730,"Financiación Básica","Deudas a largo plazo por préstamos recibidos y otros conceptos","Proveedores de inmovilizado a largo plazo","Proveedores de inmovilizado a largo plazo",null,null,null,null,null,null,null,96,218,1730]
[1,17,174,1740,"Financiación Básica","Deudas a largo plazo por préstamos recibidos y otros conceptos","Acreedores por arrendamiento financiero a largo plazo","Acreedores por arrendamiento financiero a largo plazo",null,null,null,null,null,null,null,99,219,1740]
[1,17,175,1750,"Financiación Básica","Deudas a largo plazo por préstamos recibidos y otros conceptos","Efectos a pagar a largo plazo","Efectos a pagar a largo plazo",null,null,null,null,null,null,null,null,220,1750]
[1,17,176,1760,"Financiación Básica","Deudas a largo plazo por préstamos recibidos y otros conceptos","Pasivos por derivados financieros a largo plazo","Pasivos por derivados financieros a largo plazo",null,null,null,null,null,null,null,null,221,1760]
[1,17,176,1765,"Financiación Básica","Deudas a largo plazo por préstamos recibidos y otros conceptos","Pasivos por derivados financieros a largo plazo, cartera de negociación","Pasivos por derivados financieros a largo plazo, cartera de negociación",null,null,null,null,null,null,null,null,224,1765]
[1,17,176,1768,"Financiación Básica","Deudas a largo plazo por préstamos recibidos y otros conceptos","Pasivos por derivados financieros a largo plazo, instrumentos de cobertura","Pasivos por derivados financieros a largo plazo, instrumentos de cobertura",null,null,null,null,null,null,null,null,226,1768]
[1,17,177,1770,"Financiación Básica","Deudas a largo plazo por préstamos recibidos y otros conceptos","Obligaciones y bonos","Obligaciones y bonos",null,null,null,null,null,null,null,null,227,1770]
[1,17,178,1780,"Financiación Básica","Deudas a largo plazo por préstamos recibidos y otros conceptos","Obligaciones y bonos convertibles","Obligaciones y bonos convertibles",null,null,null,null,null,null,null,null,230,1780]
[1,17,179,1790,"Financiación Básica","Deudas a largo plazo por préstamos recibidos y otros conceptos","Deudas representadas en otros valores negociables","Deudas representadas en otros valores negociables",null,null,null,null,null,null,null,null,231,1790]
[1,18,180,1800,"Financiación Básica","Pasivos por fianzas y garantías a largo plazo","Fianzas recibidas a largo plazo","Fianzas recibidas a largo plazo",null,null,null,null,null,null,null,null,232,1800]
[1,18,181,1810,"Financiación Básica","Pasivos por fianzas y garantías a largo plazo","Anticipos recibidos por ventas o prestaciones de servicios a largo plazo","Anticipos recibidos por ventas o prestaciones de servicios a largo plazo",null,null,null,null,null,null,null,null,233,1810]
[1,18,185,1850,"Financiación Básica","Pasivos por fianzas y garantías a largo plazo","Depósitos recibidos a largo plazo","Depósitos recibidos a largo plazo",null,null,null,null,null,null,null,null,237,1850]
[1,18,189,1890,"Financiación Básica","Pasivos por fianzas y garantías a largo plazo","Garantías financieras a largo plazo","Garantías financieras a largo plazo",null,null,null,null,null,null,null,null,239,1890]
[1,19,190,1900,"Financiación Básica","Situaciones transitorias de financiación","Acciones o participaciones emitidas","Acciones o participaciones emitidas",null,null,null,null,null,null,null,null,240,1900]
[1,19,192,1920,"Financiación Básica","Situaciones transitorias de financiación","Suscriptores de acciones","Suscriptores de acciones",null,null,null,null,null,null,null,null,241,1920]
[1,19,194,1940,"Financiación Básica","Situaciones transitorias de financiación","Capital emitido pendiente de inscripción","Capital emitido pendiente de inscripción",null,null,null,null,null,null,null,null,242,1940]
[1,19,195,1950,"Financiación Básica","Situaciones transitorias de financiación","Acciones o participaciones emitidas consideradas como pasivos financieros","Acciones o participaciones emitidas consideradas como pasivos financieros",null,null,null,null,null,null,null,null,249,1950]
[1,19,197,1970,"Financiación Básica","Situaciones transitorias de financiación","Suscriptores de acciones consideradas coo pasivos financieros","Suscriptores de acciones consideradas coo pasivos financieros",null,null,null,null,null,null,null,null,250,1970]
[1,19,199,1990,"Financiación Básica","Situaciones transitorias de financiación","Acciones o participaciones emitidas consideradas como pasivo financieros, pendientes de inscripción","Acciones o participaciones emitidas consideradas como pasivo financieros, pendientes de inscripción",null,null,null,null,null,null,null,null,251,1990]
[2,20,200,2000,"Inmovilizado","Inmovilizaciones intangibles","Investigación","Investigación",null,null,null,null,null,null,null,null,252,2000]
[2,20,201,2010,"Inmovilizado","Inmovilizaciones intangibles","Desarrollo","Desarrollo",null,null,null,null,null,null,null,null,253,2010]
[2,20,202,2020,"Inmovilizado","Inmovilizaciones intangibles","Concesiones administrativas","Concesiones administrativas",null,null,null,null,null,null,null,null,254,2020]
[2,20,203,2030,"Inmovilizado","Inmovilizaciones intangibles","Propiedad industrial","Propiedad industrial",null,null,null,null,null,null,null,null,255,2030]
[2,20,204,2040,"Inmovilizado","Inmovilizaciones intangibles","Fondo de comercio","Fondo de comercio",null,null,null,null,null,null,null,null,257,2040]
[2,20,205,2050,"Inmovilizado","Inmovilizaciones intangibles","Derechos de traspaso","Derechos de traspaso",null,null,null,null,null,null,null,null,258,2050]
[2,20,206,2060,"Inmovilizado","Inmovilizaciones intangibles","Aplicaciones informáticas","Aplicaciones informáticas",null,null,null,null,null,null,null,null,259,2060]
[2,20,209,2090,"Inmovilizado","Inmovilizaciones intangibles","Anticipos para inmovilizaciones intangibles","Anticipos para inmovilizaciones intangibles",null,null,null,null,null,null,null,null,260,2090]
[2,21,210,2100,"Inmovilizado","Inmovilizaciones materiales","Terrenos y bienes naturales","Terrenos y bienes naturales",null,null,null,null,null,null,null,null,265,2100]
[2,21,211,2110,"Inmovilizado","Inmovilizaciones materiales","Construcciones","Construcciones",null,null,null,null,null,null,null,null,272,2110]
[2,21,212,2120,"Inmovilizado","Inmovilizaciones materiales","Instalaciones técnicas","Instalaciones técnicas",null,null,null,null,null,null,null,null,280,2120]
[2,21,213,2130,"Inmovilizado","Inmovilizaciones materiales","Maquinaria","Maquinaria",null,null,null,null,null,null,null,null,281,2130]
[2,21,214,2140,"Inmovilizado","Inmovilizaciones materiales","Utillaje","Utillaje",null,null,null,null,null,null,null,null,282,2140]
[2,21,215,2150,"Inmovilizado","Inmovilizaciones materiales","Otras instalaciones","Otras instalaciones",null,null,null,null,null,null,null,null,290,2150]
[2,21,215,2159,"Inmovilizado","Inmovilizaciones materiales","Otras instalaciones","Otras instalaciones",null,null,null,null,null,null,null,null,291,2159]
[2,21,216,2160,"Inmovilizado","Inmovilizaciones materiales","Mobiliario","Mobiliario",null,null,null,null,null,null,null,null,292,2160]
[2,21,217,2170,"Inmovilizado","Inmovilizaciones materiales","Equipos para procesos de información","Equipos para procesos de información",null,null,null,null,null,null,null,null,293,2170]
[2,21,218,2180,"Inmovilizado","Inmovilizaciones materiales","Elementos de transporte","Elementos de transporte",null,null,null,null,null,null,null,null,294,2180]
[2,21,219,2190,"Inmovilizado","Inmovilizaciones materiales","Otro inmovilizado material","Otro inmovilizado material",null,null,null,null,null,null,null,null,295,2190]
[2,22,220,2200,"Inmovilizado","Inversiones inmobiliarias","Inversiones en terrenos y bienes naturales","Inversiones en terrenos y bienes naturales",null,null,null,null,null,null,null,null,297,2200]
[2,22,221,2210,"Inmovilizado","Inversiones inmobiliarias","Inversiones en construcciones","Inversiones en construcciones",null,null,null,null,null,null,null,null,298,2210]
[2,22,224,2240,"Inmovilizado","Inversiones inmobiliarias","Otras Inversiones","Otras Inversiones",null,null,null,null,null,null,null,null,300,2240]
[2,22,226,2260,"Inmovilizado","Inversiones inmobiliarias","Invesriones en Peninsula","Invesriones en Peninsula",null,null,null,null,null,null,null,null,301,2260]
[2,22,226,2261,"Inmovilizado","Inversiones inmobiliarias","Invesriones en Peninsula","Invesriones en Peninsula",null,null,null,null,null,null,null,null,302,2261]
[2,22,226,2262,"Inmovilizado","Inversiones inmobiliarias","Invesriones en Peninsula","Invesriones en Peninsula",null,null,null,null,null,null,null,null,303,2262]
[2,22,227,2270,"Inmovilizado","Inversiones inmobiliarias","Estrátegicas","Estrátegicas Sectoriales",null,null,null,null,null,null,null,null,304,2270]
[2,22,227,2271,"Inmovilizado","Inversiones inmobiliarias","Estrátegicas","Estrátegicas Sectoriales",null,null,null,null,null,null,null,null,305,2271]
[2,22,227,2272,"Inmovilizado","Inversiones inmobiliarias","Estrátegicas","Estrátegicas Sectoriales",null,null,null,null,null,null,null,null,306,2272]
[2,22,227,2279,"Inmovilizado","Inversiones inmobiliarias","Estrátegicas","Estrátegicas Sectoriales",null,null,null,null,null,null,null,null,307,2279]
[2,23,230,2300,"Inmovilizado","Inmovilizaciones materiales en curso","Adaptación de terrenos y bienes naturales","Adaptación de terrenos y bienes naturales",null,null,null,null,null,null,null,null,308,2300]
[2,23,231,2310,"Inmovilizado","Inmovilizaciones materiales en curso","Construcciones en curso","Construcciones en curso",null,null,null,null,null,null,null,null,309,2310]
[2,23,232,2320,"Inmovilizado","Inmovilizaciones materiales en curso","Instalaciones técnicas en montaje","Instalaciones técnicas en montaje",null,null,null,null,null,null,null,null,310,2320]
[2,23,233,2330,"Inmovilizado","Inmovilizaciones materiales en curso","Maquinaria en montaje","Maquinaria en montaje",null,null,null,null,null,null,null,null,320,2330]
[2,23,237,2370,"Inmovilizado","Inmovilizaciones materiales en curso","Equipos para procesos de información en montaje","Equipos para procesos de información en montaje",null,null,null,null,null,null,null,null,321,2370]
[2,23,239,2390,"Inmovilizado","Inmovilizaciones materiales en curso","Anticipos para inmovilizaciones materiales","Anticipos para inmovilizaciones materiales",null,null,null,null,null,null,null,null,322,2390]
[2,24,240,2400,"Inmovilizado","Inversiones financieras en partes vinculadas","Participaciones a largo plazo en partes vinculadas","Participaciones a largo plazo en partes vinculadas",null,null,null,null,null,null,null,null,325,2400]
[2,24,240,2403,"Inmovilizado","Inversiones financieras en partes vinculadas","Participaciones a largo plazo en empresas del grupo","Participaciones a largo plazo en empresas del grupo",null,null,null,null,null,null,null,null,326,2403]
[2,24,240,2404,"Inmovilizado","Inversiones financieras en partes vinculadas","Participaciones a largo plazo en empresas asociadas","Participaciones a largo plazo en empresas asociadas",null,null,null,null,null,null,null,null,327,2404]
[2,24,240,2405,"Inmovilizado","Inversiones financieras en partes vinculadas","Participaciones a largo plazo en otras partes vinculadas","Participaciones a largo plazo en otras partes vinculadas",null,null,null,null,null,null,null,null,328,2405]
[2,24,241,2410,"Inmovilizado","Inversiones financieras en partes vinculadas","Valores representativos de deuda a largo plazo de partes vinculadas","Valores representativos de deuda a largo plazo de partes vinculadas",null,null,null,null,null,null,null,null,330,2410]
[2,24,241,2413,"Inmovilizado","Inversiones financieras en partes vinculadas","Valores representativos de deuda a largo plazo de empresas de grupo","Valores representativos de deuda a largo plazo de empresas de grupo",null,null,null,null,null,null,null,null,331,2413]
[2,24,241,2414,"Inmovilizado","Inversiones financieras en partes vinculadas","Valores representativos de deuda a largo plazo de empresas asociadas","Valores representativos de deuda a largo plazo de empresas asociadas",null,null,null,null,null,null,null,null,332,2414]
[2,24,241,2415,"Inmovilizado","Inversiones financieras en partes vinculadas","Valores representativos de deuda a largo plazo de otras partes vinculadas","Valores representativos de deuda a largo plazo de otras partes vinculadas",null,null,null,null,null,null,null,null,333,2415]
[2,24,242,2420,"Inmovilizado","Inversiones financieras en partes vinculadas","Créditos a largo plazo a partes vinculadas","Créditos a largo plazo a partes vinculadas",null,null,null,null,null,null,null,null,334,2420]
[2,24,242,2423,"Inmovilizado","Inversiones financieras en partes vinculadas","Créditos a largo plazo a empresas del grupo","Créditos a largo plazo a empresas del grupo",null,null,null,null,null,null,null,null,335,2423]
[2,24,242,2424,"Inmovilizado","Inversiones financieras en partes vinculadas","Créditos a largo plazo a empresas asociadas","Créditos a largo plazo a empresas asociadas",null,null,null,null,null,null,null,null,336,2424]
[2,24,242,2425,"Inmovilizado","Inversiones financieras en partes vinculadas","Crédtios a largo plazo a otras partes vinculadas","Crédtios a largo plazo a otras partes vinculadas",null,null,null,null,null,null,null,null,337,2425]
[2,24,249,2490,"Inmovilizado","Inversiones financieras en partes vinculadas","Desembolsos pendientes sobre participaciones a largo plazo en partes vinculadas","Desembolsos pendientes sobre participaciones a largo plazo en partes vinculadas",null,null,null,null,null,null,null,null,338,2490]
[2,24,249,2493,"Inmovilizado","Inversiones financieras en partes vinculadas","Desembolsos pendientes sobre participaciones a largo plazo en empresas del grupo","Desembolsos pendientes sobre participaciones a largo plazo en empresas del grupo",null,null,null,null,null,null,null,null,339,2493]
[2,24,249,2494,"Inmovilizado","Inversiones financieras en partes vinculadas","Desembolsos pendientes sobre participaciones a largo plazo en empresas asociadas","Desembolsos pendientes sobre participaciones a largo plazo en empresas asociadas",null,null,null,null,null,null,null,null,340,2494]
[2,24,249,2495,"Inmovilizado","Inversiones financieras en partes vinculadas","Desembolsos pendientes sobre participaciones a largo plazo en otras partes vinculadas","Desembolsos pendientes sobre participaciones a largo plazo en otras partes vinculadas",null,null,null,null,null,null,null,null,341,2495]
[2,25,250,2500,"Inmovilizado","Otras inversiones financieras a largo plazo","Inversiones financieras a largo plazo en instrumentos de patrimonio","Inversiones financieras a largo plazo en instrumentos de patrimonio",null,null,null,null,null,null,null,null,342,2500]
[2,25,251,2510,"Inmovilizado","Otras inversiones financieras a largo plazo","Valores representativos de deuda a largo plazo","Valores representativos de deuda a largo plazo",null,null,null,null,null,null,null,null,343,2510]
[2,25,251,2515,"Inmovilizado","Otras inversiones financieras a largo plazo","Valores representativos de deuda a largo plazo","Valores representativos de deuda a largo plazo",null,null,null,null,null,null,null,null,344,2515]
[2,25,252,2520,"Inmovilizado","Otras inversiones financieras a largo plazo","Créditos a largo plazo","Créditos a largo plazo",null,null,null,null,null,null,null,null,345,2520]
[2,25,253,2530,"Inmovilizado","Otras inversiones financieras a largo plazo","Créditos a largo plazo por enajenación de inmovilizado","Créditos a largo plazo por enajenación de inmovilizado",null,null,null,null,null,null,null,null,346,2530]
[2,25,254,2540,"Inmovilizado","Otras inversiones financieras a largo plazo","Créditos a largo plazo al personal","Créditos a largo plazo al personal",null,null,null,null,null,null,null,null,347,2540]
[2,25,255,2550,"Inmovilizado","Otras inversiones financieras a largo plazo","Activos por derivados financieros a largo plazo","Activos por derivados financieros a largo plazo, cartera de negociación",null,null,null,null,null,null,null,null,348,2550]
[2,25,255,2553,"Inmovilizado","Otras inversiones financieras a largo plazo","Activos por derivados financieros a largo plazo, instrumentos de cobertura","Activos por derivados financieros a largo plazo, instrumentos de cobertura",null,null,null,null,null,null,null,null,349,2553]
[2,25,257,2570,"Inmovilizado","Otras inversiones financieras a largo plazo","Activos por retribuciones a largo plazo de prestación definida","Activos por retribuciones a largo plazo de prestación definida",null,null,null,null,null,null,null,null,350,2570]
[2,25,258,2580,"Inmovilizado","Otras inversiones financieras a largo plazo","Imposiciones a largo plazo","Imposiciones a largo plazo",null,null,null,null,null,null,null,null,351,2580]
[2,25,259,2590,"Inmovilizado","Otras inversiones financieras a largo plazo","Desembolsos pendientes sobre participaciones en el patrimonio neto a largo plazo","Desembolsos pendientes sobre participaciones en el patrimonio neto a largo plazo",null,null,null,null,null,null,null,null,352,2590]
[2,26,260,2600,"Inmovilizado","Fianzas y depósitos constituidos a largo plazo","Fianzas constituidas a largo plazo","Fianzas constituidas a largo plazo",null,null,null,null,null,null,null,null,353,2600]
[2,26,265,2650,"Inmovilizado","Fianzas y depósitos constituidos a largo plazo","Depósitos constituidos a largo plazo","Depósitos constituidos a largo plazo",null,null,null,null,null,null,null,null,354,2650]
[2,27,272,2720,"Inmovilizado","Fianzas Especiales","Fianzas Secretas","Fianzas Privadas",null,null,null,null,null,null,null,null,355,2720]
[2,27,272,2727,"Inmovilizado","Fianzas Especiales","Fianzas Secretas","Fianzas Privadas",null,null,null,null,null,null,null,null,356,2727]
[2,28,280,2800,"Inmovilizado","Amortización acumulada del inmovilizado","Amortización acumulada del inmovilizado intangible","Amortización acumulada de investigación",null,null,null,null,null,null,null,null,357,2800]
[2,28,280,2801,"Inmovilizado","Amortización acumulada del inmovilizado","Amortización acumulada de desarrollo","Amortización acumulada de desarrollo",null,null,null,null,null,null,null,null,358,2801]
[2,28,280,2802,"Inmovilizado","Amortización acumulada del inmovilizado","Amortización acumulada de concesiones administrativas","Amortización acumulada de concesiones administrativas",null,null,null,null,null,null,null,null,359,2802]
[2,28,280,2803,"Inmovilizado","Amortización acumulada del inmovilizado","Amortización acumulada de propiedad industrial","Amortización acumulada de propiedad industrial",null,null,null,null,null,null,null,null,360,2803]
[2,28,280,2805,"Inmovilizado","Amortización acumulada del inmovilizado","Amortización acumulada de derechos de traspaso","Amortización acumulada de derechos de traspaso",null,null,null,null,null,null,null,null,361,2805]
[2,28,280,2806,"Inmovilizado","Amortización acumulada del inmovilizado","Amortización acumulada de aplicaciones informáticas","Amortización acumulada de aplicaciones informáticas",null,null,null,null,null,null,null,null,365,2806]
[2,28,281,2810,"Inmovilizado","Amortización acumulada del inmovilizado","Amortización acumulada del inmovilizado material","Amortización acumulada del inmovilizado material",null,null,null,null,null,null,null,null,366,2810]
[2,28,281,2811,"Inmovilizado","Amortización acumulada del inmovilizado","Amortización acumulada de construcciones","Amortización acumulada de construcciones",null,null,null,null,null,null,null,null,368,2811]
[2,28,281,2812,"Inmovilizado","Amortización acumulada del inmovilizado","Amortización acumulada de instalaciones técnicas","Amortización acumulada de instalaciones técnicas",null,null,null,null,null,null,null,null,369,2812]
[2,28,281,2813,"Inmovilizado","Amortización acumulada del inmovilizado","Amortización acumulada de maquinaria","Amortización acumulada de maquinaria",null,null,null,null,null,null,null,null,390,2813]
[2,28,281,2814,"Inmovilizado","Amortización acumulada del inmovilizado","Amortización acumulada de utillaje","Amortización acumulada de utillaje",null,null,null,null,null,null,null,null,391,2814]
[2,28,281,2815,"Inmovilizado","Amortización acumulada del inmovilizado","Amortización acumulada de otras instalaciones","Amortización acumulada de otras instalaciones",null,null,null,null,null,null,null,null,392,2815]
[2,28,281,2816,"Inmovilizado","Amortización acumulada del inmovilizado","Amortización acumulada de mobiliario","Amortización acumulada de mobiliario",null,null,null,null,null,null,null,null,393,2816]
[2,28,281,2817,"Inmovilizado","Amortización acumulada del inmovilizado","Amortización acumulada de equipos para procesos de información","Amortización acumulada de equipos para procesos de información",null,null,null,null,null,null,null,null,394,2817]
[2,28,281,2818,"Inmovilizado","Amortización acumulada del inmovilizado","Amortización acumulada de elementos de transporte","Amortización acumulada de elementos de transporte",null,null,null,null,null,null,null,null,395,2818]
[2,28,281,2819,"Inmovilizado","Amortización acumulada del inmovilizado","Amortización acumulada de otro inmovilizado material","Amortización acumulada de otro inmovilizado material",null,null,null,null,null,null,null,null,396,2819]
[2,28,282,2820,"Inmovilizado","Amortización acumulada del inmovilizado","Amortización acumulada de las inversiones inmobiliarias","Amortización acumulada de las inversiones inmobiliarias",null,null,null,null,null,null,null,null,400,2820]
[2,28,282,2821,"Inmovilizado","Amortización acumulada del inmovilizado","Amortización acumulada de las inversiones inmobiliarias","Amortización acumulada de las inversiones inmobiliarias",null,null,null,null,null,null,null,null,401,2821]
[2,28,282,2824,"Inmovilizado","Amortización acumulada del inmovilizado","Amortización acumulada de las inversiones inmobiliarias","Amortización acumulada de las inversiones inmobiliarias",null,null,null,null,null,null,null,null,403,2824]
[2,28,282,2826,"Inmovilizado","Amortización acumulada del inmovilizado","Amortización acumulada de las inversiones inmobiliarias","Amortización acumulada de las inversiones inmobiliarias",null,null,null,null,null,null,null,null,404,2826]
[2,28,282,2827,"Inmovilizado","Amortización acumulada del inmovilizado","Amortización acumulada de las inversiones inmobiliarias","Amortización acumulada de las inversiones inmobiliarias",null,null,null,null,null,null,null,null,405,2827]
[2,28,282,2828,"Inmovilizado","Amortización acumulada del inmovilizado","Amortización acumulada de las inversiones inmobiliarias","Amortización acumulada de las inversiones inmobiliarias",null,null,null,null,null,null,null,null,406,2828]
[2,29,290,2900,"Inmovilizado","Deterioro de valor de inmovilizado","Deterioro de valor del inmovilizado intangible","Deterioro de valor de investigación",null,null,null,null,null,null,null,null,407,2900]
[2,29,290,2901,"Inmovilizado","Deterioro de valor de inmovilizado","Deterioro de valor de desarrollo","Deterioro de valor de desarrollo",null,null,null,null,null,null,null,null,410,2901]
[2,29,290,2902,"Inmovilizado","Deterioro de valor de inmovilizado","Deterioro de valor de concesiones administrativas","Deterioro de valor de concesiones administrativas",null,null,null,null,null,null,null,null,411,2902]
[2,29,290,2903,"Inmovilizado","Deterioro de valor de inmovilizado","Deterioro de valor de propiedad industrial","Deterioro de valor de propiedad industrial",null,null,null,null,null,null,null,null,419,2903]
[2,29,290,2905,"Inmovilizado","Deterioro de valor de inmovilizado","Deterioro de valor de derechos de traspaso","Deterioro de valor de derechos de traspaso",null,null,null,null,null,null,null,null,430,2905]
[2,29,290,2906,"Inmovilizado","Deterioro de valor de inmovilizado","Deterioro de valor de aplicaciones informáticas","Deterioro de valor de aplicaciones informáticas",null,null,null,null,null,null,null,null,431,2906]
[2,29,291,2910,"Inmovilizado","Deterioro de valor de inmovilizado","Deterioro de valor del inmovilizado material","Deterioro de valor de terrenos y bienes naturales",null,null,null,null,null,null,null,null,432,2910]
[2,29,291,2911,"Inmovilizado","Deterioro de valor de inmovilizado","Deterioro de valor de construcciones","Deterioro de valor de construcciones",null,null,null,null,null,null,null,null,433,2911]
[2,29,291,2912,"Inmovilizado","Deterioro de valor de inmovilizado","Deterioro de valor de instalaciones técnicas","Deterioro de valor de instalaciones técnicas",null,null,null,null,null,null,null,null,434,2912]
[2,29,291,2913,"Inmovilizado","Deterioro de valor de inmovilizado","Deterioro de valor de maquinaria","Deterioro de valor de maquinaria",null,null,null,null,null,null,null,null,435,2913]
[2,29,291,2914,"Inmovilizado","Deterioro de valor de inmovilizado","Deterioro de valor de utillaje","Deterioro de valor de utillaje",null,null,null,null,null,null,null,null,436,2914]
[2,29,291,2915,"Inmovilizado","Deterioro de valor de inmovilizado","Deterioro de valor de otras instalaciones","Deterioro de valor de otras instalaciones",null,null,null,null,null,null,null,null,437,2915]
[2,29,291,2916,"Inmovilizado","Deterioro de valor de inmovilizado","Deterioro de valor de mobiliario","Deterioro de valor de mobiliario",null,null,null,null,null,null,null,null,438,2916]
[2,29,291,2917,"Inmovilizado","Deterioro de valor de inmovilizado","Deterioro de valor de equipos para procesos de información","Deterioro de valor de equipos para procesos de información",null,null,null,null,null,null,null,null,440,2917]
[2,29,291,2918,"Inmovilizado","Deterioro de valor de inmovilizado","Deterioro de valor de elementos de transporte","Deterioro de valor de elementos de transporte",null,null,null,null,null,null,null,null,441,2918]
[2,29,291,2919,"Inmovilizado","Deterioro de valor de inmovilizado","Deterioro de valor de otro inmovilizado material","Deterioro de valor de otro inmovilizado material",null,null,null,null,null,null,null,null,446,2919]
[2,29,292,2920,"Inmovilizado","Deterioro de valor de inmovilizado","Deterioro de valor de las inversiones inmobiliarias","Deterioro de valor de los terrenos y bienes naturales",null,null,null,null,null,null,null,null,449,2920]
[2,29,292,2921,"Inmovilizado","Deterioro de valor de inmovilizado","Deterioro de valor de construcciones","Deterioro de valor de construcciones",null,null,null,null,null,null,null,null,460,2921]
[2,29,293,2930,"Inmovilizado","Deterioro de valor de inmovilizado","Deterioro de valor de participaciones a largo plazo en partes vinculadas","Deterioro de valor de participaciones a largo plazo en partes vinculadas",null,null,null,null,null,null,null,null,465,2930]
[2,29,293,2933,"Inmovilizado","Deterioro de valor de inmovilizado","Deterioro de valor de participaciones a largo plazo en empresas del grupo","Deterioro de valor de participaciones a largo plazo en empresas del grupo",null,null,null,null,null,null,null,null,466,2933]
[2,29,293,2934,"Inmovilizado","Deterioro de valor de inmovilizado","Deterioro de valor de participaciones a largo plazo en empresas asociadas","Deterioro de valor de participaciones a largo plazo en empresas asociadas",null,null,null,null,null,null,null,null,470,2934]
[2,29,294,2940,"Inmovilizado","Deterioro de valor de inmovilizado","Deterioro de valor de valores representativos de deuda a largo plazo de partes vinculadas","Deterioro de valor de valores representativos de deuda a largo plazo de partes vinculadas",null,null,null,null,null,null,null,null,471,2940]
[2,29,294,2943,"Inmovilizado","Deterioro de valor de inmovilizado","Deterioro de valor de valores representativos de deuda a largo plazo de empresas del grupo","Deterioro de valor de valores representativos de deuda a largo plazo de empresas del grupo",null,null,null,null,null,null,null,null,472,2943]
[2,29,294,2944,"Inmovilizado","Deterioro de valor de inmovilizado","Deterioro de valor de valores representativos de deuda a largo plazo ede empresas vinculadas","Deterioro de valor de valores representativos de deuda a largo plazo ede empresas vinculadas",null,null,null,null,null,null,null,null,473,2944]
[2,29,294,2945,"Inmovilizado","Deterioro de valor de inmovilizado","Deterioro de valor de valores representativos de deuda a largo plazo a de otras partes vinculadas","Deterioro de valor de valores representativos de deuda a largo plazo a de otras partes vinculadas",null,null,null,null,null,null,null,null,474,2945]
[2,29,295,2950,"Inmovilizado","Deterioro de valor de inmovilizado","Deterioro de valor de créditos a largo plazo a partes vinculadas","Deterioro de valor de créditos a largo plazo a partes vinculadas",null,null,null,null,null,null,null,null,475,2950]
[2,29,295,2953,"Inmovilizado","Deterioro de valor de inmovilizado","Deterioro de valor de créditos a largo plazo de empresas del grupo","Deterioro de valor de créditos a largo plazo de empresas del grupo",null,null,null,null,null,null,null,null,476,2953]
[2,29,295,2954,"Inmovilizado","Deterioro de valor de inmovilizado","Deterioro de valor de créditos a largo plazo a empresas vinculadas","Deterioro de valor de créditos a largo plazo a empresas vinculadas",null,null,null,null,null,null,null,null,477,2954]
[2,29,295,2955,"Inmovilizado","Deterioro de valor de inmovilizado","Deterioro de valor de créditos a largo plazo a otras partes vinculadas","Deterioro de valor de créditos a largo plazo a otras partes vinculadas",null,null,null,null,null,null,null,null,479,2955]
[2,29,297,2970,"Inmovilizado","Deterioro de valor de inmovilizado","Deterioro de valor de valores representativos de deuda a largo plazo","Deterioro de valor de valores representativos de deuda a largo plazo",null,null,null,null,null,null,null,null,480,2970]
[2,29,298,2980,"Inmovilizado","Deterioro de valor de inmovilizado","Deterioro de valor de créditos a largo plazo","Deterioro de valor de créditos a largo plazo",null,null,null,null,null,null,null,null,485,2980]
[3,30,300,3000,"Existencias","Comerciales","Mercaderías A","Mercaderías A",null,null,null,null,null,null,null,null,490,3000]
[3,30,300,3001,"Existencias","Comerciales","Mercaderías A","Mercaderías A",null,null,null,null,null,null,null,null,493,3001]
[3,30,301,3010,"Existencias","Comerciales","Mercaderías B","Mercaderías B",null,null,null,null,null,null,null,null,499,3010]
[3,30,302,3020,"Existencias","Comerciales","Mercaderías C","Mercaderías C",null,null,null,null,null,null,null,null,500,3020]
[3,30,303,3030,"Existencias","Comerciales","Mercaderías D","Mercaderías D",null,null,null,null,null,null,null,null,501,3030]
[3,30,304,3040,"Existencias","Comerciales","Mercaderías E","Mercaderías E",null,null,null,null,null,null,null,null,502,3040]
[3,30,305,3050,"Existencias","Comerciales","Mercaderías F","Mercaderías F",null,null,null,null,null,null,null,null,505,3050]
[3,30,306,3060,"Existencias","Comerciales","Mercaderías G","Mercaderías G",null,null,null,null,null,null,null,null,506,3060]
[3,30,307,3070,"Existencias","Comerciales","Mercaderías H","Mercaderías H",null,null,null,null,null,null,null,null,507,3070]
[3,30,308,3080,"Existencias","Comerciales","Mercaderías I","Mercaderías I",null,null,null,null,null,null,null,null,509,3080]
[3,30,309,3090,"Existencias","Comerciales","Mercaderías J","Mercaderías J",null,null,null,null,null,null,null,null,510,3090]
[3,31,310,3100,"Existencias","Materias Primas","Materias primas A","Materias primas A",null,null,null,null,null,null,null,null,511,3100]
[3,32,320,3200,"Existencias","Otros aprovisionamientos","Elementos y conjuntos incorporables","Elementos y conjuntos incorporables",null,null,null,null,null,null,null,null,512,3200]
[3,32,321,3210,"Existencias","Otros aprovisionamientos","Combustibles","Combustibles",null,null,null,null,null,null,null,null,513,3210]
[3,32,322,3220,"Existencias","Otros aprovisionamientos","Repuestos","Repuestos",null,null,null,null,null,null,null,null,514,3220]
[3,32,325,3250,"Existencias","Otros aprovisionamientos","Materiales diversos","Materiales diversos",null,null,null,null,null,null,null,null,520,3250]
[3,32,326,3260,"Existencias","Otros aprovisionamientos","Embalajes","Embalajes",null,null,null,null,null,null,null,null,521,3260]
[3,32,327,3270,"Existencias","Otros aprovisionamientos","Envases","Envases",null,null,null,null,null,null,null,null,522,3270]
[3,32,328,3280,"Existencias","Otros aprovisionamientos","Material de oficina","Material de oficina",null,null,null,null,null,null,null,null,523,3280]
[3,33,330,3300,"Existencias","Productos en curso","Productos en curso A","Productos en curso A",null,null,null,null,null,null,null,null,524,3300]
[3,33,331,3310,"Existencias","Productos en curso","Productos en curso B","Productos en curso B",null,null,null,null,null,null,null,null,525,3310]
[3,33,332,3320,"Existencias","Productos en curso","Productos en curso C","Productos en curso C",null,null,null,null,null,null,null,null,526,3320]
[3,33,333,3330,"Existencias","Productos en curso","Productos en curso D","Productos en curso D",null,null,null,null,null,null,null,null,527,3330]
[3,33,334,3340,"Existencias","Productos en curso","Productos en curso E","Productos en curso E",null,null,null,null,null,null,null,null,528,3340]
[3,33,335,3350,"Existencias","Productos en curso","Productos en curso F","Productos en curso F",null,null,null,null,null,null,null,null,529,3350]
[3,33,336,3360,"Existencias","Productos en curso","Productos en curso G","Productos en curso G",null,null,null,null,null,null,null,null,530,3360]
[3,33,337,3370,"Existencias","Productos en curso","Productos en curso H","Productos en curso H",null,null,null,null,null,null,null,null,531,3370]
[3,33,338,3380,"Existencias","Productos en curso","Productos en curso I","Productos en curso I",null,null,null,null,null,null,null,null,532,3380]
[3,33,339,3390,"Existencias","Productos en curso","Productos en curso J","Productos en curso J",null,null,null,null,null,null,null,null,533,3390]
[3,34,340,3400,"Existencias","Productos semiterminados","Productos semiterminados A","Productos semiterminados A",null,null,null,null,null,null,null,null,534,3400]
[3,34,341,3410,"Existencias","Productos semiterminados","Productos semiterminados B","Productos semiterminados B",null,null,null,null,null,null,null,null,535,3410]
[3,34,342,3420,"Existencias","Productos semiterminados","Productos semiterminados C","Productos semiterminados C",null,null,null,null,null,null,null,null,539,3420]
[3,34,343,3430,"Existencias","Productos semiterminados","Productos semiterminados D","Productos semiterminados D",null,null,null,null,null,null,null,null,540,3430]
[3,34,344,3440,"Existencias","Productos semiterminados","Productos semiterminados E","Productos semiterminados E",null,null,null,null,null,null,null,null,541,3440]
[3,34,345,3450,"Existencias","Productos semiterminados","Productos semiterminados F","Productos semiterminados F",null,null,null,null,null,null,null,null,542,3450]
[3,34,346,3460,"Existencias","Productos semiterminados","Productos semiterminados G","Productos semiterminados G",null,null,null,null,null,null,null,null,543,3460]
[3,34,347,3470,"Existencias","Productos semiterminados","Productos semiterminados H","Productos semiterminados H",null,null,null,null,null,null,null,null,544,3470]
[3,34,348,3480,"Existencias","Productos semiterminados","Productos semiterminados I","Productos semiterminados I",null,null,null,null,null,null,null,null,545,3480]
[3,34,349,3490,"Existencias","Productos semiterminados","Productos semiterminados J","Productos semiterminados J",null,null,null,null,null,null,null,null,546,3490]
[3,35,350,3500,"Existencias","Productos terminados","Productos terminados A","Productos terminados A",null,null,null,null,null,null,null,null,547,3500]
[3,35,351,3510,"Existencias","Productos terminados","Productos terminados B","Productos terminados B",null,null,null,null,null,null,null,null,548,3510]
[3,35,352,3520,"Existencias","Productos terminados","Productos terminados C","Productos terminados C",null,null,null,null,null,null,null,null,549,3520]
[3,35,353,3530,"Existencias","Productos terminados","Productos terminados D","Productos terminados D",null,null,null,null,null,null,null,null,550,3530]
[3,35,354,3540,"Existencias","Productos terminados","Productos terminados E","Productos terminados E",null,null,null,null,null,null,null,null,551,3540]
[3,35,355,3550,"Existencias","Productos terminados","Productos terminados F","Productos terminados F",null,null,null,null,null,null,null,null,552,3550]
[3,35,356,3560,"Existencias","Productos terminados","Productos terminados G","Productos terminados G",null,null,null,null,null,null,null,null,553,3560]
[3,35,357,3570,"Existencias","Productos terminados","Productos terminados H","Productos terminados H",null,null,null,null,null,null,null,null,554,3570]
[3,35,358,3580,"Existencias","Productos terminados","Productos terminados I","Productos terminados I",null,null,null,null,null,null,null,null,555,3580]
[3,35,359,3590,"Existencias","Productos terminados","Productos terminados J","Productos terminados J",null,null,null,null,null,null,null,null,556,3590]
[3,36,360,3600,"Existencias","Subproductos, residuos y materiales recuperados","Subproductos A","Subproductos A",null,null,null,null,null,null,null,null,557,3600]
[3,36,361,3610,"Existencias","Subproductos, residuos y materiales recuperados","Subproductos B","Subproductos B",null,null,null,null,null,null,null,null,558,3610]
[3,36,365,3650,"Existencias","Subproductos, residuos y materiales recuperados","Residuos A","Residuos A",null,null,null,null,null,null,null,null,559,3650]
[3,36,366,3660,"Existencias","Subproductos, residuos y materiales recuperados","Residuos B","Residuos B",null,null,null,null,null,null,null,null,560,3660]
[3,36,368,3680,"Existencias","Subproductos, residuos y materiales recuperados","Materiales recuperados A","Materiales recuperados A",null,null,null,null,null,null,null,null,561,3680]
[3,36,369,3690,"Existencias","Subproductos, residuos y materiales recuperados","Materiales recuperados B","Materiales recuperados B",null,null,null,null,null,null,null,null,565,3690]
[3,39,390,3900,"Existencias","Deterioro de valor de las existencias","Deterioro de valor de las mercaderias","Deterioro de valor de las mercaderias",null,null,null,null,null,null,null,null,566,3900]
[3,39,391,3910,"Existencias","Deterioro de valor de las existencias","Deterioro de valor de las materias primas","Deterioro de valor de las materias primas",null,null,null,null,null,null,null,null,567,3910]
[3,39,392,3920,"Existencias","Deterioro de valor de las existencias","Deterioro de valor de otros aprovisionamientos","Deterioro de valor de otros aprovisionamientos",null,null,null,null,null,null,null,null,568,3920]
[3,39,393,3930,"Existencias","Deterioro de valor de las existencias","Deterioro de valor de los productos en curso","Deterioro de valor de los productos en curso",null,null,null,null,null,null,null,null,569,3930]
[3,39,394,3940,"Existencias","Deterioro de valor de las existencias","Deterioro de valor de los productos semiterminados","Deterioro de valor de los productos semiterminados",null,null,null,null,null,null,null,null,570,3940]
[3,39,395,3950,"Existencias","Deterioro de valor de las existencias","Deterioro de valor de los productos terminados","Deterioro de valor de los productos terminados",null,null,null,null,null,null,null,null,571,3950]
[3,39,396,3960,"Existencias","Deterioro de valor de las existencias","Deterioro de valor de los subproductos, residuos y materiales recuperados","Deterioro de valor de los subproductos, residuos y materiales recuperados",null,null,null,null,null,null,null,null,572,3960]
[4,40,400,4000,"Acreedores y deudores por operaciones comerciales","Proveedores","Proveedores","Proveedores (euros)",null,null,null,null,null,null,null,null,573,4000]
[4,40,400,4001,"Acreedores y deudores por operaciones comerciales","Proveedores","Proveedores","Proveedores (euros)",null,null,null,null,null,null,null,null,574,4001]
[4,40,400,4002,"Acreedores y deudores por operaciones comerciales","Proveedores","Proveedores","Proveedores (euros)",null,null,null,null,null,null,null,null,575,4002]
[4,40,400,4003,"Acreedores y deudores por operaciones comerciales","Proveedores","Proveedores","Proveedores (euros)",null,null,null,null,null,null,null,null,576,4003]
[4,40,400,4004,"Acreedores y deudores por operaciones comerciales","Proveedores","Proveedores (moneda extranjera)","Proveedores (moneda extranjera)",null,null,null,null,null,null,null,null,580,4004]
[4,40,400,4009,"Acreedores y deudores por operaciones comerciales","Proveedores","Proveedores, facturas pendientes de recibir o de formalizar","Proveedores, facturas pendientes de recibir o de formalizar",null,null,null,null,null,null,null,null,581,4009]
[4,40,401,4010,"Acreedores y deudores por operaciones comerciales","Proveedores","Proveedores, efectos comerciales a pagar","Proveedores, efectos comerciales a pagar",null,null,null,null,null,null,null,null,582,4010]
[4,40,403,4030,"Acreedores y deudores por operaciones comerciales","Proveedores","Proveedores, empresas del grupo","Proveedores, empresas del grupo (euros)",null,null,null,null,null,null,null,null,583,4030]
[4,40,403,4031,"Acreedores y deudores por operaciones comerciales","Proveedores","Efectos comerciales a pagar, empresas del grupo","Efectos comerciales a pagar, empresas del grupo",null,null,null,null,null,null,null,null,584,4031]
[4,40,403,4034,"Acreedores y deudores por operaciones comerciales","Proveedores","Proveedores, empresas del grupo (moneda extranjera)","Proveedores, empresas del grupo (moneda extranjera)",null,null,null,null,null,null,null,null,585,4034]
[4,40,403,4036,"Acreedores y deudores por operaciones comerciales","Proveedores","Envases y embalajes a devolver a proveedores, empresas del grupo","Envases y embalajes a devolver a proveedores, empresas del grupo",null,null,null,null,null,null,null,null,586,4036]
[4,40,403,4039,"Acreedores y deudores por operaciones comerciales","Proveedores","Proveedores, empresas del grupo, facturas pendientes de recibir o de formalizar","Proveedores, empresas del grupo, facturas pendientes de recibir o de formalizar",null,null,null,null,null,null,null,null,587,4039]
[4,40,404,4040,"Acreedores y deudores por operaciones comerciales","Proveedores","Proveedores, empresas asociadas","Proveedores, empresas asociadas",null,null,null,null,null,null,null,null,588,4040]
[4,40,405,4050,"Acreedores y deudores por operaciones comerciales","Proveedores","Proveedores, otras partes vinculadas","Proveedores, otras partes vinculadas",null,null,null,null,null,null,null,null,589,4050]
[4,40,406,4060,"Acreedores y deudores por operaciones comerciales","Proveedores","Envases y embalajes a devolver a proveedores","Envases y embalajes a devolver a proveedores",null,null,null,null,null,null,null,null,593,4060]
[4,40,407,4070,"Acreedores y deudores por operaciones comerciales","Proveedores","Anticipos a proveedores","Anticipos a proveedores",null,null,null,null,null,null,null,null,594,4070]
[4,41,410,4100,"Acreedores y deudores por operaciones comerciales","Acreedores varios","Acreedores por prestaciones de servicios","Acreedores por prestaciones de servicios (euros)",null,null,null,null,null,null,null,null,595,4100]
[4,41,410,4102,"Acreedores y deudores por operaciones comerciales","Acreedores varios","Acreedores por prestaciones de servicios","Acreedores por prestaciones de servicios (euros)",null,null,null,null,null,null,null,null,597,4102]
[4,41,410,4103,"Acreedores y deudores por operaciones comerciales","Acreedores varios","Acreedores por prestaciones de servicios","Acreedores por prestaciones de servicios (euros)",null,null,null,null,null,null,null,null,598,4103]
[4,41,410,4104,"Acreedores y deudores por operaciones comerciales","Acreedores varios","Acreedores por prestaciones de servicios (moneda extranjera)","Acreedores por prestaciones de servicios (moneda extranjera)",null,null,null,null,null,null,null,null,599,4104]
[4,41,410,4109,"Acreedores y deudores por operaciones comerciales","Acreedores varios","Acreedores por prestaciones de servicios, facturas pendientes de recibir o de formalizar","Acreedores por prestaciones de servicios, facturas pendientes de recibir o de formalizar",null,null,null,null,null,null,null,null,600,4109]
[4,41,411,4110,"Acreedores y deudores por operaciones comerciales","Acreedores varios","Acreedores, efectos comerciales a pagar","Acreedores, efectos comerciales a pagar",null,null,null,null,null,null,null,null,601,4110]
[4,41,419,4190,"Acreedores y deudores por operaciones comerciales","Acreedores varios","Acreedores por operaciones en común","Acreedores por operaciones en común",null,null,null,null,null,null,null,null,602,4190]
[4,43,430,4300,"Acreedores y deudores por operaciones comerciales","Clientes","Clientes","Clientes (euros)",null,null,null,null,null,null,null,null,606,4300]
[4,43,430,4301,"Acreedores y deudores por operaciones comerciales","Clientes","Clientes","Clientes (euros)",null,null,null,null,null,null,null,null,607,4301]
[4,43,430,4302,"Acreedores y deudores por operaciones comerciales","Clientes","Clientes","Clientes (euros)",null,null,null,null,null,null,null,null,608,4302]
[4,43,430,4303,"Acreedores y deudores por operaciones comerciales","Clientes","Clientes","Clientes (euros)",null,null,null,null,null,null,null,null,609,4303]
[4,43,430,4304,"Acreedores y deudores por operaciones comerciales","Clientes","Clientes (moneda extranjera)","Clientes (moneda extranjera)",null,null,null,null,null,null,null,null,610,4304]
[4,43,430,4309,"Acreedores y deudores por operaciones comerciales","Clientes","Clientes, facturas pendientes de formalizar","Clientes, facturas pendientes de formalizar",null,null,null,null,null,null,null,null,611,4309]
[4,43,431,4310,"Acreedores y deudores por operaciones comerciales","Clientes","Clientes, efectos comerciales a cobrar","Efectos comerciales e cartera",null,null,null,null,null,null,null,null,612,4310]
[4,43,431,4311,"Acreedores y deudores por operaciones comerciales","Clientes","Efectos comerciales descontados","Efectos comerciales descontados",null,null,null,null,null,null,null,null,620,4311]
[4,43,431,4312,"Acreedores y deudores por operaciones comerciales","Clientes","Efectos comerciales en gestion de cobro","Efectos comerciales en gestion de cobro",null,null,null,null,null,null,null,null,621,4312]
[4,43,431,4315,"Acreedores y deudores por operaciones comerciales","Clientes","Efectos comerciales impagados","Efectos comerciales impagados",null,null,null,null,null,null,null,null,622,4315]
[4,43,432,4320,"Acreedores y deudores por operaciones comerciales","Clientes","Clientes, operaciones de \"factoring\"","Clientes, operaciones de \"factoring\"",null,null,null,null,null,null,null,null,623,4320]
[4,43,433,4330,"Acreedores y deudores por operaciones comerciales","Clientes","Clientes, empresas del grupo","Clientes empresas del grupo (euros)",null,null,null,null,null,null,null,null,624,4330]
[4,43,433,4331,"Acreedores y deudores por operaciones comerciales","Clientes","Efectos comerciales a cobrar, empresas del grupo","Efectos comerciales a cobrar, empresas del grupo",null,null,null,null,null,null,null,null,625,4331]
[4,43,433,4332,"Acreedores y deudores por operaciones comerciales","Clientes","Clientes empresas del grupo, operaciones de \"factoring\"","Clientes empresas del grupo, operaciones de \"factoring\"",null,null,null,null,null,null,null,null,626,4332]
[4,43,433,4334,"Acreedores y deudores por operaciones comerciales","Clientes","Clientes empresas del grupo (moneda extranjera)","Clientes empresas del grupo (moneda extranjera)",null,null,null,null,null,null,null,null,627,4334]
[4,43,433,4336,"Acreedores y deudores por operaciones comerciales","Clientes","Clientes empresas del grupo de dudoso cobro","Clientes empresas del grupo de dudoso cobro",null,null,null,null,null,null,null,null,628,4336]
[4,43,433,4337,"Acreedores y deudores por operaciones comerciales","Clientes","Envases y embalajes a devolvder a clientes, empresas del grupo","Envases y embalajes a devolvder a clientes, empresas del grupo",null,null,null,null,null,null,null,null,629,4337]
[4,43,433,4339,"Acreedores y deudores por operaciones comerciales","Clientes","Clientes empresas del grupo, facturas pendientes de formalizar","Clientes empresas del grupo, facturas pendientes de formalizar",null,null,null,null,null,null,null,null,630,4339]
[4,43,434,4340,"Acreedores y deudores por operaciones comerciales","Clientes","Clientes, empresas asociadas","Clientes, empresas asociadas",null,null,null,null,null,null,null,null,631,4340]
[4,43,435,4350,"Acreedores y deudores por operaciones comerciales","Clientes","Clientes, otras partes vinculadas","Clientes, otras partes vinculadas",null,null,null,null,null,null,null,null,633,4350]
[4,43,436,4360,"Acreedores y deudores por operaciones comerciales","Clientes","Clientes de dudoso cobro","Clientes de dudoso cobro",null,null,null,null,null,null,null,null,634,4360]
[4,43,437,4370,"Acreedores y deudores por operaciones comerciales","Clientes","Envases y embalajes a devolver por clientes","Envases y embalajes a devolver por clientes",null,null,null,null,null,null,null,null,636,4370]
[4,43,438,4380,"Acreedores y deudores por operaciones comerciales","Clientes","Anticipos de clientes","Anticipos de clientes",null,null,null,null,null,null,null,null,638,4380]
[4,44,440,4400,"Acreedores y deudores por operaciones comerciales","Deudores varios","Deudores","Deudores (euros)",null,null,null,null,null,null,null,null,639,4400]
[4,44,440,4404,"Acreedores y deudores por operaciones comerciales","Deudores varios","Deudores (moneda extranjera)","Deudores (moneda extranjera)",null,null,null,null,null,null,null,null,640,4404]
[4,44,441,4410,"Acreedores y deudores por operaciones comerciales","Deudores varios","Deudores, efectos comerciales a cobrar","Deudores, efectos comerciales en cartera",null,null,null,null,null,null,null,null,641,4410]
[4,44,441,4411,"Acreedores y deudores por operaciones comerciales","Deudores varios","Deudores, efectos comerciales descontados","Deudores, efectos comerciales descontados",null,null,null,null,null,null,null,null,642,4411]
[4,44,441,4412,"Acreedores y deudores por operaciones comerciales","Deudores varios","Deudores, efectos comerciaes en gestión de cobro","Deudores, efectos comerciaes en gestión de cobro",null,null,null,null,null,null,null,null,643,4412]
[4,44,441,4415,"Acreedores y deudores por operaciones comerciales","Deudores varios","Deudores, efectos comerciales impagados","Deudores, efectos comerciales impagados",null,null,null,null,null,null,null,null,644,4415]
[4,44,446,4460,"Acreedores y deudores por operaciones comerciales","Deudores varios","Deudores de dudoso cobro","Deudores de dudoso cobro",null,null,null,null,null,null,null,null,645,4460]
[4,44,449,4490,"Acreedores y deudores por operaciones comerciales","Deudores varios","Deudores por operaciones en común","Deudores por operaciones en común",null,null,null,null,null,null,null,null,649,4490]
[4,46,460,4600,"Acreedores y deudores por operaciones comerciales","Personal","Anticipos de remuneraciones","Anticipos de remuneraciones",null,null,null,null,null,null,null,null,650,4600]
[4,46,465,4650,"Acreedores y deudores por operaciones comerciales","Personal","Remuneraciones pendientes de pago","Remuneraciones pendientes de pago",null,null,null,null,null,null,null,null,651,4650]
[4,46,465,4651,"Acreedores y deudores por operaciones comerciales","Personal","Remuneraciones pendientes de pago","Remuneraciones pendientes de pago",null,null,null,null,null,null,null,null,659,4651]
[4,46,466,4660,"Acreedores y deudores por operaciones comerciales","Personal","Remuneraciones mediante sistemas de aportación definida pendientes de pago","Remuneraciones mediante sistemas de aportación definida pendientes de pago",null,null,null,null,null,null,null,null,660,4660]
[4,47,470,4700,"Acreedores y deudores por operaciones comerciales","Administraciones públicas","Hacienda Pública, deudora por IVA","Hacienda Pública, deudora por IVA",null,null,null,null,null,null,null,null,661,4700]
[4,47,470,4708,"Acreedores y deudores por operaciones comerciales","Administraciones públicas","Hacienda Pública, deudora por subvenciones concedidas","Hacienda Pública, deudora por subvenciones concedidas",null,null,null,null,null,null,null,null,662,4708]
[4,47,470,4709,"Acreedores y deudores por operaciones comerciales","Administraciones públicas","Hacienda Pública, deudora por devolución de impuestos","Hacienda Pública, deudora por devolución de impuestos",null,null,null,null,null,null,null,null,663,4709]
[4,47,471,4710,"Acreedores y deudores por operaciones comerciales","Administraciones públicas","Organismos de la Seguridad Social, deudores","Organismos de la Seguridad Social, deudores",null,null,null,null,null,null,null,null,664,4710]
[4,47,472,4720,"Acreedores y deudores por operaciones comerciales","Administraciones públicas","Hacienda Pública, IVA soportado","Hacienda Pública, IVA soportado",null,null,null,null,null,null,null,null,665,4720]
[4,47,472,4721,"Acreedores y deudores por operaciones comerciales","Administraciones públicas","Hacienda Pública, IVA soportado","Hacienda Pública, IVA soportado",null,null,null,null,null,null,null,null,666,4721]
[4,47,472,4727,"Acreedores y deudores por operaciones comerciales","Administraciones públicas","Hacienda Pública, IVA soportado","Hacienda Pública, IVA soportado",null,null,null,null,null,null,null,null,667,4727]
[4,47,473,4730,"Acreedores y deudores por operaciones comerciales","Administraciones públicas","Hacienda Pública, retenciones y pagos a cuenta","Hacienda Pública, retenciones y pagos a cuenta",null,null,null,null,null,null,null,null,668,4730]
[4,47,473,4731,"Acreedores y deudores por operaciones comerciales","Administraciones públicas","Hacienda Pública, retenciones y pagos a cuenta","Hacienda Pública, retenciones y pagos a cuenta",null,null,null,null,null,null,null,null,669,4731]
[4,47,473,4732,"Acreedores y deudores por operaciones comerciales","Administraciones públicas","Hacienda Pública, retenciones y pagos a cuenta","Hacienda Pública, retenciones y pagos a cuenta",null,null,null,null,null,null,null,null,670,4732]
[4,47,473,4737,"Acreedores y deudores por operaciones comerciales","Administraciones públicas","Hacienda Pública, retenciones y pagos a cuenta","Hacienda Pública, retenciones y pagos a cuenta",null,null,null,null,null,null,null,null,671,4737]
[4,47,474,4740,"Acreedores y deudores por operaciones comerciales","Administraciones públicas","Activos por impuesto diferido","Activos por diferencias temporarias deducibles",null,null,null,null,null,null,null,null,672,4740]
[4,47,474,4742,"Acreedores y deudores por operaciones comerciales","Administraciones públicas","Derechos por deducciones y bonificaciones pendientes de aplicar","Derechos por deducciones y bonificaciones pendientes de aplicar",null,null,null,null,null,null,null,null,673,4742]
[4,47,474,4745,"Acreedores y deudores por operaciones comerciales","Administraciones públicas","Crédito por pérdidas a compensar del ejercicio","Crédito por pérdidas a compensar del ejercicio",null,null,null,null,null,null,null,null,675,4745]
[4,47,475,4750,"Acreedores y deudores por operaciones comerciales","Administraciones públicas","Hacienda Pública, acreedora por conceptos fiscales","Hacienda Pública, acreedora por IVA",null,null,null,null,null,null,null,null,678,4750]
[4,47,475,4751,"Acreedores y deudores por operaciones comerciales","Administraciones públicas","Hacienda Pública, acreedora por retenciones practicadas","Hacienda Pública, acreedora por retenciones practicadas",null,null,null,null,null,null,null,null,680,4751]
[4,47,475,4752,"Acreedores y deudores por operaciones comerciales","Administraciones públicas","Hacienda Pública, acreedora por impuesto sobre sociedades","Hacienda Pública, acreedora por impuesto sobre sociedades",null,null,null,null,null,null,null,null,681,4752]
[4,47,475,4757,"Acreedores y deudores por operaciones comerciales","Administraciones públicas","Hacienda Pública, acreedora por conceptos fiscales","Hacienda Pública, acreedora por IVA",null,null,null,null,null,null,null,null,682,4757]
[4,47,475,4758,"Acreedores y deudores por operaciones comerciales","Administraciones públicas","Hacienda Pública, acreedora por subvenciones a reintegrar","Hacienda Pública, acreedora por subvenciones a reintegrar",null,null,null,null,null,null,null,null,690,4758]
[4,47,476,4760,"Acreedores y deudores por operaciones comerciales","Administraciones públicas","Organismos de la Seguridad Social, acreedores","Organismos de la Seguridad Social, acreedores",null,null,null,null,null,null,null,null,691,4760]
[4,47,476,4761,"Acreedores y deudores por operaciones comerciales","Administraciones públicas","Organismos de la Seguridad Social, acreedores","Organismos de la Seguridad Social, acreedores",null,null,null,null,null,null,null,null,692,4761]
[4,47,477,4770,"Acreedores y deudores por operaciones comerciales","Administraciones públicas","Hacienda Pública, IVA repercutido","Hacienda Pública, IVA repercutido",null,null,null,null,null,null,null,null,693,4770]
[4,47,477,4777,"Acreedores y deudores por operaciones comerciales","Administraciones públicas","Hacienda Pública, IVA repercutido","Hacienda Pública, IVA repercutido",null,null,null,null,null,null,null,null,694,4777]
[4,47,479,4790,"Acreedores y deudores por operaciones comerciales","Administraciones públicas","Pasivos por diferencias temporarias imponibles","Pasivos por diferencias temporarias imponibles",null,null,null,null,null,null,null,null,695,4790]
[4,48,480,4800,"Acreedores y deudores por operaciones comerciales","Ajustes por periodificación","Gastos anticipados","Gastos anticipados",null,null,null,null,null,null,null,null,696,4800]
[4,48,485,4850,"Acreedores y deudores por operaciones comerciales","Ajustes por periodificación","Ingresos anticipados","Ingresos anticipados",null,null,null,null,null,null,null,null,697,4850]
[4,49,490,4900,"Acreedores y deudores por operaciones comerciales","Deterioro de valor de créditos comerciales y provisiones a corto plazo","Deterioro de valor de créditos por operaciones comerciales","Deterioro de valor de créditos por operaciones comerciales",null,null,null,null,null,null,null,null,698,4900]
[4,49,493,4930,"Acreedores y deudores por operaciones comerciales","Deterioro de valor de créditos comerciales y provisiones a corto plazo","Deterioro de valor de créditos por operaciones comerciales con partes vinculadas","Deterioro de valor de créditos por operaciones comerciales con partes vinculadas",null,null,null,null,null,null,null,null,699,4930]
[4,49,493,4933,"Acreedores y deudores por operaciones comerciales","Deterioro de valor de créditos comerciales y provisiones a corto plazo","Deterioro de valor de créditos por operaciones comerciales con empresas del grupo","Deterioro de valor de créditos por operaciones comerciales con empresas del grupo",null,null,null,null,null,null,null,null,700,4933]
[4,49,493,4934,"Acreedores y deudores por operaciones comerciales","Deterioro de valor de créditos comerciales y provisiones a corto plazo","Deterioro de valor de créditos por operaciones comerciales con empresas vinculadas","Deterioro de valor de créditos por operaciones comerciales con empresas vinculadas",null,null,null,null,null,null,null,null,701,4934]
[4,49,493,4935,"Acreedores y deudores por operaciones comerciales","Deterioro de valor de créditos comerciales y provisiones a corto plazo","Deterioro de valor de crédtios por operaciones comerciales con otras partes vinculadas","Deterioro de valor de crédtios por operaciones comerciales con otras partes vinculadas",null,null,null,null,null,null,null,null,702,4935]
[4,49,499,4990,"Acreedores y deudores por operaciones comerciales","Deterioro de valor de créditos comerciales y provisiones a corto plazo","Provisión para operaciones comerciales","Provisión para operaciones comerciales",null,null,null,null,null,null,null,null,703,4990]
[4,49,499,4994,"Acreedores y deudores por operaciones comerciales","Deterioro de valor de créditos comerciales y provisiones a corto plazo","Provisión para contratos onerosos.","Provisión para contratos onerosos.",null,null,null,null,null,null,null,null,704,4994]
[4,49,499,4999,"Acreedores y deudores por operaciones comerciales","Deterioro de valor de créditos comerciales y provisiones a corto plazo","Provisión para otras operaciones comerciales","Provisión para otras operaciones comerciales",null,null,null,null,null,null,null,null,705,4999]
[5,50,500,5000,"Cuentas financieras","Empréstitos, deudas con características especiales y otras emisiones análogas a corto plazo","Obligaciones y bonos a corto plazo","Obligaciones y bonos a corto plazo",null,null,null,null,null,null,null,null,706,5000]
[5,50,501,5010,"Cuentas financieras","Empréstitos, deudas con características especiales y otras emisiones análogas a corto plazo","Obligaciones y bonos convertibles a corto plazo","Obligaciones y bonos convertibles a corto plazo",null,null,null,null,null,null,null,null,708,5010]
[5,50,502,5020,"Cuentas financieras","Empréstitos, deudas con características especiales y otras emisiones análogas a corto plazo","Acciones o participaciones a corto plazo contabilizadas como pasivo","Acciones o participaciones a corto plazo contabilizadas como pasivo",null,null,null,null,null,null,null,null,709,5020]
[5,50,505,5050,"Cuentas financieras","Empréstitos, deudas con características especiales y otras emisiones análogas a corto plazo","Deudas representadas en otros valores negociables a corto plazo","Deudas representadas en otros valores negociables a corto plazo",null,null,null,null,null,null,null,null,710,5050]
[5,50,506,5060,"Cuentas financieras","Empréstitos, deudas con características especiales y otras emisiones análogas a corto plazo","Intereses de empréstitos y otras emisiones análogas","Intereses de empréstitos y otras emisiones análogas",null,null,null,null,null,null,null,null,711,5060]
[5,50,507,5070,"Cuentas financieras","Empréstitos, deudas con características especiales y otras emisiones análogas a corto plazo","Dividendos de emisiones contabilizadas como pasivo","Dividendos de emisiones contabilizadas como pasivo",null,null,null,null,null,null,null,null,712,5070]
[5,50,509,5090,"Cuentas financieras","Empréstitos, deudas con características especiales y otras emisiones análogas a corto plazo","Valores negociables amortizados","Obligaciones y bonos amortizados",null,null,null,null,null,null,null,null,713,5090]
[5,50,509,5091,"Cuentas financieras","Empréstitos, deudas con características especiales y otras emisiones análogas a corto plazo","Obligaciones y bonos convertibles amortizados","Obligaciones y bonos convertibles amortizados",null,null,null,null,null,null,null,null,730,5091]
[5,50,509,5095,"Cuentas financieras","Empréstitos, deudas con características especiales y otras emisiones análogas a corto plazo","Otros valores negociables amortizados","Otros valores negociables amortizados",null,null,null,null,null,null,null,null,731,5095]
[5,51,510,5100,"Cuentas financieras","Deudas a corto plazo con partes vinculadas","Deudas a corto plazo con entidades de crédito vinculadas","Deudas a corto plazo con entidades de crédito vinculadas",null,null,null,null,null,null,null,null,732,5100]
[5,51,510,5103,"Cuentas financieras","Deudas a corto plazo con partes vinculadas","Deudas a corto plazo con entidades de crédito, empresas del grupo","Deudas a corto plazo con entidades de crédito, empresas del grupo",null,null,null,null,null,null,null,null,733,5103]
[5,51,510,5104,"Cuentas financieras","Deudas a corto plazo con partes vinculadas","Deudas a corto plazo con entidades de crédito, empresas asociadas","Deudas a corto plazo con entidades de crédito, empresas asociadas",null,null,null,null,null,null,null,null,740,5104]
[5,51,510,5105,"Cuentas financieras","Deudas a corto plazo con partes vinculadas","Deudas a corto plazo con otras entidades de crédito vinculadas","Deudas a corto plazo con otras entidades de crédito vinculadas",null,null,null,null,null,null,null,null,746,5105]
[5,51,511,5110,"Cuentas financieras","Deudas a corto plazo con partes vinculadas","Proveedores de inmovilizado a corto plazo, partes vinculadas","Proveedores de inmovilizado a corto plazo, partes vinculadas",null,null,null,null,null,null,null,null,747,5110]
[5,51,511,5113,"Cuentas financieras","Deudas a corto plazo con partes vinculadas","Proveedores de inmovilizado a corto plazo, empresas del grupo","Proveedores de inmovilizado a corto plazo, empresas del grupo",null,null,null,null,null,null,null,null,751,5113]
[5,51,511,5114,"Cuentas financieras","Deudas a corto plazo con partes vinculadas","Proveedores de inmovilizado a corto plazo, empresas asociadas","Proveedores de inmovilizado a corto plazo, empresas asociadas",null,null,null,null,null,null,null,null,752,5114]
[5,51,511,5115,"Cuentas financieras","Deudas a corto plazo con partes vinculadas","Proveedores de inmovilizado a corto plazo, otras partes vinculadas","Proveedores de inmovilizado a corto plazo, otras partes vinculadas",null,null,null,null,null,null,null,null,753,5115]
[5,51,512,5120,"Cuentas financieras","Deudas a corto plazo con partes vinculadas","Acreedores por arrendamiento financiero a corto plazo, partes vinculadas","Acreedores por arrendamiento financiero a corto plazo, partes vinculadas",null,null,null,null,null,null,null,null,754,5120]
[5,51,512,5123,"Cuentas financieras","Deudas a corto plazo con partes vinculadas","Acreedores por arrendamiento financiero a corto plazo, empresas del grupo","Acreedores por arrendamiento financiero a corto plazo, empresas del grupo",null,null,null,null,null,null,null,null,755,5123]
[5,51,512,5124,"Cuentas financieras","Deudas a corto plazo con partes vinculadas","Acreedores por arrendamiento financiero a corto plazo, empresas asociadas","Acreedores por arrendamiento financiero a corto plazo, empresas asociadas",null,null,null,null,null,null,null,null,759,5124]
[5,51,512,5125,"Cuentas financieras","Deudas a corto plazo con partes vinculadas","Acreedores por arrendamiento financiero a corto plazo, otras partes vinculadas","Acreedores por arrendamiento financiero a corto plazo, otras partes vinculadas",null,null,null,null,null,null,null,null,760,5125]
[5,51,513,5130,"Cuentas financieras","Deudas a corto plazo con partes vinculadas","Intereses a corto plazo de deudas con partes vinculadas","Intereses a corto plazo de deudas con partes vinculadas",null,null,null,null,null,null,null,null,761,5130]
[5,51,513,5133,"Cuentas financieras","Deudas a corto plazo con partes vinculadas","Otras deudas a corto plazo con empresas de grupo","Otras deudas a corto plazo con empresas de grupo",null,null,null,null,null,null,null,null,762,5133]
[5,51,513,5134,"Cuentas financieras","Deudas a corto plazo con partes vinculadas","Otras deudas a corto plazo de deudas, empresas asociadas","Otras deudas a corto plazo de deudas, empresas asociadas",null,null,null,null,null,null,null,null,763,5134]
[5,51,513,5135,"Cuentas financieras","Deudas a corto plazo con partes vinculadas","Otras deudas a corto plazo con otras partes vinculadas","Otras deudas a corto plazo con otras partes vinculadas",null,null,null,null,null,null,null,null,766,5135]
[5,51,514,5140,"Cuentas financieras","Deudas a corto plazo con partes vinculadas","Dividendos de emisiones contabilizadas como pasivo con partes vinculadas","Dividendos de emisiones contabilizadas como pasivo con partes vinculadas",null,null,null,null,null,null,null,null,767,5140]
[5,51,514,5143,"Cuentas financieras","Deudas a corto plazo con partes vinculadas","Intereses a corto plazo de deudas, empresas del grupo","Intereses a corto plazo de deudas, empresas del grupo",null,null,null,null,null,null,null,null,768,5143]
[5,51,514,5144,"Cuentas financieras","Deudas a corto plazo con partes vinculadas","Intereses a corto plazo de deudas, empresas asociadas","Intereses a corto plazo de deudas, empresas asociadas",null,null,null,null,null,null,null,null,769,5144]
[5,51,514,5145,"Cuentas financieras","Deudas a corto plazo con partes vinculadas","Intereses a corto plazo de deudas, otras partes vinculadas","Intereses a corto plazo de deudas, otras partes vinculadas",null,null,null,null,null,null,null,null,770,5145]
[5,52,520,5200,"Cuentas financieras","Deudas a corto plazo por préstamos recibidos y otros conceptos","Deudas a corto plazo de entidades de crédito","Préstamos a corto plazo de entidades de crédito",null,null,null,null,null,null,null,null,771,5200]
[5,52,520,5201,"Cuentas financieras","Deudas a corto plazo por préstamos recibidos y otros conceptos","Deudas a corto plazo por crédito dispuesto","Deudas a corto plazo por crédito dispuesto",null,null,null,null,null,null,null,null,772,5201]
[5,52,520,5208,"Cuentas financieras","Deudas a corto plazo por préstamos recibidos y otros conceptos","Deudas por efectos descontados","Deudas por efectos descontados",null,null,null,null,null,null,null,null,773,5208]
[5,52,520,5209,"Cuentas financieras","Deudas a corto plazo por préstamos recibidos y otros conceptos","Deudas por operaciones de \"factoring\"","Deudas por operaciones de \"factoring\"",null,null,null,null,null,null,null,null,774,5209]
[5,52,521,5210,"Cuentas financieras","Deudas a corto plazo por préstamos recibidos y otros conceptos","Deudas a corto plazo","Deudas a corto plazo",null,null,null,null,null,null,null,null,775,5210]
[5,52,522,5220,"Cuentas financieras","Deudas a corto plazo por préstamos recibidos y otros conceptos","Deudas a corto plazo transformables en subvenciones, donaciones y legados","Deudas a corto plazo transformables en subvenciones, donaciones y legados",null,null,null,null,null,null,null,null,778,5220]
[5,52,523,5230,"Cuentas financieras","Deudas a corto plazo por préstamos recibidos y otros conceptos","Proveedores de inmovilizado a corto plazo","Proveedores de inmovilizado a corto plazo",null,null,null,null,null,null,null,null,790,5230]
[5,52,523,5231,"Cuentas financieras","Deudas a corto plazo por préstamos recibidos y otros conceptos","Proveedores de inmovilizado a corto plazo","Proveedores de inmovilizado a corto plazo",null,null,null,null,null,null,null,null,791,5231]
[5,52,523,5233,"Cuentas financieras","Deudas a corto plazo por préstamos recibidos y otros conceptos","Proveedores de inmovilizado a corto plazo","Proveedores de inmovilizado a corto plazo",null,null,null,null,null,null,null,null,792,5233]
[5,52,524,5240,"Cuentas financieras","Deudas a corto plazo por préstamos recibidos y otros conceptos","Acreedores por arrendamiento financiero a corto plazo","Acreedores por arrendamiento financiero a corto plazo",null,null,null,null,null,null,null,null,793,5240]
[5,52,525,5250,"Cuentas financieras","Deudas a corto plazo por préstamos recibidos y otros conceptos","Efectos a pagar a corto plazo","Efectos a pagar a corto plazo",null,null,null,null,null,null,null,null,794,5250]
[5,52,526,5260,"Cuentas financieras","Deudas a corto plazo por préstamos recibidos y otros conceptos","Dividendo activo a pagar","Dividendo activo a pagar",null,null,null,null,null,null,null,null,795,5260]
[5,52,527,5270,"Cuentas financieras","Deudas a corto plazo por préstamos recibidos y otros conceptos","Intereses a corto plazo de deudas con entidades de crédito","Intereses a corto plazo de deudas con entidades de crédito",null,null,null,null,null,null,null,null,796,5270]
[5,52,528,5280,"Cuentas financieras","Deudas a corto plazo por préstamos recibidos y otros conceptos","Intereses a corto plazo de deudas","Intereses a corto plazo de deudas",null,null,null,null,null,null,null,null,797,5280]
[5,52,529,5290,"Cuentas financieras","Deudas a corto plazo por préstamos recibidos y otros conceptos","Provisiones a corto plazo","Provisión a corto plazo por retribuciones al personal",null,null,null,null,null,null,null,null,798,5290]
[5,52,529,5291,"Cuentas financieras","Deudas a corto plazo por préstamos recibidos y otros conceptos","Provisión a corto plazo para impuestos","Provisión a corto plazo para impuestos",null,null,null,null,null,null,null,null,799,5291]
[5,52,529,5292,"Cuentas financieras","Deudas a corto plazo por préstamos recibidos y otros conceptos","Provisión a corto plazo para otras responsabilidades","Provisión a corto plazo para otras responsabilidades",null,null,null,null,null,null,null,null,800,5292]
[5,52,529,5293,"Cuentas financieras","Deudas a corto plazo por préstamos recibidos y otros conceptos","Provisión a corto plazo por desmantelamiento, retiro o rehabilitación del inmovilizado","Provisión a corto plazo por desmantelamiento, retiro o rehabilitación del inmovilizado",null,null,null,null,null,null,null,null,802,5293]
[5,52,529,5295,"Cuentas financieras","Deudas a corto plazo por préstamos recibidos y otros conceptos","Provisión a corto plazo para actuaciones medioambientales","Provisión a corto plazo para actuaciones medioambientales",null,null,null,null,null,null,null,null,810,5295]
[5,52,529,5296,"Cuentas financieras","Deudas a corto plazo por préstamos recibidos y otros conceptos","Provisión a corto plazo para reestructuraciones","Provisión a corto plazo para reestructuraciones",null,null,null,null,null,null,null,null,811,5296]
[5,52,529,5297,"Cuentas financieras","Deudas a corto plazo por préstamos recibidos y otros conceptos","Provisión a corto plazo por transacciones con pagos basados en instrumentos de patrimonio","Provisión a corto plazo por transacciones con pagos basados en instrumentos de patrimonio",null,null,null,null,null,null,null,null,812,5297]
[5,53,530,5300,"Cuentas financieras","Inversiones financieras a corto plazo en partes vinculadas","Participaciones a corto plazo en partes vinculadas","Participaciones a corto plazo en partes vinculadas",null,null,null,null,null,null,null,null,813,5300]
[5,53,530,5303,"Cuentas financieras","Inversiones financieras a corto plazo en partes vinculadas","Participaciones a corto plazo, en empresas del grupo","Participaciones a corto plazo, en empresas del grupo",null,null,null,null,null,null,null,null,820,5303]
[5,53,530,5304,"Cuentas financieras","Inversiones financieras a corto plazo en partes vinculadas","Participaciones a corto plazo, en empresas asociadas","Participaciones a corto plazo, en empresas asociadas",null,null,null,null,null,null,null,null,821,5304]
[5,53,530,5305,"Cuentas financieras","Inversiones financieras a corto plazo en partes vinculadas","Participaciones a corto plazo, en otras partes vinculadas","Participaciones a corto plazo, en otras partes vinculadas",null,null,null,null,null,null,null,null,830,5305]
[5,53,531,5310,"Cuentas financieras","Inversiones financieras a corto plazo en partes vinculadas","Valores representativos de deuda a corto plazo de partes vinculadas","Valores representativos de deuda a corto plazo de partes vinculadas",null,null,null,null,null,null,null,null,833,5310]
[5,53,531,5313,"Cuentas financieras","Inversiones financieras a corto plazo en partes vinculadas","Valores representativos de deuda a corto plazo de empresas del grupo","Valores representativos de deuda a corto plazo de empresas del grupo",null,null,null,null,null,null,null,null,834,5313]
[5,53,531,5314,"Cuentas financieras","Inversiones financieras a corto plazo en partes vinculadas","Valores representativos de deuda a corto plazo de empresas asociadas","Valores representativos de deuda a corto plazo de empresas asociadas",null,null,null,null,null,null,null,null,835,5314]
[5,53,531,5315,"Cuentas financieras","Inversiones financieras a corto plazo en partes vinculadas","Valores representativos de deuda a corto plazo de otras partes vinculadas","Valores representativos de deuda a corto plazo de otras partes vinculadas",null,null,null,null,null,null,null,null,836,5315]
[5,53,532,5320,"Cuentas financieras","Inversiones financieras a corto plazo en partes vinculadas","Créditos a corto plazo a partes vinculadas","Créditos a corto plazo a partes vinculadas",null,null,null,null,null,null,null,null,837,5320]
[5,53,532,5323,"Cuentas financieras","Inversiones financieras a corto plazo en partes vinculadas","Créditos a corto plazo a empresas del grupo","Créditos a corto plazo a empresas del grupo",null,null,null,null,null,null,null,null,838,5323]
[5,53,532,5324,"Cuentas financieras","Inversiones financieras a corto plazo en partes vinculadas","Créditos a corto plazo a empresas asociadas","Créditos a corto plazo a empresas asociadas",null,null,null,null,null,null,null,null,840,5324]
[5,53,532,5325,"Cuentas financieras","Inversiones financieras a corto plazo en partes vinculadas","Créditos a corto plazo a otras partes vinculadas","Créditos a corto plazo a otras partes vinculadas",null,null,null,null,null,null,null,null,841,5325]
[5,53,533,5330,"Cuentas financieras","Inversiones financieras a corto plazo en partes vinculadas","Intereses a corto plazo de valores representativos de deuda de partes vinculadas","Intereses a corto plazo de valores representativos de deuda de partes vinculadas",null,null,null,null,null,null,null,null,842,5330]
[5,53,533,5333,"Cuentas financieras","Inversiones financieras a corto plazo en partes vinculadas","Intereses a corto plazo de valores representativos de deuda de empresas del grupo","Intereses a corto plazo de valores representativos de deuda de empresas del grupo",null,null,null,null,null,null,null,null,850,5333]
[5,53,533,5334,"Cuentas financieras","Inversiones financieras a corto plazo en partes vinculadas","Intereses a corto plazo de valores representativos de deuda de empresas asociadas","Intereses a corto plazo de valores representativos de deuda de empresas asociadas",null,null,null,null,null,null,null,null,851,5334]
[5,53,533,5335,"Cuentas financieras","Inversiones financieras a corto plazo en partes vinculadas","Intereses a corto plazo de valores representativos de deuda de otras partes vinculadas","Intereses a corto plazo de valores representativos de deuda de otras partes vinculadas",null,null,null,null,null,null,null,null,860,5335]
[5,53,534,5340,"Cuentas financieras","Inversiones financieras a corto plazo en partes vinculadas","Intereses a corto plazo de créditos a partes vinculas","Intereses a corto plazo de créditos a partes vinculas",null,null,null,null,null,null,null,null,862,5340]
[5,53,534,5343,"Cuentas financieras","Inversiones financieras a corto plazo en partes vinculadas","Intereses a corto plazo de créditos a empresas del grupo","Intereses a corto plazo de créditos a empresas del grupo",null,null,null,null,null,null,null,null,891,5343]
[5,53,534,5344,"Cuentas financieras","Inversiones financieras a corto plazo en partes vinculadas","Intereses a corto plazo de créditos a empresas vinculadas","Intereses a corto plazo de créditos a empresas vinculadas",null,null,null,null,null,null,null,null,892,5344]
[5,53,534,5345,"Cuentas financieras","Inversiones financieras a corto plazo en partes vinculadas","Intereses a corto plazo de créditos a otras partes vinculads","Intereses a corto plazo de créditos a otras partes vinculads",null,null,null,null,null,null,null,null,900,5345]
[5,53,535,5350,"Cuentas financieras","Inversiones financieras a corto plazo en partes vinculadas","Dividendo a cobrar de inversiones financieras en partes vinculadas","Dividendo a cobrar de inversiones financieras en partes vinculadas",null,null,null,null,null,null,null,null,902,5350]
[5,53,535,5353,"Cuentas financieras","Inversiones financieras a corto plazo en partes vinculadas","Dividendo a cobrar de empresas del grupo","Dividendo a cobrar de empresas del grupo",null,null,null,null,null,null,null,null,910,5353]
[5,53,535,5354,"Cuentas financieras","Inversiones financieras a corto plazo en partes vinculadas","Dividendo a cobrar de empresas asociadas","Dividendo a cobrar de empresas asociadas",null,null,null,null,null,null,null,null,911,5354]
[5,53,535,5355,"Cuentas financieras","Inversiones financieras a corto plazo en partes vinculadas","Dividendo a cobrar de otras partes vinculadas","Dividendo a cobrar de otras partes vinculadas",null,null,null,null,null,null,null,null,912,5355]
[5,53,539,5390,"Cuentas financieras","Inversiones financieras a corto plazo en partes vinculadas","Desembolsos pendientes sobre participaciones a corto plazo de partes vinculadas","Desembolsos pendientes sobre participaciones a corto plazo de partes vinculadas",null,null,null,null,null,null,null,null,913,5390]
[5,53,539,5393,"Cuentas financieras","Inversiones financieras a corto plazo en partes vinculadas","Desembolsos pendientes sobre participaciones a corto plazo en empresas del grupo","Desembolsos pendientes sobre participaciones a corto plazo en empresas del grupo",null,null,null,null,null,null,null,null,920,5393]
[5,53,539,5394,"Cuentas financieras","Inversiones financieras a corto plazo en partes vinculadas","Desembolsos pendientes sobre participaciones a corto plazo en empresas asociadas","Desembolsos pendientes sobre participaciones a corto plazo en empresas asociadas",null,null,null,null,null,null,null,null,921,5394]
[5,53,539,5395,"Cuentas financieras","Inversiones financieras a corto plazo en partes vinculadas","Desembolsos pendientes sobre participaciones a corto plazo en otras partes vinculadas","Desembolsos pendientes sobre participaciones a corto plazo en otras partes vinculadas",null,null,null,null,null,null,null,null,940,5395]
[5,54,540,5400,"Cuentas financieras","Otras inversiones financieras temporales","Inversiones financieras temporales en instrumentos de patrimonio","Inversiones financieras temporales en instrumentos de patrimonio",null,null,null,null,null,null,null,null,941,5400]
[5,54,540,5401,"Cuentas financieras","Otras inversiones financieras temporales","Inversiones financieras temporales en instrumentos de patrimonio","Inversiones financieras temporales en instrumentos de patrimonio",null,null,null,null,null,null,null,null,942,5401]
[5,54,541,5410,"Cuentas financieras","Otras inversiones financieras temporales","Valores representativos de deuda a corto plazo","Valores representativos de deuda a corto plazo",null,null,null,null,null,null,null,null,950,5410]
[5,54,542,5420,"Cuentas financieras","Otras inversiones financieras temporales","Créditos a corto plazo","Créditos a corto plazo",null,null,null,null,null,null,null,null,951,5420]
[5,54,543,5430,"Cuentas financieras","Otras inversiones financieras temporales","Créditos a corto plazo por enajenación de inmovilizado","Créditos a corto plazo por enajenación de inmovilizado",null,null,null,null,null,null,null,null,960,5430]
[5,54,544,5440,"Cuentas financieras","Otras inversiones financieras temporales","Créditos a corto plazo al personal","Créditos a corto plazo al personal",null,null,null,null,null,null,null,null,962,5440]
[5,54,545,5450,"Cuentas financieras","Otras inversiones financieras temporales","Dividendo a cobrar","Dividendo a cobrar",null,null,null,null,null,null,null,null,991,5450]
[5,54,546,5460,"Cuentas financieras","Otras inversiones financieras temporales","Intereses a corto plazo de inversiones financieras","Intereses a corto plazo de inversiones financieras",null,null,null,null,null,null,null,null,992,5460]
[5,54,547,5470,"Cuentas financieras","Otras inversiones financieras temporales","Intereses a corto plazo de créditos","Intereses a corto plazo de créditos",null,null,null,null,null,null,null,null,993,5470]
[5,54,548,5480,"Cuentas financieras","Otras inversiones financieras temporales","Imposiciones a corto plazo","Imposiciones a corto plazo",null,null,null,null,null,null,null,null,994,5480]
[5,54,549,5490,"Cuentas financieras","Otras inversiones financieras temporales","Desembolsos pendientes sobre instrumentos de patrimonio a corto plazo","Desembolsos pendientes sobre instrumentos de patrimonio a corto plazo",null,null,null,null,null,null,null,null,null,5490]
[5,55,550,5500,"Cuentas financieras","Otras cuentas no bancarias","Titular de la explotación","Titular de la explotación",null,null,null,null,null,null,null,null,null,5500]
[5,55,551,5510,"Cuentas financieras","Otras cuentas no bancarias","Cuenta corriente con socios y administradores","Cuenta corriente con socios y administradores",null,null,null,null,null,null,null,null,null,5510]
[5,55,552,5520,"Cuentas financieras","Otras cuentas no bancarias","Cuenta corriente con otras personas y entidades vinculadas","Cuenta corriente con otras personas y entidades vinculadas",null,null,null,null,null,null,null,null,null,5520]
[5,55,552,5523,"Cuentas financieras","Otras cuentas no bancarias","Cuenta corriente con empresas del grupo","Cuenta corriente con empresas del grupo",null,null,null,null,null,null,null,null,null,5523]
[5,55,552,5524,"Cuentas financieras","Otras cuentas no bancarias","Cuenta corriente con empresas asociadas","Cuenta corriente con empresas asociadas",null,null,null,null,null,null,null,null,null,5524]
[5,55,552,5525,"Cuentas financieras","Otras cuentas no bancarias","Cuenta corriente con otras partes vinculadas","Cuenta corriente con otras partes vinculadas",null,null,null,null,null,null,null,null,null,5525]
[5,55,553,5530,"Cuentas financieras","Otras cuentas no bancarias","Cuentas corrientes en fusiones y escisiones","Socios de sociedad disuelta",null,null,null,null,null,null,null,null,null,5530]
[5,55,553,5531,"Cuentas financieras","Otras cuentas no bancarias","Socios, cuenta de fusión","Socios, cuenta de fusión",null,null,null,null,null,null,null,null,null,5531]
[5,55,553,5532,"Cuentas financieras","Otras cuentas no bancarias","Socios de sociedad escindida","Socios de sociedad escindida",null,null,null,null,null,null,null,null,null,5532]
[5,55,553,5533,"Cuentas financieras","Otras cuentas no bancarias","Socios, cuenta de escisión","Socios, cuenta de escisión",null,null,null,null,null,null,null,null,null,5533]
[5,55,553,5534,"Cuentas financieras","Otras cuentas no bancarias","Cuentas corrientes en fusiones y escisiones","Socios de sociedad disuelta",null,null,null,null,null,null,null,null,null,5534]
[5,55,554,5540,"Cuentas financieras","Otras cuentas no bancarias","Cuenta corriente con uniones temporales de empresas y comunidades de bienes","Cuenta corriente con uniones temporales de empresas y comunidades de bienes",null,null,null,null,null,null,null,null,null,5540]
[5,55,555,5550,"Cuentas financieras","Otras cuentas no bancarias","Partidas pendientes de aplicación","Partidas pendientes de aplicación",null,null,null,null,null,null,null,null,null,5550]
[5,55,556,5560,"Cuentas financieras","Otras cuentas no bancarias","Desembolsos exigidos sobre participaciones en el patrimonio neto","Desembolsos exigidos sobre participaciones en el patrimonio neto",null,null,null,null,null,null,null,null,null,5560]
[5,55,556,5563,"Cuentas financieras","Otras cuentas no bancarias","Desembolsos exigidos sobre participaciones, empresas del grupo","Desembolsos exigidos sobre participaciones, empresas del grupo",null,null,null,null,null,null,null,null,null,5563]
[5,55,556,5564,"Cuentas financieras","Otras cuentas no bancarias","Desembolsos exigidos sobre participaciones, empresas asociadas","Desembolsos exigidos sobre participaciones, empresas asociadas",null,null,null,null,null,null,null,null,null,5564]
[5,55,556,5565,"Cuentas financieras","Otras cuentas no bancarias","Desembolsos exigidos sobre participaciones, otras partes vinculadas","Desembolsos exigidos sobre participaciones, otras partes vinculadas",null,null,null,null,null,null,null,null,null,5565]
[5,55,556,5566,"Cuentas financieras","Otras cuentas no bancarias","Desembolsos exigidos sobre participaciones de otras empresas","Desembolsos exigidos sobre participaciones de otras empresas",null,null,null,null,null,null,null,null,null,5566]
[5,55,557,5570,"Cuentas financieras","Otras cuentas no bancarias","Dividendo activo a cuenta","Dividendo activo a cuenta",null,null,null,null,null,null,null,null,null,5570]
[5,55,558,5580,"Cuentas financieras","Otras cuentas no bancarias","Socios por desembolsos exigidos","Socios por desembolsos exigidos sobre acciones o participaciones ordinarias",null,null,null,null,null,null,null,null,null,5580]
[5,55,558,5585,"Cuentas financieras","Otras cuentas no bancarias","Socios por desembolsos, exigidos sobre acciones o participaciones consideradas como pasivos financieros","Socios por desembolsos, exigidos sobre acciones o participaciones consideradas como pasivos financieros",null,null,null,null,null,null,null,null,null,5585]
[5,55,559,5590,"Cuentas financieras","Otras cuentas no bancarias","Derivados financieros a corto plazo","Activos por derivados financieros a corto plazo",null,null,null,null,null,null,null,null,null,5590]
[5,55,559,5593,"Cuentas financieras","Otras cuentas no bancarias","Activos por derivados financieros a corto plazo, instrumentos de cobertura","Activos por derivados financieros a corto plazo, instrumentos de cobertura",null,null,null,null,null,null,null,null,null,5593]
[5,55,559,5595,"Cuentas financieras","Otras cuentas no bancarias","Pasivos por derivados financieros a corto plazo, cartera de negociación","Pasivos por derivados financieros a corto plazo, cartera de negociación",null,null,null,null,null,null,null,null,null,5595]
[5,55,559,5598,"Cuentas financieras","Otras cuentas no bancarias","Pasivos por derivados financieros a corto plazo, instrumentos de cobertura","Pasivos por derivados financieros a corto plazo, instrumentos de cobertura",null,null,null,null,null,null,null,null,null,5598]
[5,56,560,5600,"Cuentas financieras","Fianzas y depósitos recibidos y constituidos a corto plazo, y ajustes por periodificación","Fianzas recibidas a corto plazo","Fianzas recibidas a corto plazo",null,null,null,null,null,null,null,null,null,5600]
[5,56,561,5610,"Cuentas financieras","Fianzas y depósitos recibidos y constituidos a corto plazo, y ajustes por periodificación","Depósitos recibidos a corto plazo","Depósitos recibidos a corto plazo",null,null,null,null,null,null,null,null,null,5610]
[5,56,565,5650,"Cuentas financieras","Fianzas y depósitos recibidos y constituidos a corto plazo, y ajustes por periodificación","Fianzas constituidas a corto plazo","Fianzas constituidas a corto plazo",null,null,null,null,null,null,null,null,null,5650]
[5,56,566,5660,"Cuentas financieras","Fianzas y depósitos recibidos y constituidos a corto plazo, y ajustes por periodificación","Depósitos constituidos a corto plazo","Depósitos constituidos a corto plazo",null,null,null,null,null,null,null,null,null,5660]
[5,56,567,5670,"Cuentas financieras","Fianzas y depósitos recibidos y constituidos a corto plazo, y ajustes por periodificación","Intereses pagados por anticipado","Intereses pagados por anticipado",null,null,null,null,null,null,null,null,null,5670]
[5,56,568,5680,"Cuentas financieras","Fianzas y depósitos recibidos y constituidos a corto plazo, y ajustes por periodificación","Intereses cobrados por anticipado","Intereses cobrados por anticipado",null,null,null,null,null,null,null,null,null,5680]
[5,56,569,5690,"Cuentas financieras","Fianzas y depósitos recibidos y constituidos a corto plazo, y ajustes por periodificación","Garantías financieras a corto plazo","Garantías financieras a corto plazo",null,null,null,null,null,null,null,null,null,5690]
[5,57,570,5700,"Cuentas financieras","Tesorería","Caja, euros","Caja, euros",null,null,null,null,null,null,null,null,null,5700]
[5,57,570,5701,"Cuentas financieras","Tesorería","Caja, euros","Caja, euros",null,null,null,null,null,null,null,null,null,5701]
[5,57,570,5702,"Cuentas financieras","Tesorería","Caja, euros","Caja, euros",null,null,null,null,null,null,null,null,null,5702]
[5,57,570,5704,"Cuentas financieras","Tesorería","Caja, euros","Caja, euros",null,null,null,null,null,null,null,null,null,5704]
[5,57,570,5705,"Cuentas financieras","Tesorería","Caja, euros","Caja, euros",null,null,null,null,null,null,null,null,null,5705]
[5,57,570,5709,"Cuentas financieras","Tesorería","Caja, euros","Caja, euros",null,null,null,null,null,null,null,null,null,5709]
[5,57,571,5710,"Cuentas financieras","Tesorería","Caja, moneda extranjera","Caja, moneda extranjera",null,null,null,null,null,null,null,null,null,5710]
[5,57,572,5720,"Cuentas financieras","Tesorería","Bancos e instituciones de crédito c/c vista, euros","Bancos e instituciones de crédito c/c vista, euros",null,null,null,null,null,null,null,null,null,5720]
[5,57,572,5721,"Cuentas financieras","Tesorería","Bancos e instituciones de crédito c/c vista, euros","Bancos e instituciones de crédito c/c vista, euros",null,null,null,null,null,null,null,null,null,5721]
[5,57,572,5725,"Cuentas financieras","Tesorería","Bancos e instituciones de crédito c/c vista, euros","Bancos e instituciones de crédito c/c vista, euros",null,null,null,null,null,null,null,null,null,5725]
[5,57,572,5727,"Cuentas financieras","Tesorería","Bancos e instituciones de crédito c/c vista, euros","Bancos e instituciones de crédito c/c vista, euros",null,null,null,null,null,null,null,null,null,5727]
[5,57,573,5730,"Cuentas financieras","Tesorería","Bancos e instituciones de crédito c/c vista, moneda extranjera","Bancos e instituciones de crédito c/c vista, moneda extranjera",null,null,null,null,null,null,null,null,null,5730]
[5,57,574,5740,"Cuentas financieras","Tesorería","Bancos e instituciones de crédito, cuentas de ahorro, euros","Bancos e instituciones de crédito, cuentas de ahorro, euros",null,null,null,null,null,null,null,null,null,5740]
[5,57,575,5750,"Cuentas financieras","Tesorería","Bancos e instituciones de crédito, cuentas de ahorro, moneda extranjera","Bancos e instituciones de crédito, cuentas de ahorro, moneda extranjera",null,null,null,null,null,null,null,null,null,5750]
[5,57,576,5760,"Cuentas financieras","Tesorería","Inversiones a corto plazo de gran liquidez","Inversiones a corto plazo de gran liquidez",null,null,null,null,null,null,null,null,null,5760]
[5,58,580,5800,"Cuentas financieras","Activos no corrientes mantenidos para la venta y activos y pasivos asociados","Inmovilizado","Inmovilizado",null,null,null,null,null,null,null,null,null,5800]
[5,58,581,5810,"Cuentas financieras","Activos no corrientes mantenidos para la venta y activos y pasivos asociados","Inversiones con personas y entidades vinculadas","Inversiones con personas y entidades vinculadas",null,null,null,null,null,null,null,null,null,5810]
[5,58,582,5820,"Cuentas financieras","Activos no corrientes mantenidos para la venta y activos y pasivos asociados","Inversiones financieras","Inversiones financieras",null,null,null,null,null,null,null,null,null,5820]
[5,58,583,5830,"Cuentas financieras","Activos no corrientes mantenidos para la venta y activos y pasivos asociados","Existencias, deudores comerciales y otras cuentas a cobrar","Existencias, deudores comerciales y otras cuentas a cobrar",null,null,null,null,null,null,null,null,null,5830]
[5,58,584,5840,"Cuentas financieras","Activos no corrientes mantenidos para la venta y activos y pasivos asociados","Otros activos","Otros activos",null,null,null,null,null,null,null,null,null,5840]
[5,58,585,5850,"Cuentas financieras","Activos no corrientes mantenidos para la venta y activos y pasivos asociados","Provisiones","Provisiones",null,null,null,null,null,null,null,null,null,5850]
[5,58,586,5860,"Cuentas financieras","Activos no corrientes mantenidos para la venta y activos y pasivos asociados","Deudoas con características especiales","Deudoas con características especiales",null,null,null,null,null,null,null,null,null,5860]
[5,58,587,5870,"Cuentas financieras","Activos no corrientes mantenidos para la venta y activos y pasivos asociados","Deudas con personas y entidades vinculadas","Deudas con personas y entidades vinculadas",null,null,null,null,null,null,null,null,null,5870]
[5,58,588,5880,"Cuentas financieras","Activos no corrientes mantenidos para la venta y activos y pasivos asociados","Acreedores comerciales y otras cuentas a pagar","Acreedores comerciales y otras cuentas a pagar",null,null,null,null,null,null,null,null,null,5880]
[5,58,589,5890,"Cuentas financieras","Activos no corrientes mantenidos para la venta y activos y pasivos asociados","Otros pasivos","Otros pasivos",null,null,null,null,null,null,null,null,null,5890]
[5,59,593,5930,"Cuentas financieras","Deterioro del valor de instrumentos financieros","Deterioro de valor de participaciones a corto plazo en partes vinculadas","Deterioro de valor de participaciones a corto plazo en partes vinculadas",null,null,null,null,null,null,null,null,null,5930]
[5,59,593,5933,"Cuentas financieras","Deterioro del valor de instrumentos financieros","Deterioro de valor de participaciones a corto plazo en empresas del grupo","Deterioro de valor de participaciones a corto plazo en empresas del grupo",null,null,null,null,null,null,null,null,null,5933]
[5,59,593,5934,"Cuentas financieras","Deterioro del valor de instrumentos financieros","Deterioro de valor de participaciones a corto plazo en empresas asociadas","Deterioro de valor de participaciones a corto plazo en empresas asociadas",null,null,null,null,null,null,null,null,null,5934]
[5,59,594,5940,"Cuentas financieras","Deterioro del valor de instrumentos financieros","Deterioro del valor de valores representativos de deuda a corto plazo de partes vinculadas","Deterioro del valor de valores representativos de deuda a corto plazo de partes vinculadas",null,null,null,null,null,null,null,null,null,5940]
[5,59,594,5943,"Cuentas financieras","Deterioro del valor de instrumentos financieros","Deterioro de valor de valores representativos de deuda a corto plazo de empresas del grupo","Deterioro de valor de valores representativos de deuda a corto plazo de empresas del grupo",null,null,null,null,null,null,null,null,null,5943]
[5,59,594,5944,"Cuentas financieras","Deterioro del valor de instrumentos financieros","Deterioro de valor de valores representativos de deuda a corto plazo de empresas asociadas","Deterioro de valor de valores representativos de deuda a corto plazo de empresas asociadas",null,null,null,null,null,null,null,null,null,5944]
[5,59,594,5945,"Cuentas financieras","Deterioro del valor de instrumentos financieros","Deterioro de valor de valores representativos de deuda a corto plazo de otras partes vinculadas","Deterioro de valor de valores representativos de deuda a corto plazo de otras partes vinculadas",null,null,null,null,null,null,null,null,null,5945]
[5,59,595,5950,"Cuentas financieras","Deterioro del valor de instrumentos financieros","Deterioro del valor de créditos a corto plazo a partes vinculadas","Deterioro del valor de créditos a corto plazo a partes vinculadas",null,null,null,null,null,null,null,null,null,5950]
[5,59,595,5953,"Cuentas financieras","Deterioro del valor de instrumentos financieros","Deterioro del valor de créditos a corto plazo a empresas del grupo","Deterioro del valor de créditos a corto plazo a empresas del grupo",null,null,null,null,null,null,null,null,null,5953]
[5,59,595,5954,"Cuentas financieras","Deterioro del valor de instrumentos financieros","Deterioro del valor de créditos a corto plazo a empresas asociadas","Deterioro del valor de créditos a corto plazo a empresas asociadas",null,null,null,null,null,null,null,null,null,5954]
[5,59,595,5955,"Cuentas financieras","Deterioro del valor de instrumentos financieros","Deterioro del valor de créditos a corto plazo a otras partes vinculadas","Deterioro del valor de créditos a corto plazo a otras partes vinculadas",null,null,null,null,null,null,null,null,null,5955]
[5,59,597,5970,"Cuentas financieras","Deterioro del valor de instrumentos financieros","Deterioro de valor de valores representativos de deuda a corto plazo","Deterioro de valor de valores representativos de deuda a corto plazo",null,null,null,null,null,null,null,null,null,5970]
[5,59,598,5980,"Cuentas financieras","Deterioro del valor de instrumentos financieros","Deterioro de valor de créditos a corto plazo","Deterioro de valor de créditos a corto plazo",null,null,null,null,null,null,null,null,null,5980]
[5,59,599,5990,"Cuentas financieras","Deterioro del valor de instrumentos financieros","Deterioro de valor de activos no corrientes mantenidos para la venta","Deterioro de valor de inmovilizado no corriente mantenido a la venta",null,null,null,null,null,null,null,null,null,5990]
[5,59,599,5991,"Cuentas financieras","Deterioro del valor de instrumentos financieros","Deterioro de valor de inversiones con personas y entidades vinculadas no corrientes mantenidas para la venta","Deterioro de valor de inversiones con personas y entidades vinculadas no corrientes mantenidas para la venta",null,null,null,null,null,null,null,null,null,5991]
[5,59,599,5992,"Cuentas financieras","Deterioro del valor de instrumentos financieros","Deterioro de valor de inversiones financieras no corrientes mantenidas para la venta","Deterioro de valor de inversiones financieras no corrientes mantenidas para la venta",null,null,null,null,null,null,null,null,null,5992]
[5,59,599,5993,"Cuentas financieras","Deterioro del valor de instrumentos financieros","Deterioro de valor de existencias, deudores comerciales y otras cuentas a cobrar integrados en un grupo enajenable mantenido para la venta","Deterioro de valor de existencias, deudores comerciales y otras cuentas a cobrar integrados en un grupo enajenable mantenido para la venta",null,null,null,null,null,null,null,null,null,5993]
[5,59,599,5994,"Cuentas financieras","Deterioro del valor de instrumentos financieros","Deterioro de valor de otros activos mantenidos para la venta","Deterioro de valor de otros activos mantenidos para la venta",null,null,null,null,null,null,null,null,null,5994]
[6,60,600,6000,"Compras y Gastos","Compras","Compras de mercaderías","Compras de mercaderías",null,null,null,null,null,null,null,null,null,6000]
[6,60,600,6001,"Compras y Gastos","Compras","Compras de mercaderías","Compras de mercaderías",null,null,null,null,null,null,null,null,null,6001]
[6,60,601,6010,"Compras y Gastos","Compras","Compras de materias primas","Compras de materias primas",null,null,null,null,null,null,null,null,null,6010]
[6,60,602,6020,"Compras y Gastos","Compras","Compras de otros aprovisionamientos","Compras de otros aprovisionamientos",null,null,null,null,null,null,null,null,null,6020]
[6,60,602,6021,"Compras y Gastos","Compras","Compras de otros aprovisionamientos","Compras de otros aprovisionamientos",null,null,null,null,null,null,null,null,null,6021]
[6,60,606,6060,"Compras y Gastos","Compras","Descuentos sobre compras por pronto pago","Descuentos sobre compras por pronto pago de mercaderías",null,null,null,null,null,null,null,null,null,6060]
[6,60,606,6061,"Compras y Gastos","Compras","Descuentos sobre compras por pronto pago de materias primas","Descuentos sobre compras por pronto pago de materias primas",null,null,null,null,null,null,null,null,null,6061]
[6,60,606,6062,"Compras y Gastos","Compras","Descuentos sobre compras por pronto pago de otros aprovisionamientos","Descuentos sobre compras por pronto pago de otros aprovisionamientos",null,null,null,null,null,null,null,null,null,6062]
[6,60,607,6070,"Compras y Gastos","Compras","Trabajos realizados por otras empresas","Trabajos realizados por otras empresas",null,null,null,null,null,null,null,null,null,6070]
[6,60,608,6080,"Compras y Gastos","Compras","Devoluciones de compras y operaciones similares","Devoluciones por compras de mercaderías",null,null,null,null,null,null,null,null,null,6080]
[6,60,608,6081,"Compras y Gastos","Compras","Devoluciones por compras de materias primas","Devoluciones por compras de materias primas",null,null,null,null,null,null,null,null,null,6081]
[6,60,608,6082,"Compras y Gastos","Compras","Devoluciones por compras de otros aprovisionamientos","Devoluciones por compras de otros aprovisionamientos",null,null,null,null,null,null,null,null,null,6082]
[6,60,609,6090,"Compras y Gastos","Compras","\"Rappels\" por compras","\"Rappels\" por compras de mercaderías",null,null,null,null,null,null,null,null,null,6090]
[6,60,609,6091,"Compras y Gastos","Compras","\"Rappels\" por compras de materias primas","\"Rappels\" por compras de materias primas",null,null,null,null,null,null,null,null,null,6091]
[6,60,609,6092,"Compras y Gastos","Compras","\"Rappels\" por compras de otros apovisionamientos","\"Rappels\" por compras de otros apovisionamientos",null,null,null,null,null,null,null,null,null,6092]
[6,61,610,6100,"Compras y Gastos","Variación de existencias","Variación de existencias de mercaderías","Variación de existencias de mercaderías",null,null,null,null,null,null,null,null,null,6100]
[6,61,611,6110,"Compras y Gastos","Variación de existencias","Variación de existencias de materias primas","Variación de existencias de materias primas",null,null,null,null,null,null,null,null,null,6110]
[6,61,612,6120,"Compras y Gastos","Variación de existencias","Variación de existencias de otros aprovisionamientos","Variación de existencias de otros aprovisionamientos",null,null,null,null,null,null,null,null,null,6120]
[6,62,620,6200,"Compras y Gastos","Servicios Exteriores","Gastos en investigación y desarrollo del ejercicio","Gastos en investigación y desarrollo del ejercicio",null,null,null,null,null,null,null,null,null,6200]
[6,62,621,6210,"Compras y Gastos","Servicios Exteriores","Arrendamientos y cánones","Arrendamientos y cánones",null,null,null,null,null,null,null,null,null,6210]
[6,62,621,6211,"Compras y Gastos","Servicios Exteriores","Arrendamientos y cánones","Arrendamientos y cánones",null,null,null,null,null,null,null,null,null,6211]
[6,62,622,6220,"Compras y Gastos","Servicios Exteriores","Reparaciones y conservación","Reparaciones y conservación",null,null,null,null,null,null,null,null,null,6220]
[6,62,622,6221,"Compras y Gastos","Servicios Exteriores","Reparaciones y conservación","Reparaciones y conservación",null,null,null,null,null,null,null,null,null,6221]
[6,62,622,6222,"Compras y Gastos","Servicios Exteriores","Reparaciones y conservación","Reparaciones y conservación",null,null,null,null,null,null,null,null,null,6222]
[6,62,622,6223,"Compras y Gastos","Servicios Exteriores","Reparaciones y conservación","Reparaciones y conservación",null,null,null,null,null,null,null,null,null,6223]
[6,62,622,6225,"Compras y Gastos","Servicios Exteriores","Reparaciones y conservación","Reparaciones y conservación",null,null,null,null,null,null,null,null,null,6225]
[6,62,622,6226,"Compras y Gastos","Servicios Exteriores","Reparaciones y conservación","Reparaciones y conservación",null,null,null,null,null,null,null,null,null,6226]
[6,62,623,6230,"Compras y Gastos","Servicios Exteriores","Servicios de profesionales independientes","Servicios de profesionales independientes",null,null,null,null,null,null,null,null,null,6230]
[6,62,624,6240,"Compras y Gastos","Servicios Exteriores","Transportes","Transportes",null,null,null,null,null,null,null,null,null,6240]
[6,62,625,6250,"Compras y Gastos","Servicios Exteriores","Primas de seguros","Primas de seguros",null,null,null,null,null,null,null,null,null,6250]
[6,62,626,6260,"Compras y Gastos","Servicios Exteriores","Servicios bancarios y similares","Servicios bancarios y similares",null,null,null,null,null,null,null,null,null,6260]
[6,62,627,6270,"Compras y Gastos","Servicios Exteriores","Publicidad, propaganda y relaciones públicas","Publicidad, propaganda y relaciones públicas",null,null,null,null,null,null,null,null,null,6270]
[6,62,627,6271,"Compras y Gastos","Servicios Exteriores","Publicidad, propaganda y relaciones públicas","Publicidad, propaganda y relaciones públicas",null,null,null,null,null,null,null,null,null,6271]
[6,62,628,6280,"Compras y Gastos","Servicios Exteriores","Suministros","Suministros",null,null,null,null,null,null,null,null,null,6280]
[6,62,628,6281,"Compras y Gastos","Servicios Exteriores","Suministros","Suministros",null,null,null,null,null,null,null,null,null,6281]
[6,62,628,6282,"Compras y Gastos","Servicios Exteriores","Suministros","Suministros",null,null,null,null,null,null,null,null,null,6282]
[6,62,628,6283,"Compras y Gastos","Servicios Exteriores","Suministros","Suministros",null,null,null,null,null,null,null,null,null,6283]
[6,62,628,6284,"Compras y Gastos","Servicios Exteriores","Suministros","Suministros",null,null,null,null,null,null,null,null,null,6284]
[6,62,628,6285,"Compras y Gastos","Servicios Exteriores","Suministros","Suministros",null,null,null,null,null,null,null,null,null,6285]
[6,62,628,6286,"Compras y Gastos","Servicios Exteriores","Suministros","Suministros",null,null,null,null,null,null,null,null,null,6286]
[6,62,629,6290,"Compras y Gastos","Servicios Exteriores","Otros servicios","Otros servicios",null,null,null,null,null,null,null,null,null,6290]
[6,62,629,6291,"Compras y Gastos","Servicios Exteriores","Otros servicios","Otros servicios",null,null,null,null,null,null,null,null,null,6291]
[6,62,629,6292,"Compras y Gastos","Servicios Exteriores","Otros servicios","Otros servicios",null,null,null,null,null,null,null,null,null,6292]
[6,62,629,6293,"Compras y Gastos","Servicios Exteriores","Otros servicios","Otros servicios",null,null,null,null,null,null,null,null,null,6293]
[6,62,629,6295,"Compras y Gastos","Servicios Exteriores","Otros servicios","Otros servicios",null,null,null,null,null,null,null,null,null,6295]
[6,62,629,6296,"Compras y Gastos","Servicios Exteriores","Otros servicios","Otros servicios",null,null,null,null,null,null,null,null,null,6296]
[6,63,630,6300,"Compras y Gastos","Tributos","Impuesto sobre beneficios","Impuesto corriente",null,null,null,null,null,null,null,null,null,6300]
[6,63,630,6301,"Compras y Gastos","Tributos","Impuesto diferido","Impuesto diferido",null,null,null,null,null,null,null,null,null,6301]
[6,63,631,6310,"Compras y Gastos","Tributos","Otros tributos","Otros tributos",null,null,null,null,null,null,null,null,null,6310]
[6,63,631,6312,"Compras y Gastos","Tributos","Otros tributos","Otros tributos",null,null,null,null,null,null,null,null,null,6312]
[6,63,633,6330,"Compras y Gastos","Tributos","Ajustes negativos en la imposición sobre beneficios","Ajustes negativos en la imposición sobre beneficios",null,null,null,null,null,null,null,null,null,6330]
[6,63,634,6340,"Compras y Gastos","Tributos","Ajustes negativos en la imposición indirecta","Ajustes negativos en la imposición indirecta",null,null,null,null,null,null,null,null,null,6340]
[6,63,634,6341,"Compras y Gastos","Tributos","Ajustes negativos en IVA de activo corriente","Ajustes negativos en IVA de activo corriente",null,null,null,null,null,null,null,null,null,6341]
[6,63,634,6342,"Compras y Gastos","Tributos","Ajustes negativos en IVA de inversiones","Ajustes negativos en IVA de inversiones",null,null,null,null,null,null,null,null,null,6342]
[6,63,636,6360,"Compras y Gastos","Tributos","Devolución de impuestos","Devolución de impuestos",null,null,null,null,null,null,null,null,null,6360]
[6,63,638,6380,"Compras y Gastos","Tributos","Ajustes positivos en la imposición sobre beneficios","Ajustes positivos en la imposición sobre beneficios",null,null,null,null,null,null,null,null,null,6380]
[6,63,639,6390,"Compras y Gastos","Tributos","Ajustes positivos en la imposición indirecta","Ajustes positivos en la imposición indirecta",null,null,null,null,null,null,null,null,null,6390]
[6,63,639,6391,"Compras y Gastos","Tributos","Ajustes positivos en IVA de activo corriente","Ajustes positivos en IVA de activo corriente",null,null,null,null,null,null,null,null,null,6391]
[6,63,639,6392,"Compras y Gastos","Tributos","Ajustes positivos en IVA de inversiones","Ajustes positivos en IVA de inversiones",null,null,null,null,null,null,null,null,null,6392]
[6,64,640,6400,"Compras y Gastos","Gastos de personal","Sueldos y salarios","Sueldos y salarios",null,null,null,null,null,null,null,null,null,6400]
[6,64,640,6401,"Compras y Gastos","Gastos de personal","Sueldos y salarios","Sueldos y salarios",null,null,null,null,null,null,null,null,null,6401]
[6,64,641,6410,"Compras y Gastos","Gastos de personal","Indemnizaciones","Indemnizaciones",null,null,null,null,null,null,null,null,null,6410]
[6,64,642,6420,"Compras y Gastos","Gastos de personal","Seguridad Social a cargo de la empresa","Seguridad Social a cargo de la empresa",null,null,null,null,null,null,null,null,null,6420]
[6,64,642,6421,"Compras y Gastos","Gastos de personal","Seguridad Social a cargo de la empresa","Seguridad Social a cargo de la empresa",null,null,null,null,null,null,null,null,null,6421]
[6,64,643,6430,"Compras y Gastos","Gastos de personal","Retribuciones a largo plazo mediante sistemas de aportación definida","Retribuciones a largo plazo mediante sistemas de aportación definida",null,null,null,null,null,null,null,null,null,6430]
[6,64,644,6440,"Compras y Gastos","Gastos de personal","Retribuciones a largo plazo mediante sistemas de prestación definida","Contribuciones anuales",null,null,null,null,null,null,null,null,null,6440]
[6,64,644,6442,"Compras y Gastos","Gastos de personal","Otros costes","Otros costes",null,null,null,null,null,null,null,null,null,6442]
[6,64,645,6450,"Compras y Gastos","Gastos de personal","Retribuciones al personal mediante instrumentos de patrimonio","Retribuciones al personal liquidados con instrumentos de patrimonio",null,null,null,null,null,null,null,null,null,6450]
[6,64,645,6457,"Compras y Gastos","Gastos de personal","Retribuciones al personal liquidados en efectivo basado en instrumentos de patrimonio","Retribuciones al personal liquidados en efectivo basado en instrumentos de patrimonio",null,null,null,null,null,null,null,null,null,6457]
[6,64,649,6490,"Compras y Gastos","Gastos de personal","Otros gastos sociales","Otros gastos sociales",null,null,null,null,null,null,null,null,null,6490]
[6,65,650,6500,"Compras y Gastos","Otros gastos de gestión","Pérdidas de créditos comerciales incobrables","Pérdidas de créditos comerciales incobrables",null,null,null,null,null,null,null,null,null,6500]
[6,65,651,6510,"Compras y Gastos","Otros gastos de gestión","Resultados de operaciones en común","Beneficio transferido (gestor)",null,null,null,null,null,null,null,null,null,6510]
[6,65,651,6511,"Compras y Gastos","Otros gastos de gestión","Pérdida soportada (partícipe o asociado no gestor)","Pérdida soportada (partícipe o asociado no gestor)",null,null,null,null,null,null,null,null,null,6511]
[6,65,659,6590,"Compras y Gastos","Otros gastos de gestión","Otras pérdidas en gestión corriente","Otras pérdidas en gestión corriente",null,null,null,null,null,null,null,null,null,6590]
[6,66,660,6600,"Compras y Gastos","Gastos financieros","Gastos financieros por actualización de provisiones","Gastos financieros por actualización de provisiones",null,null,null,null,null,null,null,null,null,6600]
[6,66,661,6610,"Compras y Gastos","Gastos financieros","Intereses de obligaciones y bonos","Intereses por obligaciones y bonos largo plazo, empresas del grupo",null,null,null,null,null,null,null,null,null,6610]
[6,66,661,6611,"Compras y Gastos","Gastos financieros","Intereses por obligaciones y bonos largo plazo, empresas asociadas","Intereses por obligaciones y bonos largo plazo, empresas asociadas",null,null,null,null,null,null,null,null,null,6611]
[6,66,661,6612,"Compras y Gastos","Gastos financieros","Intereses por obligaciones y bonos largo plazo, otras partes vinculadas","Intereses por obligaciones y bonos largo plazo, otras partes vinculadas",null,null,null,null,null,null,null,null,null,6612]
[6,66,661,6613,"Compras y Gastos","Gastos financieros","Intereses por obligaciones y bonos largo plazo, otras empresas","Intereses por obligaciones y bonos largo plazo, otras empresas",null,null,null,null,null,null,null,null,null,6613]
[6,66,661,6615,"Compras y Gastos","Gastos financieros","Intereses por obligaciones y bonos corto plazo, empresas del grupo","Intereses por obligaciones y bonos corto plazo, empresas del grupo",null,null,null,null,null,null,null,null,null,6615]
[6,66,661,6616,"Compras y Gastos","Gastos financieros","Intereses por obligaciones y bonos corto plazo, empresas asociadas","Intereses por obligaciones y bonos corto plazo, empresas asociadas",null,null,null,null,null,null,null,null,null,6616]
[6,66,661,6617,"Compras y Gastos","Gastos financieros","Intereses por obligaciones y bonos corto plazo, otras partes vinculadas","Intereses por obligaciones y bonos corto plazo, otras partes vinculadas",null,null,null,null,null,null,null,null,null,6617]
[6,66,661,6618,"Compras y Gastos","Gastos financieros","Intereses por obligaciones y bonos corto plazo, otras empresas","Intereses por obligaciones y bonos corto plazo, otras empresas",null,null,null,null,null,null,null,null,null,6618]
[6,66,662,6620,"Compras y Gastos","Gastos financieros","Intereses de deudas","Intereses de deudas, empresas del grupo",null,null,null,null,null,null,null,null,null,6620]
[6,66,662,6621,"Compras y Gastos","Gastos financieros","Intereses de deudas, empresas asociadas","Intereses de deudas, empresas asociadas",null,null,null,null,null,null,null,null,null,6621]
[6,66,662,6622,"Compras y Gastos","Gastos financieros","Intereses de deudas, otras partes vinculadas","Intereses de deudas, otras partes vinculadas",null,null,null,null,null,null,null,null,null,6622]
[6,66,662,6623,"Compras y Gastos","Gastos financieros","Intereses de deudas con entidades de crédito","Intereses de deudas con entidades de crédito",null,null,null,null,null,null,null,null,null,6623]
[6,66,662,6624,"Compras y Gastos","Gastos financieros","Intereses de deudas, otras empresas","Intereses de deudas, otras empresas",null,null,null,null,null,null,null,null,null,6624]
[6,66,663,6630,"Compras y Gastos","Gastos financieros","Pérdidas por valoración de instrumentos financieros por su valor razonable","Pérdidas de cartera de negociación",null,null,null,null,null,null,null,null,null,6630]
[6,66,663,6631,"Compras y Gastos","Gastos financieros","Pérdidas de designados por la empresa","Pérdidas de designados por la empresa",null,null,null,null,null,null,null,null,null,6631]
[6,66,663,6632,"Compras y Gastos","Gastos financieros","Pérdidas de disponibles para la venta","Pérdidas de disponibles para la venta",null,null,null,null,null,null,null,null,null,6632]
[6,66,663,6633,"Compras y Gastos","Gastos financieros","Pérdidas de instrumentos de cobertura","Pérdidas de instrumentos de cobertura",null,null,null,null,null,null,null,null,null,6633]
[6,66,664,6640,"Compras y Gastos","Gastos financieros","Dividendos de acciones o participaciones contabilizadas como pasivo","Dividendos de pasivos, empresas de grupo",null,null,null,null,null,null,null,null,null,6640]
[6,66,664,6641,"Compras y Gastos","Gastos financieros","Dividendos de pasivos, empresas asociadas","Dividendos de pasivos, empresas asociadas",null,null,null,null,null,null,null,null,null,6641]
[6,66,664,6642,"Compras y Gastos","Gastos financieros","Didivendos de pasivos, otras partes vinculadas","Didivendos de pasivos, otras partes vinculadas",null,null,null,null,null,null,null,null,null,6642]
[6,66,664,6643,"Compras y Gastos","Gastos financieros","Dividendos de pasivos, otras empresas","Dividendos de pasivos, otras empresas",null,null,null,null,null,null,null,null,null,6643]
[6,66,665,6650,"Compras y Gastos","Gastos financieros","Intereses por descuento de efectos","Intereses por descuento de efectos a entidades de crédito del grupo",null,null,null,null,null,null,null,null,null,6650]
[6,66,665,6651,"Compras y Gastos","Gastos financieros","Intereses por descuento de efectos a entidades de crédito asociadas","Intereses por descuento de efectos a entidades de crédito asociadas",null,null,null,null,null,null,null,null,null,6651]
[6,66,665,6652,"Compras y Gastos","Gastos financieros","Intereses por descuento de efectos a entidades de crédito vinculadas","Intereses por descuento de efectos a entidades de crédito vinculadas",null,null,null,null,null,null,null,null,null,6652]
[6,66,665,6653,"Compras y Gastos","Gastos financieros","Intereses por descuento de efectos a otras entidades de crédito","Intereses por descuento de efectos a otras entidades de crédito",null,null,null,null,null,null,null,null,null,6653]
[6,66,665,6654,"Compras y Gastos","Gastos financieros","Intereses por operaciones de \"factoring\" con entidades de crédito del grupo","Intereses por operaciones de \"factoring\" con entidades de crédito del grupo",null,null,null,null,null,null,null,null,null,6654]
[6,66,665,6655,"Compras y Gastos","Gastos financieros","Intereses por operaciones de \"factoring\" con entidades de crédito asociadas","Intereses por operaciones de \"factoring\" con entidades de crédito asociadas",null,null,null,null,null,null,null,null,null,6655]
[6,66,665,6656,"Compras y Gastos","Gastos financieros","Intereses por operaciones de \"factoring\" con entidades de crédito vinculadas","Intereses por operaciones de \"factoring\" con entidades de crédito vinculadas",null,null,null,null,null,null,null,null,null,6656]
[6,66,665,6657,"Compras y Gastos","Gastos financieros","Intereses por operaciones de \"factoring\" con otras entidades de crédito","Intereses por operaciones de \"factoring\" con otras entidades de crédito",null,null,null,null,null,null,null,null,null,6657]
[6,66,666,6660,"Compras y Gastos","Gastos financieros","Pérdidas en participaciones y valores representativos de deuda","Pérdidas en valores representativos de deuda a largo plazo, empresas del grupo",null,null,null,null,null,null,null,null,null,6660]
[6,66,666,6661,"Compras y Gastos","Gastos financieros","Pérdidas en valores representativos de deuda a largo plazo, empresas asociadas","Pérdidas en valores representativos de deuda a largo plazo, empresas asociadas",null,null,null,null,null,null,null,null,null,6661]
[6,66,666,6662,"Compras y Gastos","Gastos financieros","Pérdidas en valores representativos de deuda a largo plazo, otras partes vinculadas","Pérdidas en valores representativos de deuda a largo plazo, otras partes vinculadas",null,null,null,null,null,null,null,null,null,6662]
[6,66,666,6663,"Compras y Gastos","Gastos financieros","Pérdidas en participaciones y valores representativos de deuda a largo plazo, otras empresas","Pérdidas en participaciones y valores representativos de deuda a largo plazo, otras empresas",null,null,null,null,null,null,null,null,null,6663]
[6,66,666,6665,"Compras y Gastos","Gastos financieros","Pérdidas en participaciones y valores representativos de deuda a corto plazo, empresas del grupo","Pérdidas en participaciones y valores representativos de deuda a corto plazo, empresas del grupo",null,null,null,null,null,null,null,null,null,6665]
[6,66,666,6666,"Compras y Gastos","Gastos financieros","Pérdidas en participaciones y valores representativos de deuda a corto plazo, empresas asociadas","Pérdidas en participaciones y valores representativos de deuda a corto plazo, empresas asociadas",null,null,null,null,null,null,null,null,null,6666]
[6,66,666,6667,"Compras y Gastos","Gastos financieros","Pérdidas en valores representativos de deuda a corto plazo, otras partes vinculadas","Pérdidas en valores representativos de deuda a corto plazo, otras partes vinculadas",null,null,null,null,null,null,null,null,null,6667]
[6,66,666,6668,"Compras y Gastos","Gastos financieros","Pérdidas en valores representativos de deuda a corto plazo, otras empresas","Pérdidas en valores representativos de deuda a corto plazo, otras empresas",null,null,null,null,null,null,null,null,null,6668]
[6,66,667,6670,"Compras y Gastos","Gastos financieros","Pérdidas de créditos","Pérdidas de créditos a largo plazo, empresas del grupo",null,null,null,null,null,null,null,null,null,6670]
[6,66,667,6671,"Compras y Gastos","Gastos financieros","Pérdidas de créditos a largo plazo, empresas asociadas","Pérdidas de créditos a largo plazo, empresas asociadas",null,null,null,null,null,null,null,null,null,6671]
[6,66,667,6672,"Compras y Gastos","Gastos financieros","Pérdidas de créditos a largo plazo, otras partes vinculadas","Pérdidas de créditos a largo plazo, otras partes vinculadas",null,null,null,null,null,null,null,null,null,6672]
[6,66,667,6675,"Compras y Gastos","Gastos financieros","Pérdidas de créditos a corto plazo, empresas del grupo","Pérdidas de créditos a corto plazo, empresas del grupo",null,null,null,null,null,null,null,null,null,6675]
[6,66,667,6676,"Compras y Gastos","Gastos financieros","Pérdidas de créditos a corto plazo, empresas asociadas","Pérdidas de créditos a corto plazo, empresas asociadas",null,null,null,null,null,null,null,null,null,6676]
[6,66,667,6677,"Compras y Gastos","Gastos financieros","Pérdidas de créditos a corto plazo, otras partes vinculadas","Pérdidas de créditos a corto plazo, otras partes vinculadas",null,null,null,null,null,null,null,null,null,6677]
[6,66,667,6678,"Compras y Gastos","Gastos financieros","Pérdidas de créditos a corto plazo, otras empresas","Pérdidas de créditos a corto plazo, otras empresas",null,null,null,null,null,null,null,null,null,6678]
[6,66,668,6680,"Compras y Gastos","Gastos financieros","Diferencias negativas de cambio","Diferencias negativas de cambio",null,null,null,null,null,null,null,null,null,6680]
[6,66,669,6690,"Compras y Gastos","Gastos financieros","Otros gastos financieros","Otros gastos financieros",null,null,null,null,null,null,null,null,null,6690]
[6,66,669,6692,"Compras y Gastos","Gastos financieros","Otros gastos financieros","Otros gastos financieros",null,null,null,null,null,null,null,null,null,6692]
[6,66,669,6693,"Compras y Gastos","Gastos financieros","Otros gastos financieros","Otros gastos financieros",null,null,null,null,null,null,null,null,null,6693]
[6,66,669,6694,"Compras y Gastos","Gastos financieros","Otros gastos financieros","Otros gastos financieros",null,null,null,null,null,null,null,null,null,6694]
[6,67,670,6700,"Compras y Gastos","Pérdidas procedentes de activos no corrientes y gastos excepcionales","Pérdidas procedentes del inmovilizado intangible","Pérdidas procedentes del inmovilizado intangible",null,null,null,null,null,null,null,null,null,6700]
[6,67,671,6710,"Compras y Gastos","Pérdidas procedentes de activos no corrientes y gastos excepcionales","Pérdidas procedentes del inmovilizado material","Pérdidas procedentes del inmovilizado material",null,null,null,null,null,null,null,null,null,6710]
[6,67,672,6720,"Compras y Gastos","Pérdidas procedentes de activos no corrientes y gastos excepcionales","Pérdidas procedentes de las inversiones inmobiliarias","Pérdidas procedentes de las inversiones inmobiliarias",null,null,null,null,null,null,null,null,null,6720]
[6,67,673,6730,"Compras y Gastos","Pérdidas procedentes de activos no corrientes y gastos excepcionales","Pérdidas procedentes de participaciones a largo plazo en partes vinculadas","Pérdidas procedentes de participaciones a largo plazo en partes vinculadas",null,null,null,null,null,null,null,null,null,6730]
[6,67,673,6733,"Compras y Gastos","Pérdidas procedentes de activos no corrientes y gastos excepcionales","Pérdidas procedentes de participaciones a largo plazo, empresas del grupo","Pérdidas procedentes de participaciones a largo plazo, empresas del grupo",null,null,null,null,null,null,null,null,null,6733]
[6,67,673,6734,"Compras y Gastos","Pérdidas procedentes de activos no corrientes y gastos excepcionales","Pérdidas procedentes de participaciones a largo plazo, empresas asociadas","Pérdidas procedentes de participaciones a largo plazo, empresas asociadas",null,null,null,null,null,null,null,null,null,6734]
[6,67,673,6735,"Compras y Gastos","Pérdidas procedentes de activos no corrientes y gastos excepcionales","Pérdidas procedentes de participaciones a largo plazo, otras partes vinculadas","Pérdidas procedentes de participaciones a largo plazo, otras partes vinculadas",null,null,null,null,null,null,null,null,null,6735]
[6,67,675,6750,"Compras y Gastos","Pérdidas procedentes de activos no corrientes y gastos excepcionales","Pérdidas por operaciones con obligaciones propias","Pérdidas por operaciones con obligaciones propias",null,null,null,null,null,null,null,null,null,6750]
[6,67,678,6780,"Compras y Gastos","Pérdidas procedentes de activos no corrientes y gastos excepcionales","Gastos excepcionales","Gastos excepcionales",null,null,null,null,null,null,null,null,null,6780]
[6,68,680,6800,"Compras y Gastos","Dotaciones para amortizaciones","Amortización del inmovilizado intangible","Amortización del inmovilizado intangible",null,null,null,null,null,null,null,null,null,6800]
[6,68,681,6810,"Compras y Gastos","Dotaciones para amortizaciones","Amortización del inmovilizado material","Amortización del inmovilizado material",null,null,null,null,null,null,null,null,null,6810]
[6,68,682,6820,"Compras y Gastos","Dotaciones para amortizaciones","Amortización de las inversiones inmoviliarias","Amortización de las inversiones inmoviliarias",null,null,null,null,null,null,null,null,null,6820]
[6,69,690,6900,"Compras y Gastos","Pérdidas por deterioro y otras dotaciones","Pérdidas por deterioro del inmovilizado intangible","Pérdidas por deterioro del inmovilizado intangible",null,null,null,null,null,null,null,null,null,6900]
[6,69,691,6910,"Compras y Gastos","Pérdidas por deterioro y otras dotaciones","Pérdidas por deterioro del inmovilizado material","Pérdidas por deterioro del inmovilizado material",null,null,null,null,null,null,null,null,null,6910]
[6,69,692,6920,"Compras y Gastos","Pérdidas por deterioro y otras dotaciones","Pérdidas por deterioro de las inversiones inmobiliarias","Pérdidas por deterioro de las inversiones inmobiliarias",null,null,null,null,null,null,null,null,null,6920]
[6,69,693,6930,"Compras y Gastos","Pérdidas por deterioro y otras dotaciones","Pérdidas por deterioro de existencias","Pérdidas por deterioro de productos terminados y en curso de fabricación",null,null,null,null,null,null,null,null,null,6930]
[6,69,693,6931,"Compras y Gastos","Pérdidas por deterioro y otras dotaciones","Pérdidas por deterioro de mercaderías","Pérdidas por deterioro de mercaderías",null,null,null,null,null,null,null,null,null,6931]
[6,69,693,6932,"Compras y Gastos","Pérdidas por deterioro y otras dotaciones","Pérdidas por deterioro de materias primas","Pérdidas por deterioro de materias primas",null,null,null,null,null,null,null,null,null,6932]
[6,69,693,6933,"Compras y Gastos","Pérdidas por deterioro y otras dotaciones","Pérdidas por deterioro de otros aprovisionamientos","Pérdidas por deterioro de otros aprovisionamientos",null,null,null,null,null,null,null,null,null,6933]
[6,69,694,6940,"Compras y Gastos","Pérdidas por deterioro y otras dotaciones","Pérdidas por deterioro de créditos comerciales","Pérdidas por deterioro de créditos comerciales",null,null,null,null,null,null,null,null,null,6940]
[6,69,695,6950,"Compras y Gastos","Pérdidas por deterioro y otras dotaciones","Dotación a la provisión por operaciones comerciales","Dotación a la provisión por operaciones comerciales",null,null,null,null,null,null,null,null,null,6950]
[6,69,695,6954,"Compras y Gastos","Pérdidas por deterioro y otras dotaciones","Dotación a la provisión por contratos onerosos","Dotación a la provisión por contratos onerosos",null,null,null,null,null,null,null,null,null,6954]
[6,69,695,6959,"Compras y Gastos","Pérdidas por deterioro y otras dotaciones","Dotación a la provisión para otras operaciones comerciales","Dotación a la provisión para otras operaciones comerciales",null,null,null,null,null,null,null,null,null,6959]
[6,69,696,6960,"Compras y Gastos","Pérdidas por deterioro y otras dotaciones","Pérdidas por deterioro de participaciones y valores representativos de deuda a largo plazo","Pérdidas por deterioro de participaciones en instrumentos de patrimonio neto a largo plazo, empresas del grupo",null,null,null,null,null,null,null,null,null,6960]
[6,69,696,6961,"Compras y Gastos","Pérdidas por deterioro y otras dotaciones","Pérdidas por deterioro de participaciones en instrumentos de patrimonio neto a largo plazo, empresas asociadas","Pérdidas por deterioro de participaciones en instrumentos de patrimonio neto a largo plazo, empresas asociadas",null,null,null,null,null,null,null,null,null,6961]
[6,69,696,6962,"Compras y Gastos","Pérdidas por deterioro y otras dotaciones","Pérdidas por deterioro de participaciones en instrumentos de patrimonio neto a largo plazo, otras partes vinculadas","Pérdidas por deterioro de participaciones en instrumentos de patrimonio neto a largo plazo, otras partes vinculadas",null,null,null,null,null,null,null,null,null,6962]
[6,69,696,6963,"Compras y Gastos","Pérdidas por deterioro y otras dotaciones","Pérdidas por deterioro de participaciones en instrumentos de patrimonio neto a largo plazo, otras empresas","Pérdidas por deterioro de participaciones en instrumentos de patrimonio neto a largo plazo, otras empresas",null,null,null,null,null,null,null,null,null,6963]
[6,69,696,6965,"Compras y Gastos","Pérdidas por deterioro y otras dotaciones","Pérdidas por deterioro en valores representativos de deuda a largo plazo, empresas del grupo","Pérdidas por deterioro en valores representativos de deuda a largo plazo, empresas del grupo",null,null,null,null,null,null,null,null,null,6965]
[6,69,696,6966,"Compras y Gastos","Pérdidas por deterioro y otras dotaciones","Pérdidas por deterioro en valores representativos de deuda a largo plazo, empresas asociadas","Pérdidas por deterioro en valores representativos de deuda a largo plazo, empresas asociadas",null,null,null,null,null,null,null,null,null,6966]
[6,69,696,6967,"Compras y Gastos","Pérdidas por deterioro y otras dotaciones","Pérdidas por deterioro en valores representativos de deuda a largo plazo, otras partes vinculadas","Pérdidas por deterioro en valores representativos de deuda a largo plazo, otras partes vinculadas",null,null,null,null,null,null,null,null,null,6967]
[6,69,696,6968,"Compras y Gastos","Pérdidas por deterioro y otras dotaciones","Pérdidas por deterioro en valores representativos de deuda a largo plazo, otras empresas","Pérdidas por deterioro en valores representativos de deuda a largo plazo, otras empresas",null,null,null,null,null,null,null,null,null,6968]
[6,69,697,6970,"Compras y Gastos","Pérdidas por deterioro y otras dotaciones","Pérdidas por deterioro de créditos a largo plazo","Pérdidas por deterioro de créditos a largo plazo, empresas del grupo",null,null,null,null,null,null,null,null,null,6970]
[6,69,697,6971,"Compras y Gastos","Pérdidas por deterioro y otras dotaciones","Pérdidas por deterioro de créditos a largo plazo, empresas asociadas","Pérdidas por deterioro de créditos a largo plazo, empresas asociadas",null,null,null,null,null,null,null,null,null,6971]
[6,69,697,6972,"Compras y Gastos","Pérdidas por deterioro y otras dotaciones","Pérdidas por deterioro de créditos a largo plazo, otras partes vinculadas","Pérdidas por deterioro de créditos a largo plazo, otras partes vinculadas",null,null,null,null,null,null,null,null,null,6972]
[6,69,697,6973,"Compras y Gastos","Pérdidas por deterioro y otras dotaciones","Pérdidas por deterioro de créditos a largo plazo, otras empresas","Pérdidas por deterioro de créditos a largo plazo, otras empresas",null,null,null,null,null,null,null,null,null,6973]
[6,69,698,6980,"Compras y Gastos","Pérdidas por deterioro y otras dotaciones","Pérdidas por deterioro de participaciones y valores representativos de deuda a corto plazo","Pérdidas por deterioro de participaciones en instrumentos de patrimonio neto a corto plazo, empresas del grupo",null,null,null,null,null,null,null,null,null,6980]
[6,69,698,6981,"Compras y Gastos","Pérdidas por deterioro y otras dotaciones","Pérdidas por deterioro de participaciones en instrumentos de patrimonio neto a corto plazo,, empresas asociadas","Pérdidas por deterioro de participaciones en instrumentos de patrimonio neto a corto plazo,, empresas asociadas",null,null,null,null,null,null,null,null,null,6981]
[6,69,698,6985,"Compras y Gastos","Pérdidas por deterioro y otras dotaciones","Pérdidas por deterioro en valores representativos de deuda a corto plazo, empresas del grupo","Pérdidas por deterioro en valores representativos de deuda a corto plazo, empresas del grupo",null,null,null,null,null,null,null,null,null,6985]
[6,69,698,6986,"Compras y Gastos","Pérdidas por deterioro y otras dotaciones","Pérdidas por deterioro en valores representativos de deuda a corto plazo, empresas asociadas","Pérdidas por deterioro en valores representativos de deuda a corto plazo, empresas asociadas",null,null,null,null,null,null,null,null,null,6986]
[6,69,698,6987,"Compras y Gastos","Pérdidas por deterioro y otras dotaciones","Pérdidas por deterioro en valores representativos de deuda a corto plazo, otras partes vinculadas","Pérdidas por deterioro en valores representativos de deuda a corto plazo, otras partes vinculadas",null,null,null,null,null,null,null,null,null,6987]
[6,69,698,6988,"Compras y Gastos","Pérdidas por deterioro y otras dotaciones","Pérdidas por deterioro en valores representativos de deuda a corto plazo, de otras empresas","Pérdidas por deterioro en valores representativos de deuda a corto plazo, de otras empresas",null,null,null,null,null,null,null,null,null,6988]
[6,69,699,6990,"Compras y Gastos","Pérdidas por deterioro y otras dotaciones","Pérdidas por deterioro de créditos a corto plazo","Pérdidas por deterioro de créditos a corto plazo, empresas del grupo",null,null,null,null,null,null,null,null,null,6990]
[6,69,699,6991,"Compras y Gastos","Pérdidas por deterioro y otras dotaciones","Pérdidas por deterioro de créditos a corto plazo, empresas asociadas","Pérdidas por deterioro de créditos a corto plazo, empresas asociadas",null,null,null,null,null,null,null,null,null,6991]
[6,69,699,6992,"Compras y Gastos","Pérdidas por deterioro y otras dotaciones","Pérdidas por deterioro de créditos a corto plazo, otras partes vinculadas","Pérdidas por deterioro de créditos a corto plazo, otras partes vinculadas",null,null,null,null,null,null,null,null,null,6992]
[6,69,699,6993,"Compras y Gastos","Pérdidas por deterioro y otras dotaciones","Pérdidas por deterioro de créditos a corto plazo, otras empresas","Pérdidas por deterioro de créditos a corto plazo, otras empresas",null,null,null,null,null,null,null,null,null,6993]
[7,70,700,7000,"Ventas e ingresos","Ventas de mercaderías, de producción propia, de servicios, etc.","Ventas de mercaderías","Ventas de mercaderías",null,null,null,null,null,null,null,null,null,7000]
[7,70,700,7001,"Ventas e ingresos","Ventas de mercaderías, de producción propia, de servicios, etc.","Ventas de mercaderías","Ventas de mercaderías",null,null,null,null,null,null,null,null,null,7001]
[7,70,700,7002,"Ventas e ingresos","Ventas de mercaderías, de producción propia, de servicios, etc.","Ventas de mercaderías","Ventas de mercaderías",null,null,null,null,null,null,null,null,null,7002]
[7,70,700,7003,"Ventas e ingresos","Ventas de mercaderías, de producción propia, de servicios, etc.","Ventas de mercaderías","Ventas de mercaderías",null,null,null,null,null,null,null,null,null,7003]
[7,70,700,7004,"Ventas e ingresos","Ventas de mercaderías, de producción propia, de servicios, etc.","Ventas de mercaderías","Ventas de mercaderías",null,null,null,null,null,null,null,null,null,7004]
[7,70,700,7005,"Ventas e ingresos","Ventas de mercaderías, de producción propia, de servicios, etc.","Ventas de mercaderías","Ventas de mercaderías",null,null,null,null,null,null,null,null,null,7005]
[7,70,701,7010,"Ventas e ingresos","Ventas de mercaderías, de producción propia, de servicios, etc.","Ventras de productos terminados","Ventras de productos terminados",null,null,null,null,null,null,null,null,null,7010]
[7,70,702,7020,"Ventas e ingresos","Ventas de mercaderías, de producción propia, de servicios, etc.","Ventras de productos semiterminados","Ventras de productos semiterminados",null,null,null,null,null,null,null,null,null,7020]
[7,70,703,7030,"Ventas e ingresos","Ventas de mercaderías, de producción propia, de servicios, etc.","Ventas de subproductos y residuos","Ventas de subproductos y residuos",null,null,null,null,null,null,null,null,null,7030]
[7,70,704,7040,"Ventas e ingresos","Ventas de mercaderías, de producción propia, de servicios, etc.","Ventas de envases y embalajes","Ventas de envases y embalajes",null,null,null,null,null,null,null,null,null,7040]
[7,70,705,7050,"Ventas e ingresos","Ventas de mercaderías, de producción propia, de servicios, etc.","Prestaciones de servicios","Prestaciones de servicios",null,null,null,null,null,null,null,null,null,7050]
[7,70,705,7051,"Ventas e ingresos","Ventas de mercaderías, de producción propia, de servicios, etc.","Prestaciones de servicios","Prestaciones de servicios",null,null,null,null,null,null,null,null,null,7051]
[7,70,705,7052,"Ventas e ingresos","Ventas de mercaderías, de producción propia, de servicios, etc.","Prestaciones de servicios","Prestaciones de servicios",null,null,null,null,null,null,null,null,null,7052]
[7,70,706,7060,"Ventas e ingresos","Ventas de mercaderías, de producción propia, de servicios, etc.","Descuentos sobre ventas por pronto pago","Descuentos sobre ventas por pronto pago de mercaderías",null,null,null,null,null,null,null,null,null,7060]
[7,70,706,7061,"Ventas e ingresos","Ventas de mercaderías, de producción propia, de servicios, etc.","Descuentos sobre ventas por pronto pago de productos terminados","Descuentos sobre ventas por pronto pago de productos terminados",null,null,null,null,null,null,null,null,null,7061]
[7,70,706,7062,"Ventas e ingresos","Ventas de mercaderías, de producción propia, de servicios, etc.","Descuentos sobre ventas por pronto pago de productos semiterminados","Descuentos sobre ventas por pronto pago de productos semiterminados",null,null,null,null,null,null,null,null,null,7062]
[7,70,706,7063,"Ventas e ingresos","Ventas de mercaderías, de producción propia, de servicios, etc.","Descuentos sobre ventas por pronto pago de subproductos y residuos","Descuentos sobre ventas por pronto pago de subproductos y residuos",null,null,null,null,null,null,null,null,null,7063]
[7,70,708,7080,"Ventas e ingresos","Ventas de mercaderías, de producción propia, de servicios, etc.","Devoluciones de ventas y operaciones similares","Devoluciones de ventas de mercaderías",null,null,null,null,null,null,null,null,null,7080]
[7,70,708,7081,"Ventas e ingresos","Ventas de mercaderías, de producción propia, de servicios, etc.","Devoluciones de ventas de productos terminados","Devoluciones de ventas de productos terminados",null,null,null,null,null,null,null,null,null,7081]
[7,70,708,7082,"Ventas e ingresos","Ventas de mercaderías, de producción propia, de servicios, etc.","Devoluciones de ventas de productos semiterminados","Devoluciones de ventas de productos semiterminados",null,null,null,null,null,null,null,null,null,7082]
[7,70,708,7083,"Ventas e ingresos","Ventas de mercaderías, de producción propia, de servicios, etc.","Devoluciones de ventas de subproductos y residuos","Devoluciones de ventas de subproductos y residuos",null,null,null,null,null,null,null,null,null,7083]
[7,70,708,7084,"Ventas e ingresos","Ventas de mercaderías, de producción propia, de servicios, etc.","Devoluciones de ventas de envases y embalajes","Devoluciones de ventas de envases y embalajes",null,null,null,null,null,null,null,null,null,7084]
[7,70,709,7090,"Ventas e ingresos","Ventas de mercaderías, de producción propia, de servicios, etc.","\"Rappels\" sobre ventas","\"Rappels\" sobre ventas de mercaderías",null,null,null,null,null,null,null,null,null,7090]
[7,70,709,7091,"Ventas e ingresos","Ventas de mercaderías, de producción propia, de servicios, etc.","\"Rappels\" sobre ventas de productos terminados","\"Rappels\" sobre ventas de productos terminados",null,null,null,null,null,null,null,null,null,7091]
[7,70,709,7092,"Ventas e ingresos","Ventas de mercaderías, de producción propia, de servicios, etc.","\"Rappels\" sobre ventas de productos semiterminados","\"Rappels\" sobre ventas de productos semiterminados",null,null,null,null,null,null,null,null,null,7092]
[7,70,709,7093,"Ventas e ingresos","Ventas de mercaderías, de producción propia, de servicios, etc.","\"Rappels\" sobre ventas de subproductos y residuos","\"Rappels\" sobre ventas de subproductos y residuos",null,null,null,null,null,null,null,null,null,7093]
[7,70,709,7094,"Ventas e ingresos","Ventas de mercaderías, de producción propia, de servicios, etc.","\"Rappels\" sobre ventas de envases y embalajes","\"Rappels\" sobre ventas de envases y embalajes",null,null,null,null,null,null,null,null,null,7094]
[7,71,710,7100,"Ventas e ingresos","Variacioón de existencias","Variación de existencias de productos en curso","Variación de existencias de productos en curso",null,null,null,null,null,null,null,null,null,7100]
[7,71,711,7110,"Ventas e ingresos","Variacioón de existencias","Variación de existencias de productos semiterminados","Variación de existencias de productos semiterminados",null,null,null,null,null,null,null,null,null,7110]
[7,71,712,7120,"Ventas e ingresos","Variacioón de existencias","Variación de existencias de productos terminados","Variación de existencias de productos terminados",null,null,null,null,null,null,null,null,null,7120]
[7,71,713,7130,"Ventas e ingresos","Variacioón de existencias","Variaciónde existencias de subproductos, residuos y materiales recuperados","Variaciónde existencias de subproductos, residuos y materiales recuperados",null,null,null,null,null,null,null,null,null,7130]
[7,73,730,7300,"Ventas e ingresos","Trabajos realizados para la empresa","Trabajos realizados para el inmovilizado intangible","Trabajos realizados para el inmovilizado intangible",null,null,null,null,null,null,null,null,null,7300]
[7,73,731,7310,"Ventas e ingresos","Trabajos realizados para la empresa","Trabajos realizados para el inmovilizado material","Trabajos realizados para el inmovilizado material",null,null,null,null,null,null,null,null,null,7310]
[7,73,732,7320,"Ventas e ingresos","Trabajos realizados para la empresa","Trabajos realizados en inversiones inmobiliarias","Trabajos realizados en inversiones inmobiliarias",null,null,null,null,null,null,null,null,null,7320]
[7,73,733,7330,"Ventas e ingresos","Trabajos realizados para la empresa","Trabajos realizados para el inmovilizado en curso","Trabajos realizados para el inmovilizado en curso",null,null,null,null,null,null,null,null,null,7330]
[7,74,740,7400,"Ventas e ingresos","Subvenciones, donaciones y legados","Subvenciones, donaciones y legados a la explotación","Subvenciones, donaciones y legados a la explotación",null,null,null,null,null,null,null,null,null,7400]
[7,74,746,7460,"Ventas e ingresos","Subvenciones, donaciones y legados","Subvenciones, donaciones y legados de capital transferidos al resultado del ejercicio","Subvenciones, donaciones y legados de capital transferidos al resultado del ejercicio",null,null,null,null,null,null,null,null,null,7460]
[7,74,747,7470,"Ventas e ingresos","Subvenciones, donaciones y legados","Otras subvenciones, donaciones y legados transferidos al resultado del ejercicio.","Otras subvenciones, donaciones y legados transferidos al resultado del ejercicio.",null,null,null,null,null,null,null,null,null,7470]
[7,75,751,7510,"Ventas e ingresos","Otros ingresos de gestión","Resultados de operaciones en común","Pérdida transferida (gestor)",null,null,null,null,null,null,null,null,null,7510]
[7,75,751,7511,"Ventas e ingresos","Otros ingresos de gestión","Beneficio atribuido (partícipe o asociado no gestor)","Beneficio atribuido (partícipe o asociado no gestor)",null,null,null,null,null,null,null,null,null,7511]
[7,75,752,7520,"Ventas e ingresos","Otros ingresos de gestión","Ingresos por arrendamientos","Ingresos por arrendamientos",null,null,null,null,null,null,null,null,null,7520]
[7,75,753,7530,"Ventas e ingresos","Otros ingresos de gestión","Ingresos de propiedad industrial cedida en explotación","Ingresos de propiedad industrial cedida en explotación",null,null,null,null,null,null,null,null,null,7530]
[7,75,754,7540,"Ventas e ingresos","Otros ingresos de gestión","Ingresos por comisiones","Ingresos por comisiones",null,null,null,null,null,null,null,null,null,7540]
[7,75,755,7550,"Ventas e ingresos","Otros ingresos de gestión","Ingresos por servicios al personal","Ingresos por servicios al personal",null,null,null,null,null,null,null,null,null,7550]
[7,75,759,7590,"Ventas e ingresos","Otros ingresos de gestión","Ingresos por servicios diversos","Ingresos por servicios diversos",null,null,null,null,null,null,null,null,null,7590]
[7,76,760,7600,"Ventas e ingresos","Ingresos financieros","Ingresos de participaciones en instrumentos de patrimonio","Ingresos de participaciones en instrumentos de patrimonio, empresas del grupo",null,null,null,null,null,null,null,null,null,7600]
[7,76,760,7601,"Ventas e ingresos","Ingresos financieros","Ingresos de participaciones en instrumentos de patrimonio, empresas asociadas","Ingresos de participaciones en instrumentos de patrimonio, empresas asociadas",null,null,null,null,null,null,null,null,null,7601]
[7,76,760,7602,"Ventas e ingresos","Ingresos financieros","Ingresos de participaciones en instrumentos de patrimonio, otras partes vinculadas","Ingresos de participaciones en instrumentos de patrimonio, otras partes vinculadas",null,null,null,null,null,null,null,null,null,7602]
[7,76,760,7603,"Ventas e ingresos","Ingresos financieros","Ingresos de participaciones en instrumentos de patrimonio, otras empresas","Ingresos de participaciones en instrumentos de patrimonio, otras empresas",null,null,null,null,null,null,null,null,null,7603]
[7,76,761,7610,"Ventas e ingresos","Ingresos financieros","Ingresos de valores representativos de deuda","Ingresos de valores representatios de deuda, empresas del grupo",null,null,null,null,null,null,null,null,null,7610]
[7,76,761,7611,"Ventas e ingresos","Ingresos financieros","Ingresos de valores representatios de deuda, empresas asociadas","Ingresos de valores representatios de deuda, empresas asociadas",null,null,null,null,null,null,null,null,null,7611]
[7,76,761,7612,"Ventas e ingresos","Ingresos financieros","Ingresos de valores representatios de deuda, otras partes vinculadas","Ingresos de valores representatios de deuda, otras partes vinculadas",null,null,null,null,null,null,null,null,null,7612]
[7,76,761,7613,"Ventas e ingresos","Ingresos financieros","Ingresos de valores representatios de deuda, otras empresas","Ingresos de valores representatios de deuda, otras empresas",null,null,null,null,null,null,null,null,null,7613]
[7,76,762,7620,"Ventas e ingresos","Ingresos financieros","Ingresos de créditos","Ingresos de créditos a largo plazo",null,null,null,null,null,null,null,null,null,7620]
[7,76,762,7621,"Ventas e ingresos","Ingresos financieros","Ingresos de créditos a corto plazo","Ingresos de créditos a corto plazo",null,null,null,null,null,null,null,null,null,7621]
[7,76,763,7630,"Ventas e ingresos","Ingresos financieros","Beneficios por valoración de instrumentos financieros por su valor razonable","Beneficios de cartera de negociación",null,null,null,null,null,null,null,null,null,7630]
[7,76,763,7631,"Ventas e ingresos","Ingresos financieros","Beneficios de designados por la empresa","Beneficios de designados por la empresa",null,null,null,null,null,null,null,null,null,7631]
[7,76,763,7632,"Ventas e ingresos","Ingresos financieros","Beneficios de disponibles para la venta","Beneficios de disponibles para la venta",null,null,null,null,null,null,null,null,null,7632]
[7,76,763,7633,"Ventas e ingresos","Ingresos financieros","Beneficios de instrumentos de cobertura","Beneficios de instrumentos de cobertura",null,null,null,null,null,null,null,null,null,7633]
[7,76,766,7660,"Ventas e ingresos","Ingresos financieros","Beneficios en participaciones y valores representativos de deuda","Beneficios en valores representativos de deuda a largo plazo, empresas del grupo",null,null,null,null,null,null,null,null,null,7660]
[7,76,766,7661,"Ventas e ingresos","Ingresos financieros","Beneficios en valores representativos de deuda a largo plazo, empresas asociadas","Beneficios en valores representativos de deuda a largo plazo, empresas asociadas",null,null,null,null,null,null,null,null,null,7661]
[7,76,766,7662,"Ventas e ingresos","Ingresos financieros","Beneficios en valores representativos de deuda a largo plazo, otras partes vinculadas","Beneficios en valores representativos de deuda a largo plazo, otras partes vinculadas",null,null,null,null,null,null,null,null,null,7662]
[7,76,766,7663,"Ventas e ingresos","Ingresos financieros","Beneficios en participaciones y valores representativos de deuda a largo plazo, otras empresas","Beneficios en participaciones y valores representativos de deuda a largo plazo, otras empresas",null,null,null,null,null,null,null,null,null,7663]
[7,76,766,7665,"Ventas e ingresos","Ingresos financieros","Beneficios en participaciones y valores representativos de deuda a corto plazo, empresas del grupo","Beneficios en participaciones y valores representativos de deuda a corto plazo, empresas del grupo",null,null,null,null,null,null,null,null,null,7665]
[7,76,766,7666,"Ventas e ingresos","Ingresos financieros","Beneficios en participaciones y valores representativos de deuda a corto plazo, empresas vinculadas","Beneficios en participaciones y valores representativos de deuda a corto plazo, empresas vinculadas",null,null,null,null,null,null,null,null,null,7666]
[7,76,766,7667,"Ventas e ingresos","Ingresos financieros","Beneficios en valores representativos de deuda a corto plazo, otras partes vinculadas","Beneficios en valores representativos de deuda a corto plazo, otras partes vinculadas",null,null,null,null,null,null,null,null,null,7667]
[7,76,766,7668,"Ventas e ingresos","Ingresos financieros","Beneficios en valores representativos de deuda a corto plazo, otras empresas","Beneficios en valores representativos de deuda a corto plazo, otras empresas",null,null,null,null,null,null,null,null,null,7668]
[7,76,767,7670,"Ventas e ingresos","Ingresos financieros","Ingresos de activos afectos y de derechos de reembolso relativos a retribuciones a largo plazo","Ingresos de activos afectos y de derechos de reembolso relativos a retribuciones a largo plazo",null,null,null,null,null,null,null,null,null,7670]
[7,76,768,7680,"Ventas e ingresos","Ingresos financieros","Diferencias positivas de cambio","Diferencias positivas de cambio",null,null,null,null,null,null,null,null,null,7680]
[7,76,769,7690,"Ventas e ingresos","Ingresos financieros","Otros ingresos financieros","Otros ingresos financieros",null,null,null,null,null,null,null,null,null,7690]
[7,76,769,7691,"Ventas e ingresos","Ingresos financieros","Otros ingresos financieros","Otros ingresos financieros",null,null,null,null,null,null,null,null,null,7691]
[7,77,770,7700,"Ventas e ingresos","Beneficios procedentes de activos no corrientes e ingresos excepcionales","Beneficios procedentes del inmovilizado intangible","Beneficios procedentes del inmovilizado intangible",null,null,null,null,null,null,null,null,null,7700]
[7,77,771,7710,"Ventas e ingresos","Beneficios procedentes de activos no corrientes e ingresos excepcionales","Beneficios procedentes del inmovilizado material","Beneficios procedentes del inmovilizado material",null,null,null,null,null,null,null,null,null,7710]
[7,77,772,7720,"Ventas e ingresos","Beneficios procedentes de activos no corrientes e ingresos excepcionales","Beneficios procedentes de las inversiones inmobiliarias","Beneficios procedentes de las inversiones inmobiliarias",null,null,null,null,null,null,null,null,null,7720]
[7,77,773,7730,"Ventas e ingresos","Beneficios procedentes de activos no corrientes e ingresos excepcionales","Beneficios procedentes de participaciones...","Beneficios procedentes de participaciones...",null,null,null,null,null,null,null,null,null,7730]
[7,77,773,7733,"Ventas e ingresos","Beneficios procedentes de activos no corrientes e ingresos excepcionales","Beneficios procedentes de participaciones a largo plazo, empresas del grupo","Beneficios procedentes de participaciones a largo plazo, empresas del grupo",null,null,null,null,null,null,null,null,null,7733]
[7,77,773,7734,"Ventas e ingresos","Beneficios procedentes de activos no corrientes e ingresos excepcionales","Beneficios procedentes de participaciones a largo plazo, empresas asociadas","Beneficios procedentes de participaciones a largo plazo, empresas asociadas",null,null,null,null,null,null,null,null,null,7734]
[7,77,773,7735,"Ventas e ingresos","Beneficios procedentes de activos no corrientes e ingresos excepcionales","Beneficios procedentes de participaciones a largo plazo, otras partes vinculadas","Beneficios procedentes de participaciones a largo plazo, otras partes vinculadas",null,null,null,null,null,null,null,null,null,7735]
[7,77,774,7740,"Ventas e ingresos","Beneficios procedentes de activos no corrientes e ingresos excepcionales","Diferencia negativa en combinaciones de negocios","Diferencia negativa en combinaciones de negocios",null,null,null,null,null,null,null,null,null,7740]
[7,77,775,7750,"Ventas e ingresos","Beneficios procedentes de activos no corrientes e ingresos excepcionales","Beneficios por operaciones con obligaciones propias","Beneficios por operaciones con obligaciones propias",null,null,null,null,null,null,null,null,null,7750]
[7,77,778,7780,"Ventas e ingresos","Beneficios procedentes de activos no corrientes e ingresos excepcionales","Ingresos excepcionales","Ingresos excepcionales",null,null,null,null,null,null,null,null,null,7780]
[7,77,778,7781,"Ventas e ingresos","Beneficios procedentes de activos no corrientes e ingresos excepcionales","Ingresos excepcionales","Ingresos excepcionales",null,null,null,null,null,null,null,null,null,7781]
[7,79,790,7900,"Ventas e ingresos","Excesos y aplicaciones de provisiones y de pérdidas por deterioro","Reversión del deterioro del inmovilizado intangible","Reversión del deterioro del inmovilizado intangible",null,null,null,null,null,null,null,null,null,7900]
[7,79,791,7910,"Ventas e ingresos","Excesos y aplicaciones de provisiones y de pérdidas por deterioro","Reversión del deterioro del inmovilizado material","Reversión del deterioro del inmovilizado material",null,null,null,null,null,null,null,null,null,7910]
[7,79,792,7920,"Ventas e ingresos","Excesos y aplicaciones de provisiones y de pérdidas por deterioro","Reversión del deterioro de las inversiones inmobiliarias","Reversión del deterioro de las inversiones inmobiliarias",null,null,null,null,null,null,null,null,null,7920]
[7,79,793,7930,"Ventas e ingresos","Excesos y aplicaciones de provisiones y de pérdidas por deterioro","Reversión del deterioro de existencias","Reversión del deterioro de productos terminados y en curso de fabricación",null,null,null,null,null,null,null,null,null,7930]
[7,79,793,7931,"Ventas e ingresos","Excesos y aplicaciones de provisiones y de pérdidas por deterioro","Reversión del deterioro de mercaderías","Reversión del deterioro de mercaderías",null,null,null,null,null,null,null,null,null,7931]
[7,79,793,7932,"Ventas e ingresos","Excesos y aplicaciones de provisiones y de pérdidas por deterioro","Reversión del deterioro de materias primas","Reversión del deterioro de materias primas",null,null,null,null,null,null,null,null,null,7932]
[7,79,793,7933,"Ventas e ingresos","Excesos y aplicaciones de provisiones y de pérdidas por deterioro","Reversión del deterioro de otros aprovisionamientos","Reversión del deterioro de otros aprovisionamientos",null,null,null,null,null,null,null,null,null,7933]
[7,79,794,7940,"Ventas e ingresos","Excesos y aplicaciones de provisiones y de pérdidas por deterioro","Reversión del deterioro de créditos comerciales","Reversión del deterioro de créditos comerciales",null,null,null,null,null,null,null,null,null,7940]
[7,79,795,7950,"Ventas e ingresos","Excesos y aplicaciones de provisiones y de pérdidas por deterioro","Exceso de provisiones","Exceso de provisión por retribuciones al personal",null,null,null,null,null,null,null,null,null,7950]
[7,79,795,7951,"Ventas e ingresos","Excesos y aplicaciones de provisiones y de pérdidas por deterioro","Exceso de provisión para impuestos","Exceso de provisión para impuestos",null,null,null,null,null,null,null,null,null,7951]
[7,79,795,7952,"Ventas e ingresos","Excesos y aplicaciones de provisiones y de pérdidas por deterioro","Exceso de provisión para otras responsabilidades","Exceso de provisión para otras responsabilidades",null,null,null,null,null,null,null,null,null,7952]
[7,79,795,7954,"Ventas e ingresos","Excesos y aplicaciones de provisiones y de pérdidas por deterioro","Exceso de provisión por operaciones comerciales","Exceso de provisión por operaciones comerciales",null,null,null,null,null,null,null,null,null,7954]
[7,79,795,7955,"Ventas e ingresos","Excesos y aplicaciones de provisiones y de pérdidas por deterioro","Exceso de provisión para actuaciones mediambientales","Exceso de provisión para actuaciones mediambientales",null,null,null,null,null,null,null,null,null,7955]
[7,79,795,7956,"Ventas e ingresos","Excesos y aplicaciones de provisiones y de pérdidas por deterioro","Exceso de provisión para reestructuraciones","Exceso de provisión para reestructuraciones",null,null,null,null,null,null,null,null,null,7956]
[7,79,795,7957,"Ventas e ingresos","Excesos y aplicaciones de provisiones y de pérdidas por deterioro","Exceso de provisión por transacciones con pagos basados en instrumentos de patrimonio","Exceso de provisión por transacciones con pagos basados en instrumentos de patrimonio",null,null,null,null,null,null,null,null,null,7957]
[7,79,796,7960,"Ventas e ingresos","Excesos y aplicaciones de provisiones y de pérdidas por deterioro","Reversión del deterioro de participaciones y valores representativos de deuda a largo plazo","Reversión del deterioro de participaciones en instrumentos de patrimonio neto a largo plazo, empresas del grupo",null,null,null,null,null,null,null,null,null,7960]
[7,79,796,7961,"Ventas e ingresos","Excesos y aplicaciones de provisiones y de pérdidas por deterioro","Reversión del deterioro de participaciones en instrumentos de patrimonio neto a largo plazo, empresas asociadas","Reversión del deterioro de participaciones en instrumentos de patrimonio neto a largo plazo, empresas asociadas",null,null,null,null,null,null,null,null,null,7961]
[7,79,796,7965,"Ventas e ingresos","Excesos y aplicaciones de provisiones y de pérdidas por deterioro","Reversión del deterioro de valores representativos de deuda a largo plazo, empresas del grupo","Reversión del deterioro de valores representativos de deuda a largo plazo, empresas del grupo",null,null,null,null,null,null,null,null,null,7965]
[7,79,796,7966,"Ventas e ingresos","Excesos y aplicaciones de provisiones y de pérdidas por deterioro","Reversión del deterioro de valores representativos de deuda a largo plazo, empresas asociadas","Reversión del deterioro de valores representativos de deuda a largo plazo, empresas asociadas",null,null,null,null,null,null,null,null,null,7966]
[7,79,796,7967,"Ventas e ingresos","Excesos y aplicaciones de provisiones y de pérdidas por deterioro","Reversión del deterioro de valores representativos de deuda a largo plazo, otras partes vinculadas","Reversión del deterioro de valores representativos de deuda a largo plazo, otras partes vinculadas",null,null,null,null,null,null,null,null,null,7967]
[7,79,796,7968,"Ventas e ingresos","Excesos y aplicaciones de provisiones y de pérdidas por deterioro","Reversión del deterioro de valores representativos de deuda a largo plazo, otras empresas","Reversión del deterioro de valores representativos de deuda a largo plazo, otras empresas",null,null,null,null,null,null,null,null,null,7968]
[7,79,797,7970,"Ventas e ingresos","Excesos y aplicaciones de provisiones y de pérdidas por deterioro","Reversión del deterioro de créditos a largo plazo","Reversión del deterioro de créditos a largo plazo, empresas del grupo",null,null,null,null,null,null,null,null,null,7970]
[7,79,797,7971,"Ventas e ingresos","Excesos y aplicaciones de provisiones y de pérdidas por deterioro","Reversión del deterioro de créditos a largo plazo, empresas asociadas","Reversión del deterioro de créditos a largo plazo, empresas asociadas",null,null,null,null,null,null,null,null,null,7971]
[7,79,797,7972,"Ventas e ingresos","Excesos y aplicaciones de provisiones y de pérdidas por deterioro","Reversión del deterioro de créditos a largo plazo, otras partes vinculadas","Reversión del deterioro de créditos a largo plazo, otras partes vinculadas",null,null,null,null,null,null,null,null,null,7972]
[7,79,797,7973,"Ventas e ingresos","Excesos y aplicaciones de provisiones y de pérdidas por deterioro","Reversión del deterioro de créditos a largo plazo, otras empresas","Reversión del deterioro de créditos a largo plazo, otras empresas",null,null,null,null,null,null,null,null,null,7973]
[7,79,798,7980,"Ventas e ingresos","Excesos y aplicaciones de provisiones y de pérdidas por deterioro","Reversión del deterioro de participaciones y valores representativos de deuda a corto plazo","Reversión del deterioro de participaciones en instrumentos de patrimonio neto a corto plazo, empresas del grupo",null,null,null,null,null,null,null,null,null,7980]
[7,79,798,7981,"Ventas e ingresos","Excesos y aplicaciones de provisiones y de pérdidas por deterioro","Reversión del deterioro de participaciones en instrumentos de patrimonio neto a corto plazo, empresas asociadas","Reversión del deterioro de participaciones en instrumentos de patrimonio neto a corto plazo, empresas asociadas",null,null,null,null,null,null,null,null,null,7981]
[7,79,798,7985,"Ventas e ingresos","Excesos y aplicaciones de provisiones y de pérdidas por deterioro","Reversión del deterioro en valores representativos de deuda a corto plazo, empresas del gupo","Reversión del deterioro en valores representativos de deuda a corto plazo, empresas del gupo",null,null,null,null,null,null,null,null,null,7985]
[7,79,798,7986,"Ventas e ingresos","Excesos y aplicaciones de provisiones y de pérdidas por deterioro","Reversión del deterioro en valores representativos de deuda a corto plazo, empresas asociadas","Reversión del deterioro en valores representativos de deuda a corto plazo, empresas asociadas",null,null,null,null,null,null,null,null,null,7986]
[7,79,798,7987,"Ventas e ingresos","Excesos y aplicaciones de provisiones y de pérdidas por deterioro","Reversión del deterioro en valores representativos de deuda a corto plazo, otras partes vinculadas","Reversión del deterioro en valores representativos de deuda a corto plazo, otras partes vinculadas",null,null,null,null,null,null,null,null,null,7987]
[7,79,798,7988,"Ventas e ingresos","Excesos y aplicaciones de provisiones y de pérdidas por deterioro","Reversión del deterioro en valores representativos de deuda a corto plazo, otras empresas","Reversión del deterioro en valores representativos de deuda a corto plazo, otras empresas",null,null,null,null,null,null,null,null,null,7988]
[7,79,799,7990,"Ventas e ingresos","Excesos y aplicaciones de provisiones y de pérdidas por deterioro","Reversión del deterioro de créditos a corto plazo","Reversión del deterioro de créditos a corto plazo, empresas del grupo",null,null,null,null,null,null,null,null,null,7990]
[7,79,799,7991,"Ventas e ingresos","Excesos y aplicaciones de provisiones y de pérdidas por deterioro","Reversión del deterioro de créditos a corto plazo, empresas asociadas","Reversión del deterioro de créditos a corto plazo, empresas asociadas",null,null,null,null,null,null,null,null,null,7991]
[7,79,799,7992,"Ventas e ingresos","Excesos y aplicaciones de provisiones y de pérdidas por deterioro","Reversión del deterioro de créditos a corto plazo, otras partes vinculadas","Reversión del deterioro de créditos a corto plazo, otras partes vinculadas",null,null,null,null,null,null,null,null,null,7992]
[7,79,799,7993,"Ventas e ingresos","Excesos y aplicaciones de provisiones y de pérdidas por deterioro","Reversión del deterioro de créditos a corto plazo, otras empresas","Reversión del deterioro de créditos a corto plazo, otras empresas",null,null,null,null,null,null,null,null,null,7993]
[8,80,800,8000,"Gastos imputados al patrimonio neto","Gastos financieros por valoración de activos y pasivos","Pérdidas en activos financieros disponibles para la venta","Pérdidas en activos financieros disponibles para la venta",null,null,null,null,null,null,null,null,null,8000]
[8,80,802,8020,"Gastos imputados al patrimonio neto","Gastos financieros por valoración de activos y pasivos","Transferencia de beneficios en activos financieros disponibles para la venta","Transferencia de beneficios en activos financieros disponibles para la venta",null,null,null,null,null,null,null,null,null,8020]
[8,81,810,8100,"Gastos imputados al patrimonio neto","Gastos en operaciones de cobertura","Pérdidas por coberturas de flujos de efectivo","Pérdidas por coberturas de flujos de efectivo",null,null,null,null,null,null,null,null,null,8100]
[8,81,811,8110,"Gastos imputados al patrimonio neto","Gastos en operaciones de cobertura","Pérdidas por coberturas de inversiones netas en el extranjero","Pérdidas por coberturas de inversiones netas en el extranjero",null,null,null,null,null,null,null,null,null,8110]
[8,81,812,8120,"Gastos imputados al patrimonio neto","Gastos en operaciones de cobertura","Transferencia de beneficios por coberturas de flujos de efectivo","Transferencia de beneficios por coberturas de flujos de efectivo",null,null,null,null,null,null,null,null,null,8120]
[8,81,813,8130,"Gastos imputados al patrimonio neto","Gastos en operaciones de cobertura","Transferencia de beneficios por coberturas de inversiones netas en un negocio en el extranjero","Transferencia de beneficios por coberturas de inversiones netas en un negocio en el extranjero",null,null,null,null,null,null,null,null,null,8130]
[8,82,820,8200,"Gastos imputados al patrimonio neto","Gastos por diferencias de conversión","Diferencias de conversión negativas","Diferencias de conversión negativas",null,null,null,null,null,null,null,null,null,8200]
[8,82,821,8210,"Gastos imputados al patrimonio neto","Gastos por diferencias de conversión","Transferencia de diferencias de conversión positivas","Transferencia de diferencias de conversión positivas",null,null,null,null,null,null,null,null,null,8210]
[8,83,830,8300,"Gastos imputados al patrimonio neto","Impuesto sobre beneficios","Impuestos sobre beneficios","Impuesto corriente",null,null,null,null,null,null,null,null,null,8300]
[8,83,830,8301,"Gastos imputados al patrimonio neto","Impuesto sobre beneficios","Impuesto diferido","Impuesto diferido",null,null,null,null,null,null,null,null,null,8301]
[8,83,833,8330,"Gastos imputados al patrimonio neto","Impuesto sobre beneficios","Ajustes negativos en la imposición sobre beneficios","Ajustes negativos en la imposición sobre beneficios",null,null,null,null,null,null,null,null,null,8330]
[8,83,834,8340,"Gastos imputados al patrimonio neto","Impuesto sobre beneficios","Ingresos fiscales por diferencias permanentes","Ingresos fiscales por diferencias permanentes",null,null,null,null,null,null,null,null,null,8340]
[8,83,835,8350,"Gastos imputados al patrimonio neto","Impuesto sobre beneficios","Ingresos fiscales por deducciones y bonificaciones","Ingresos fiscales por deducciones y bonificaciones",null,null,null,null,null,null,null,null,null,8350]
[8,83,836,8360,"Gastos imputados al patrimonio neto","Impuesto sobre beneficios","Transferencia de diferencias permanentes","Transferencia de diferencias permanentes",null,null,null,null,null,null,null,null,null,8360]
[8,83,837,8370,"Gastos imputados al patrimonio neto","Impuesto sobre beneficios","Transferencia de deducciones y bonificaciones","Transferencia de deducciones y bonificaciones",null,null,null,null,null,null,null,null,null,8370]
[8,83,838,8380,"Gastos imputados al patrimonio neto","Impuesto sobre beneficios","Ajustes positivos en la imposición sobre beneficios","Ajustes positivos en la imposición sobre beneficios",null,null,null,null,null,null,null,null,null,8380]
[8,84,840,8400,"Gastos imputados al patrimonio neto","Transferencias de subvenciones, donaciones y legados","Transferencia de subvenciones oficiales de capital","Transferencia de subvenciones oficiales de capital",null,null,null,null,null,null,null,null,null,8400]
[8,84,841,8410,"Gastos imputados al patrimonio neto","Transferencias de subvenciones, donaciones y legados","Transferencias de donaciones y legados de capital","Transferencias de donaciones y legados de capital",null,null,null,null,null,null,null,null,null,8410]
[8,84,842,8420,"Gastos imputados al patrimonio neto","Transferencias de subvenciones, donaciones y legados","Transferencia de otras subvenciones, donaciones y legados","Transferencia de otras subvenciones, donaciones y legados",null,null,null,null,null,null,null,null,null,8420]
[8,85,850,8500,"Gastos imputados al patrimonio neto","Gastos por pérdidas actuariales y ajustes en los activos por retribuciones a largo plazo de prestación definida","Pérdidas actuariales","Pérdidas actuariales",null,null,null,null,null,null,null,null,null,8500]
[8,85,851,8510,"Gastos imputados al patrimonio neto","Gastos por pérdidas actuariales y ajustes en los activos por retribuciones a largo plazo de prestación definida","Ajustes negativos en activos por retribuciones a largo plazo de prestación definida","Ajustes negativos en activos por retribuciones a largo plazo de prestación definida",null,null,null,null,null,null,null,null,null,8510]
[8,86,860,8600,"Gastos imputados al patrimonio neto","Gastos por activos no corrientes en venta","Pérdidas en activos no corrientes y grupos enajenables de elementos mantenidos para la venta","Pérdidas en activos no corrientes y grupos enajenables de elementos mantenidos para la venta",null,null,null,null,null,null,null,null,null,8600]
[8,86,862,8620,"Gastos imputados al patrimonio neto","Gastos por activos no corrientes en venta","Transferencia de beneficios en activos no corrientes y grupos enajenables de elementos para la venta","Transferencia de beneficios en activos no corrientes y grupos enajenables de elementos para la venta",null,null,null,null,null,null,null,null,null,8620]
[8,89,891,8910,"Gastos imputados al patrimonio neto","Deterioro de activos financieros","Deterioro de participaciones en el patrimonio, empresas del grupo","Deterioro de participaciones en el patrimonio, empresas del grupo",null,null,null,null,null,null,null,null,null,8910]
[8,89,892,8920,"Gastos imputados al patrimonio neto","Deterioro de activos financieros","Deterioro de participaciones en el patrimonio, empresas asocidas","Deterioro de participaciones en el patrimonio, empresas asocidas",null,null,null,null,null,null,null,null,null,8920]
[9,90,900,9000,"Ingresos imputados al patrimonio neto","Beneficios en activos financieros disponibles para la venta","Beneficios en activos financieros disponibles para la venta","Beneficios en activos financieros disponibles para la venta",null,null,null,null,null,null,null,null,null,9000]
[9,90,902,9020,"Ingresos imputados al patrimonio neto","Beneficios en activos financieros disponibles para la venta","Transferencia de pérdidas de activos financieros disponibles para la venta","Transferencia de pérdidas de activos financieros disponibles para la venta",null,null,null,null,null,null,null,null,null,9020]
[9,91,910,9100,"Ingresos imputados al patrimonio neto","Ingresos en operaciones de cobertura","Beneficios por coberturas de flujos de efectivo","Beneficios por coberturas de flujos de efectivo",null,null,null,null,null,null,null,null,null,9100]
[9,91,911,9110,"Ingresos imputados al patrimonio neto","Ingresos en operaciones de cobertura","Beneficios por coberturas de una inversión neta en un negocio en el extranjero","Beneficios por coberturas de una inversión neta en un negocio en el extranjero",null,null,null,null,null,null,null,null,null,9110]
[9,91,912,9120,"Ingresos imputados al patrimonio neto","Ingresos en operaciones de cobertura","Transferencia de pérdidas por coberturas de flujos de efectivo","Transferencia de pérdidas por coberturas de flujos de efectivo",null,null,null,null,null,null,null,null,null,9120]
[9,91,913,9130,"Ingresos imputados al patrimonio neto","Ingresos en operaciones de cobertura","Transferencia de pérdidas por coberturas de una inversión neta en un negocio en el extranjero","Transferencia de pérdidas por coberturas de una inversión neta en un negocio en el extranjero",null,null,null,null,null,null,null,null,null,9130]
[9,92,920,9200,"Ingresos imputados al patrimonio neto","Ingresos por diferencias de conversión","Diferencias de conversión positivas","Diferencias de conversión positivas",null,null,null,null,null,null,null,null,null,9200]
[9,92,921,9210,"Ingresos imputados al patrimonio neto","Ingresos por diferencias de conversión","Transferencia de diferencias de conversión negativas","Transferencia de diferencias de conversión negativas",null,null,null,null,null,null,null,null,null,9210]
[9,94,940,9400,"Ingresos imputados al patrimonio neto","Ingresos por subvenciones, donaciones y legados","Ingresos de subvenciones oficiales de capital","Ingresos de subvenciones oficiales de capital",null,null,null,null,null,null,null,null,null,9400]
[9,94,941,9410,"Ingresos imputados al patrimonio neto","Ingresos por subvenciones, donaciones y legados","Ingresos de donaciones y legados de capital","Ingresos de donaciones y legados de capital",null,null,null,null,null,null,null,null,null,9410]
[9,94,942,9420,"Ingresos imputados al patrimonio neto","Ingresos por subvenciones, donaciones y legados","Ingresos de otras subvenciones, donaciones y legados","Ingresos de otras subvenciones, donaciones y legados",null,null,null,null,null,null,null,null,null,9420]
[9,95,950,9500,"Ingresos imputados al patrimonio neto","Ingresos por ganancias actuariales y ajustes en los activos por retribuciones a largo plazo de prestación definida","Ganancias actuariales","Ganancias actuariales",null,null,null,null,null,null,null,null,null,9500]
[9,95,951,9510,"Ingresos imputados al patrimonio neto","Ingresos por ganancias actuariales y ajustes en los activos por retribuciones a largo plazo de prestación definida","Ajustes positivos en activos por retribuciones a largo plazo de prestación definida","Ajustes positivos en activos por retribuciones a largo plazo de prestación definida",null,null,null,null,null,null,null,null,null,9510]
[9,96,960,9600,"Ingresos imputados al patrimonio neto","Ingresos por activos no corrientes en venta","Beneficios en activos no corrientes y grupos enajenables de elementos mantenidos para la venta","Beneficios en activos no corrientes y grupos enajenables de elementos mantenidos para la venta",null,null,null,null,null,null,null,null,null,9600]
[9,96,962,9620,"Ingresos imputados al patrimonio neto","Ingresos por activos no corrientes en venta","Transferencia de pérdidas en activos no corrientes y grupos enajenables de elementos mantenidos para la venta","Transferencia de pérdidas en activos no corrientes y grupos enajenables de elementos mantenidos para la venta",null,null,null,null,null,null,null,null,null,9620]
[9,99,991,9910,"Ingresos imputados al patrimonio neto","Reversión del deterioro de activos financieros","Recuperación de ajustes valorativos negativos previos, empresas del grupo","Recuperación de ajustes valorativos negativos previos, empresas del grupo",null,null,null,null,null,null,null,null,null,9910]
[9,99,992,9920,"Ingresos imputados al patrimonio neto","Reversión del deterioro de activos financieros","Recuperación de ajustes valorativos negativos previos, empresas asociadas","Recuperación de ajustes valorativos negativos previos, empresas asociadas",null,null,null,null,null,null,null,null,null,9920]
[9,99,993,9930,"Ingresos imputados al patrimonio neto","Reversión del deterioro de activos financieros","Transferencia por deterioro de ajustes valorativos negativos previos, empresas del grupo","Transferencia por deterioro de ajustes valorativos negativos previos, empresas del grupo",null,null,null,null,null,null,null,null,null,9930]
[9,99,994,9940,"Ingresos imputados al patrimonio neto","Reversión del deterioro de activos financieros","Transferencia por deterioro de ajustes valorativos negativos previos, empresas asociadas","Transferencia por deterioro de ajustes valorativos negativos previos, empresas asociadas",null,null,null,null,null,null,null,null,null,9940]

{"sheet":"Redactor Contable","index":2,"n_rows":998,"n_cols":25,"rows_kept":998,"cut":false,"hidden":false,"merged":[[10,7,10,8],[10,9,10,10],[7,7,7,10],[8,9,8,10],[9,9,9,10],[0,0,0,3],[4,0,5,2],[0,4,0,5],[1,4,1,5],[1,2,1,3],[2,2,2,3],[5,5,5,6],[6,5,6,6],[2,23,2,24],[0,13,0,15],[1,13,1,19],[2,4,2,5],[0,6,0,8],[1,6,1,8]]}
["Redactor Contable (Version 2.0) www.jggomez.eu",null,null,null,"Correo del Aula Virtual",null,"joseignacioicod@gmail.com",null,null,null,null,null,null,"Diario de Contabilidad"]
["Edición","Alumno:","Jose Ignacio González Gómez re",null,"Práctica o Tarea:",null,"Sociedad Blue SL",null,null,null,null,null,null,"Base de datos"]
["Bloqueo","DNI:","78XXXYYY-K",null,"Fecha:",null,{"$f":"NOW()","v":"2015-10-23T09:43:01.250"},null,null,null,null,null,null,"Nº As","Importe","Cta","Descripción","D/H","Fecha","Observaciones","Codigo","Codigo 2","Neto","Resumen del Diario"]
[null,null,null,null,null,"Código:",{"$f":"INT((G3-INT(G3))*10000)","v":4048},null,null,null,null,null,null,0,0,0,0,"D","2015-01-01","Apertura",{"$f":"P4&\"-\"&Q4","v":"0-0"},{"$f":"N4&\"-\"&P4&\"-\"&R4&\"-\"&O4","v":"0-0-D-0"},{"$f":"IF(Tabla_Diario[[#This Row],[D/H]]=\"D\",Tabla_Diario[[#This Row],[Importe]],-Tabla_Diario[[#This Row],[Importe]])","v":0},"TOTAL DEBE:",{"$f":"SUMIF(Tabla_Diario[D/H],\"D\",Tabla_Diario[Importe])","v":45850}]
["Registro de Asientos",null,null,"PGC, definiciones y relaciones contables",null,null,null,null,null,null,null,null,null,1,12000,5700,"Caja, euros","D","2015-01-02","creacion de la sociedad","5700-Caja, euros","1-5700-D-12000",{"$f":"IF(Tabla_Diario[[#This Row],[D/H]]=\"D\",Tabla_Diario[[#This Row],[Importe]],-Tabla_Diario[[#This Row],[Importe]])","v":12000},"TOTAL HABER:",{"$f":"SUMIF(Tabla_Diario[D/H],\"H\",Tabla_Diario[Importe])","v":45850}]
[null,null,null,null,null,"Desproteger Diario de Contabilidad",null,null,null,null,null,null,null,1,12000,1000,"Capital social","H","2015-01-02","creacion de la sociedad","1000-Capital social","1-1000-H-12000",{"$f":"IF(Tabla_Diario[[#This Row],[D/H]]=\"D\",Tabla_Diario[[#This Row],[Importe]],-Tabla_Diario[[#This Row],[Importe]])","v":-12000},"DESCUADRE:",{"$f":"Y4-Y5","v":0}]
[null,null,null,null,null,"Proteger Diario de Contabilidad",null,null,null,null,null,null,null,2,9500,5720,"Bancos e instituciones de crédito c/c vista, euros","D","2015-01-10","N/I:1234","5720-Bancos e instituciones de crédito c/c vista, euros","2-5720-D-9500",{"$f":"IF(Tabla_Diario[[#This Row],[D/H]]=\"D\",Tabla_Diario[[#This Row],[Importe]],-Tabla_Diario[[#This Row],[Importe]])","v":9500},"Nº Apuntes al D:",{"$f":"COUNTIF(Tabla_Diario[D/H],\"=D\")-1","v":18}]
["Nº As","Importe","Cta","Descripción","D/H","Fecha","Observaciones","Resumen del Asiento",null,null,null,null,null,2,9500,5700,"Caja, euros","H","2015-01-10","N/I:1234","5700-Caja, euros","2-5700-H-9500",{"$f":"IF(Tabla_Diario[[#This Row],[D/H]]=\"D\",Tabla_Diario[[#This Row],[Importe]],-Tabla_Diario[[#This Row],[Importe]])","v":-9500},"Nº Apuntes al H:",{"$f":"COUNTIF(Tabla_Diario[D/H],\"=H\")","v":19}]
[null,null,null,{"$f":"IF(ISERROR(VLOOKUP(Tabla_Asiento_2[[#This Row],[Cta]],PGCtotal[[Nivel 4]:[Subcuenta]],5,FALSE)),\"\",VLOOKUP(Tabla_Asiento_2[[#This Row],[Cta]],PGCtotal[[Nivel 4]:[Subcuenta]],5,FALSE))","v":""},null,null,null,"TOTAL DEBE:",null,{"$f":"SUMIF(Tabla_Asiento_2[D/H],\"D\",Tabla_Asiento_2[Importe])","v":0},null,null,null,3,3000,6000,"Compras de mercaderías","D","2015-01-15","S/F:1234-B","6000-Compras de mercaderías","3-6000-D-3000",{"$f":"IF(Tabla_Diario[[#This Row],[D/H]]=\"D\",Tabla_Diario[[#This Row],[Importe]],-Tabla_Diario[[#This Row],[Importe]])","v":3000},"Total Apuntes:",{"$f":"Y7+Y8","v":37}]
[null,null,null,null,null,null,null,"TOTAL HABER:",null,{"$f":"SUMIF(Tabla_Asiento_2[D/H],\"H\",Tabla_Asiento_2[Importe])","v":0},null,null,null,3,3000,4000,"Proveedores","H","2015-01-15","S/F:1234-B","4000-Proveedores","3-4000-H-3000",{"$f":"IF(Tabla_Diario[[#This Row],[D/H]]=\"D\",Tabla_Diario[[#This Row],[Importe]],-Tabla_Diario[[#This Row],[Importe]])","v":-3000},"Total Asientos:",{"$f":"SUMPRODUCT(1/COUNTIF(Tabla_Diario[Nº As],Tabla_Diario[Nº As]))-1","v":18}]
[null,null,null,null,null,null,null,"DESCUADRE:",null,{"$f":"J9-J10","v":0},null,null,null,4,1500,4300,"Clientes","D","2015-01-15","N/F nº: 1-A","4300-Clientes","4-4300-D-1500",{"$f":"IF(Tabla_Diario[[#This Row],[D/H]]=\"D\",Tabla_Diario[[#This Row],[Importe]],-Tabla_Diario[[#This Row],[Importe]])","v":1500}]
[null,null,null,null,null,null,null,null,null,null,null,null,null,4,1500,7000,"Ventas de mercaderías","H","2015-01-15","N/F nº: 1-A","7000-Ventas de mercaderías","4-7000-H-1500",{"$f":"IF(Tabla_Diario[[#This Row],[D/H]]=\"D\",Tabla_Diario[[#This Row],[Importe]],-Tabla_Diario[[#This Row],[Importe]])","v":-1500}]
[null,null,null,null,null,null,null,null,null,null,null,null,null,5,1000,6400,"Sueldos y salarios","D","2015-03-07","N/T nº:3434","6400-Sueldos y salarios","5-6400-D-1000",{"$f":"IF(Tabla_Diario[[#This Row],[D/H]]=\"D\",Tabla_Diario[[#This Row],[Importe]],-Tabla_Diario[[#This Row],[Importe]])","v":1000}]
[null,null,null,null,null,null,null,null,null,null,null,null,null,5,1000,5720,"Bancos e instituciones de crédito c/c vista, euros","H","2015-03-07","N/T nº:3434","5720-Bancos e instituciones de crédito c/c vista, euros","5-5720-H-1000",{"$f":"IF(Tabla_Diario[[#This Row],[D/H]]=\"D\",Tabla_Diario[[#This Row],[Importe]],-Tabla_Diario[[#This Row],[Importe]])","v":-1000}]
[null,null,null,null,null,null,null,null,null,null,null,null,null,6,450,6420,"Seguridad Social a cargo de la empresa","D","2015-04-03","N/T nº:3435","6420-Seguridad Social a cargo de la empresa","6-6420-D-450",{"$f":"IF(Tabla_Diario[[#This Row],[D/H]]=\"D\",Tabla_Diario[[#This Row],[Importe]],-Tabla_Diario[[#This Row],[Importe]])","v":450}]
[null,null,null,null,null,null,null,null,null,null,null,null,null,6,450,5720,"Bancos e instituciones de crédito c/c vista, euros","H","2015-04-03","N/T nº:3435","5720-Bancos e instituciones de crédito c/c vista, euros","6-5720-H-450",{"$f":"IF(Tabla_Diario[[#This Row],[D/H]]=\"D\",Tabla_Diario[[#This Row],[Importe]],-Tabla_Diario[[#This Row],[Importe]])","v":-450}]
[null,null,null,null,null,null,null,null,null,null,null,null,null,7,600,2160,"Mobiliario","D","2015-05-25","S/F nº:3432","2160-Mobiliario","7-2160-D-600",{"$f":"IF(Tabla_Diario[[#This Row],[D/H]]=\"D\",Tabla_Diario[[#This Row],[Importe]],-Tabla_Diario[[#This Row],[Importe]])","v":600}]
[null,null,null,null,null,null,null,null,null,null,null,null,null,7,600,5700,"Caja, euros","H","2015-05-25","S/F nº:3432","5700-Caja, euros","7-5700-H-600",{"$f":"IF(Tabla_Diario[[#This Row],[D/H]]=\"D\",Tabla_Diario[[#This Row],[Importe]],-Tabla_Diario[[#This Row],[Importe]])","v":-600}]
[null,null,null,null,null,null,null,null,null,null,null,null,null,8,750,6210,"Arrendamientos y cánones","D","2015-06-11","S/R Nº:2545","6210-Arrendamientos y cánones","8-6210-D-750",{"$f":"IF(Tabla_Diario[[#This Row],[D/H]]=\"D\",Tabla_Diario[[#This Row],[Importe]],-Tabla_Diario[[#This Row],[Importe]])","v":750}]
[null,null,null,null,null,null,null,null,null,null,null,null,null,8,750,5700,"Caja, euros","H","2015-06-11","S/R Nº:2545","5700-Caja, euros","8-5700-H-750",{"$f":"IF(Tabla_Diario[[#This Row],[D/H]]=\"D\",Tabla_Diario[[#This Row],[Importe]],-Tabla_Diario[[#This Row],[Importe]])","v":-750}]
[null,null,null,null,null,null,null,null,null,null,null,null,null,9,100,6280,"Suministros","D","2015-06-20","pago suministros varios","6280-Suministros","9-6280-D-100",{"$f":"IF(Tabla_Diario[[#This Row],[D/H]]=\"D\",Tabla_Diario[[#This Row],[Importe]],-Tabla_Diario[[#This Row],[Importe]])","v":100}]
[null,null,null,null,null,null,null,null,null,null,null,null,null,9,100,5700,"Caja, euros","H","2015-06-20","pago suministros varios","5700-Caja, euros","9-5700-H-100",{"$f":"IF(Tabla_Diario[[#This Row],[D/H]]=\"D\",Tabla_Diario[[#This Row],[Importe]],-Tabla_Diario[[#This Row],[Importe]])","v":-100}]
[null,null,null,null,null,null,null,null,null,null,null,null,null,10,4000,2180,"Elementos de transporte","D","2015-06-20","S/F nº:53456","2180-Elementos de transporte","10-2180-D-4000",{"$f":"IF(Tabla_Diario[[#This Row],[D/H]]=\"D\",Tabla_Diario[[#This Row],[Importe]],-Tabla_Diario[[#This Row],[Importe]])","v":4000}]
[null,null,null,null,null,null,null,null,null,null,null,null,null,10,3600,4110,"Acreedores, efectos comerciales a pagar","H","2015-06-20","S/F nº:53456","4110-Acreedores, efectos comerciales a pagar","10-4110-H-3600",{"$f":"IF(Tabla_Diario[[#This Row],[D/H]]=\"D\",Tabla_Diario[[#This Row],[Importe]],-Tabla_Diario[[#This Row],[Importe]])","v":-3600}]
[null,null,null,null,null,null,null,null,null,null,null,null,null,10,400,5700,"Caja, euros","H","2015-06-20","S/F nº:53456","5700-Caja, euros","10-5700-H-400",{"$f":"IF(Tabla_Diario[[#This Row],[D/H]]=\"D\",Tabla_Diario[[#This Row],[Importe]],-Tabla_Diario[[#This Row],[Importe]])","v":-400}]
[null,null,null,null,null,null,null,null,null,null,null,null,null,11,1500,4310,"Clientes, efectos comerciales a cobrar","D","2015-07-08","N/F nº 2-A","4310-Clientes, efectos comerciales a cobrar","11-4310-D-1500",{"$f":"IF(Tabla_Diario[[#This Row],[D/H]]=\"D\",Tabla_Diario[[#This Row],[Importe]],-Tabla_Diario[[#This Row],[Importe]])","v":1500}]
[null,null,null,null,null,null,null,null,null,null,null,null,null,11,1500,7000,"Ventas de mercaderías","H","2015-07-08","N/F nº 2-A","7000-Ventas de mercaderías","11-7000-H-1500",{"$f":"IF(Tabla_Diario[[#This Row],[D/H]]=\"D\",Tabla_Diario[[#This Row],[Importe]],-Tabla_Diario[[#This Row],[Importe]])","v":-1500}]
[null,null,null,null,null,null,null,null,null,null,null,null,null,12,350,6310,"Otros tributos","D","2015-08-20","pago impuestos locales","6310-Otros tributos","12-6310-D-350",{"$f":"IF(Tabla_Diario[[#This Row],[D/H]]=\"D\",Tabla_Diario[[#This Row],[Importe]],-Tabla_Diario[[#This Row],[Importe]])","v":350}]
[null,null,null,null,null,null,null,null,null,null,null,null,null,12,350,5700,"Caja, euros","H","2015-08-20","pago impuestos locales","5700-Caja, euros","12-5700-H-350",{"$f":"IF(Tabla_Diario[[#This Row],[D/H]]=\"D\",Tabla_Diario[[#This Row],[Importe]],-Tabla_Diario[[#This Row],[Importe]])","v":-350}]
[null,null,null,null,null,null,null,null,null,null,null,null,null,13,2000,6000,"Compras de mercaderías","D","2015-09-15","S/F nº:965B","6000-Compras de mercaderías","13-6000-D-2000",{"$f":"IF(Tabla_Diario[[#This Row],[D/H]]=\"D\",Tabla_Diario[[#This Row],[Importe]],-Tabla_Diario[[#This Row],[Importe]])","v":2000}]
[null,null,null,null,null,null,null,null,null,null,null,null,null,13,2000,4000,"Proveedores","H","2015-09-15","S/F nº:965B","4000-Proveedores","13-4000-H-2000",{"$f":"IF(Tabla_Diario[[#This Row],[D/H]]=\"D\",Tabla_Diario[[#This Row],[Importe]],-Tabla_Diario[[#This Row],[Importe]])","v":-2000}]
[null,null,null,null,null,null,null,null,null,null,null,null,null,14,100,6230,"Servicios de profesionales independientes","D","2015-10-25","N/R nº: 1","6230-Servicios de profesionales independientes","14-6230-D-100",{"$f":"IF(Tabla_Diario[[#This Row],[D/H]]=\"D\",Tabla_Diario[[#This Row],[Importe]],-Tabla_Diario[[#This Row],[Importe]])","v":100}]
[null,null,null,null,null,null,null,null,null,null,null,null,null,14,100,5700,"Caja, euros","H","2015-10-25","N/R nº: 1","5700-Caja, euros","14-5700-H-100",{"$f":"IF(Tabla_Diario[[#This Row],[D/H]]=\"D\",Tabla_Diario[[#This Row],[Importe]],-Tabla_Diario[[#This Row],[Importe]])","v":-100}]
[null,null,null,null,null,null,null,null,null,null,null,null,null,15,1500,5700,"Caja, euros","D","2015-11-22","N/R nº: 2","5700-Caja, euros","15-5700-D-1500",{"$f":"IF(Tabla_Diario[[#This Row],[D/H]]=\"D\",Tabla_Diario[[#This Row],[Importe]],-Tabla_Diario[[#This Row],[Importe]])","v":1500}]
[null,null,null,{"$f":"IF(ISERROR(VLOOKUP(Tabla_Asiento_2[[#This Row],[Cta]],PGCtotal[[Nivel 3]:[Subcuenta]],5,FALSE)),\"\",VLOOKUP(Tabla_Asiento_2[[#This Row],[Cta]],PGCtotal[[Nivel 3]:[Subcuenta]],5,FALSE))","v":""},null,null,null,null,null,null,null,null,null,15,1500,4300,"Clientes","H","2015-11-22","N/R nº:2","4300-Clientes","15-4300-H-1500",{"$f":"IF(Tabla_Diario[[#This Row],[D/H]]=\"D\",Tabla_Diario[[#This Row],[Importe]],-Tabla_Diario[[#This Row],[Importe]])","v":-1500}]
[null,null,null,{"$f":"IF(ISERROR(VLOOKUP(Tabla_Asiento_2[[#This Row],[Cta]],PGCtotal[[Nivel 3]:[Subcuenta]],5,FALSE)),\"\",VLOOKUP(Tabla_Asiento_2[[#This Row],[Cta]],PGCtotal[[Nivel 3]:[Subcuenta]],5,FALSE))","v":""},null,null,null,null,null,null,null,null,null,16,2000,4310,"Clientes, efectos comerciales a cobrar","D","2015-12-01","N/F: nº 3-A","4310-Clientes, efectos comerciales a cobrar","16-4310-D-2000",{"$f":"IF(Tabla_Diario[[#This Row],[D/H]]=\"D\",Tabla_Diario[[#This Row],[Importe]],-Tabla_Diario[[#This Row],[Importe]])","v":2000}]
[null,null,null,null,null,null,null,null,null,null,null,null,null,16,2000,7000,"Ventas de mercaderías","H","2015-12-01","N/F: nº 3-A","7000-Ventas de mercaderías","16-7000-H-2000",{"$f":"IF(Tabla_Diario[[#This Row],[D/H]]=\"D\",Tabla_Diario[[#This Row],[Importe]],-Tabla_Diario[[#This Row],[Importe]])","v":-2000}]
[null,null,null,{"$f":"IF(ISERROR(VLOOKUP(Tabla_Asiento_2[[#This Row],[Cta]],PGCtotal[[Nivel 3]:[Subcuenta]],5,FALSE)),\"\",VLOOKUP(Tabla_Asiento_2[[#This Row],[Cta]],PGCtotal[[Nivel 3]:[Subcuenta]],5,FALSE))","v":""},null,null,null,null,null,null,null,null,null,17,4000,6710,"Pérdidas procedentes del inmovilizado material","D","2015-12-15","Accidente furgoneta, siniestro total","6710-Pérdidas procedentes del inmovilizado material","17-6710-D-4000",{"$f":"IF(Tabla_Diario[[#This Row],[D/H]]=\"D\",Tabla_Diario[[#This Row],[Importe]],-Tabla_Diario[[#This Row],[Importe]])","v":4000}]
[null,null,null,{"$f":"IF(ISERROR(VLOOKUP(Tabla_Asiento_2[[#This Row],[Cta]],PGCtotal[[Nivel 3]:[Subcuenta]],5,FALSE)),\"\",VLOOKUP(Tabla_Asiento_2[[#This Row],[Cta]],PGCtotal[[Nivel 3]:[Subcuenta]],5,FALSE))","v":""},null,null,null,null,null,null,null,null,null,17,4000,2180,"Elementos de transporte","H","2015-12-15","Accidente furgoneta, siniestro total","2180-Elementos de transporte","17-2180-H-4000",{"$f":"IF(Tabla_Diario[[#This Row],[D/H]]=\"D\",Tabla_Diario[[#This Row],[Importe]],-Tabla_Diario[[#This Row],[Importe]])","v":-4000}]
[null,null,null,{"$f":"IF(ISERROR(VLOOKUP(Tabla_Asiento_2[[#This Row],[Cta]],PGCtotal[[Nivel 3]:[Subcuenta]],5,FALSE)),\"\",VLOOKUP(Tabla_Asiento_2[[#This Row],[Cta]],PGCtotal[[Nivel 3]:[Subcuenta]],5,FALSE))","v":""},null,null,null,null,null,null,null,null,null,18,1500,3000,"Mercaderías A","D","2015-12-15","Regularización de Existencias","3000-Mercaderías A","18-3000-D-1500",{"$f":"IF(Tabla_Diario[[#This Row],[D/H]]=\"D\",Tabla_Diario[[#This Row],[Importe]],-Tabla_Diario[[#This Row],[Importe]])","v":1500}]
[null,null,null,{"$f":"IF(ISERROR(VLOOKUP(Tabla_Asiento_2[[#This Row],[Cta]],PGCtotal[[Nivel 3]:[Subcuenta]],5,FALSE)),\"\",VLOOKUP(Tabla_Asiento_2[[#This Row],[Cta]],PGCtotal[[Nivel 3]:[Subcuenta]],5,FALSE))","v":""},null,null,null,null,null,null,null,null,null,18,1500,6100,"Variación de existencias de mercaderías","H","2015-12-15","Regularización de Existencias","6100-Variación de existencias de mercaderías","18-6100-H-1500",{"$f":"IF(Tabla_Diario[[#This Row],[D/H]]=\"D\",Tabla_Diario[[#This Row],[Importe]],-Tabla_Diario[[#This Row],[Importe]])","v":-1500}]
[null,null,null,{"$f":"IF(ISERROR(VLOOKUP(Tabla_Asiento_2[[#This Row],[Cta]],PGCtotal[[Nivel 3]:[Subcuenta]],5,FALSE)),\"\",VLOOKUP(Tabla_Asiento_2[[#This Row],[Cta]],PGCtotal[[Nivel 3]:[Subcuenta]],5,FALSE))","v":""}]
[null,null,null,{"$f":"IF(ISERROR(VLOOKUP(Tabla_Asiento_2[[#This Row],[Cta]],PGCtotal[[Nivel 3]:[Subcuenta]],5,FALSE)),\"\",VLOOKUP(Tabla_Asiento_2[[#This Row],[Cta]],PGCtotal[[Nivel 3]:[Subcuenta]],5,FALSE))","v":""}]
[null,null,null,{"$f":"IF(ISERROR(VLOOKUP(Tabla_Asiento_2[[#This Row],[Cta]],PGCtotal[[Nivel 3]:[Subcuenta]],5,FALSE)),\"\",VLOOKUP(Tabla_Asiento_2[[#This Row],[Cta]],PGCtotal[[Nivel 3]:[Subcuenta]],5,FALSE))","v":""}]
[null,null,null,{"$f":"IF(ISERROR(VLOOKUP(Tabla_Asiento_2[[#This Row],[Cta]],PGCtotal[[Nivel 3]:[Subcuenta]],5,FALSE)),\"\",VLOOKUP(Tabla_Asiento_2[[#This Row],[Cta]],PGCtotal[[Nivel 3]:[Subcuenta]],5,FALSE))","v":""}]
[null,null,null,{"$f":"IF(ISERROR(VLOOKUP(Tabla_Asiento_2[[#This Row],[Cta]],PGCtotal[[Nivel 3]:[Subcuenta]],5,FALSE)),\"\",VLOOKUP(Tabla_Asiento_2[[#This Row],[Cta]],PGCtotal[[Nivel 3]:[Subcuenta]],5,FALSE))","v":""}]
[null,null,null,{"$f":"IF(ISERROR(VLOOKUP(Tabla_Asiento_2[[#This Row],[Cta]],PGCtotal[[Nivel 3]:[Subcuenta]],5,FALSE)),\"\",VLOOKUP(Tabla_Asiento_2[[#This Row],[Cta]],PGCtotal[[Nivel 3]:[Subcuenta]],5,FALSE))","v":""}]
[null,null,null,{"$f":"IF(ISERROR(VLOOKUP(Tabla_Asiento_2[[#This Row],[Cta]],PGCtotal[[Nivel 3]:[Subcuenta]],5,FALSE)),\"\",VLOOKUP(Tabla_Asiento_2[[#This Row],[Cta]],PGCtotal[[Nivel 3]:[Subcuenta]],5,FALSE))","v":""}]
[null,null,null,{"$f":"IF(ISERROR(VLOOKUP(Tabla_Asiento_2[[#This Row],[Cta]],PGCtotal[[Nivel 3]:[Subcuenta]],5,FALSE)),\"\",VLOOKUP(Tabla_Asiento_2[[#This Row],[Cta]],PGCtotal[[Nivel 3]:[Subcuenta]],5,FALSE))","v":""}]
[null,null,null,{"$f":"IF(ISERROR(VLOOKUP(Tabla_Asiento_2[[#This Row],[Cta]],PGCtotal[[Nivel 3]:[Subcuenta]],5,FALSE)),\"\",VLOOKUP(Tabla_Asiento_2[[#This Row],[Cta]],PGCtotal[[Nivel 3]:[Subcuenta]],5,FALSE))","v":""}]
[null,null,null,{"$f":"IF(ISERROR(VLOOKUP(Tabla_Asiento_2[[#This Row],[Cta]],PGCtotal[[Nivel 3]:[Subcuenta]],5,FALSE)),\"\",VLOOKUP(Tabla_Asiento_2[[#This Row],[Cta]],PGCtotal[[Nivel 3]:[Subcuenta]],5,FALSE))","v":""}]
[null,null,null,{"$f":"IF(ISERROR(VLOOKUP(Tabla_Asiento_2[[#This Row],[Cta]],PGCtotal[[Nivel 3]:[Subcuenta]],5,FALSE)),\"\",VLOOKUP(Tabla_Asiento_2[[#This Row],[Cta]],PGCtotal[[Nivel 3]:[Subcuenta]],5,FALSE))","v":""}]
[null,null,null,{"$f":"IF(ISERROR(VLOOKUP(Tabla_Asiento_2[[#This Row],[Cta]],PGCtotal[[Nivel 3]:[Subcuenta]],5,FALSE)),\"\",VLOOKUP(Tabla_Asiento_2[[#This Row],[Cta]],PGCtotal[[Nivel 3]:[Subcuenta]],5,FALSE))","v":""}]
[null,null,null,{"$f":"IF(ISERROR(VLOOKUP(Tabla_Asiento_2[[#This Row],[Cta]],PGCtotal[[Nivel 3]:[Subcuenta]],5,FALSE)),\"\",VLOOKUP(Tabla_Asiento_2[[#This Row],[Cta]],PGCtotal[[Nivel 3]:[Subcuenta]],5,FALSE))","v":""}]
[null,null,null,{"$f":"IF(ISERROR(VLOOKUP(Tabla_Asiento_2[[#This Row],[Cta]],PGCtotal[[Nivel 3]:[Subcuenta]],5,FALSE)),\"\",VLOOKUP(Tabla_Asiento_2[[#This Row],[Cta]],PGCtotal[[Nivel 3]:[Subcuenta]],5,FALSE))","v":""}]
[null,null,null,{"$f":"IF(ISERROR(VLOOKUP(Tabla_Asiento_2[[#This Row],[Cta]],PGCtotal[[Nivel 3]:[Subcuenta]],5,FALSE)),\"\",VLOOKUP(Tabla_Asiento_2[[#This Row],[Cta]],PGCtotal[[Nivel 3]:[Subcuenta]],5,FALSE))","v":""}]
[null,null,null,{"$f":"IF(ISERROR(VLOOKUP(Tabla_Asiento_2[[#This Row],[Cta]],PGCtotal[[Nivel 3]:[Subcuenta]],5,FALSE)),\"\",VLOOKUP(Tabla_Asiento_2[[#This Row],[Cta]],PGCtotal[[Nivel 3]:[Subcuenta]],5,FALSE))","v":""}]
[null,null,null,{"$f":"IF(ISERROR(VLOOKUP(Tabla_Asiento_2[[#This Row],[Cta]],PGCtotal[[Nivel 3]:[Subcuenta]],5,FALSE)),\"\",VLOOKUP(Tabla_Asiento_2[[#This Row],[Cta]],PGCtotal[[Nivel 3]:[Subcuenta]],5,FALSE))","v":""}]
[null,null,null,{"$f":"IF(ISERROR(VLOOKUP(Tabla_Asiento_2[[#This Row],[Cta]],PGCtotal[[Nivel 3]:[Subcuenta]],5,FALSE)),\"\",VLOOKUP(Tabla_Asiento_2[[#This Row],[Cta]],PGCtotal[[Nivel 3]:[Subcuenta]],5,FALSE))","v":""}]
[null,null,null,{"$f":"IF(ISERROR(VLOOKUP(Tabla_Asiento_2[[#This Row],[Cta]],PGCtotal[[Nivel 3]:[Subcuenta]],5,FALSE)),\"\",VLOOKUP(Tabla_Asiento_2[[#This Row],[Cta]],PGCtotal[[Nivel 3]:[Subcuenta]],5,FALSE))","v":""}]
[null,null,null,{"$f":"IF(ISERROR(VLOOKUP(Tabla_Asiento_2[[#This Row],[Cta]],PGCtotal[[Nivel 3]:[Subcuenta]],5,FALSE)),\"\",VLOOKUP(Tabla_Asiento_2[[#This Row],[Cta]],PGCtotal[[Nivel 3]:[Subcuenta]],5,FALSE))","v":""}]
[null,null,null,{"$f":"IF(ISERROR(VLOOKUP(Tabla_Asiento_2[[#This Row],[Cta]],PGCtotal[[Nivel 3]:[Subcuenta]],5,FALSE)),\"\",VLOOKUP(Tabla_Asiento_2[[#This Row],[Cta]],PGCtotal[[Nivel 3]:[Subcuenta]],5,FALSE))","v":""}]
[null,null,null,{"$f":"IF(ISERROR(VLOOKUP(Tabla_Asiento_2[[#This Row],[Cta]],PGCtotal[[Nivel 3]:[Subcuenta]],5,FALSE)),\"\",VLOOKUP(Tabla_Asiento_2[[#This Row],[Cta]],PGCtotal[[Nivel 3]:[Subcuenta]],5,FALSE))","v":""}]
[null,null,null,{"$f":"IF(ISERROR(VLOOKUP(Tabla_Asiento_2[[#This Row],[Cta]],PGCtotal[[Nivel 3]:[Subcuenta]],5,FALSE)),\"\",VLOOKUP(Tabla_Asiento_2[[#This Row],[Cta]],PGCtotal[[Nivel 3]:[Subcuenta]],5,FALSE))","v":""}]
[null,null,null,{"$f":"IF(ISERROR(VLOOKUP(Tabla_Asiento_2[[#This Row],[Cta]],PGCtotal[[Nivel 3]:[Subcuenta]],5,FALSE)),\"\",VLOOKUP(Tabla_Asiento_2[[#This Row],[Cta]],PGCtotal[[Nivel 3]:[Subcuenta]],5,FALSE))","v":""}]
[null,null,null,{"$f":"IF(ISERROR(VLOOKUP(Tabla_Asiento_2[[#This Row],[Cta]],PGCtotal[[Nivel 3]:[Subcuenta]],5,FALSE)),\"\",VLOOKUP(Tabla_Asiento_2[[#This Row],[Cta]],PGCtotal[[Nivel 3]:[Subcuenta]],5,FALSE))","v":""}]
[null,null,null,{"$f":"IF(ISERROR(VLOOKUP(Tabla_Asiento_2[[#This Row],[Cta]],PGCtotal[[Nivel 3]:[Subcuenta]],5,FALSE)),\"\",VLOOKUP(Tabla_Asiento_2[[#This Row],[Cta]],PGCtotal[[Nivel 3]:[Subcuenta]],5,FALSE))","v":""}]
[null,null,null,{"$f":"IF(ISERROR(VLOOKUP(Tabla_Asiento_2[[#This Row],[Cta]],PGCtotal[[Nivel 3]:[Subcuenta]],5,FALSE)),\"\",VLOOKUP(Tabla_Asiento_2[[#This Row],[Cta]],PGCtotal[[Nivel 3]:[Subcuenta]],5,FALSE))","v":""}]
[null,null,null,{"$f":"IF(ISERROR(VLOOKUP(Tabla_Asiento_2[[#This Row],[Cta]],PGCtotal[[Nivel 3]:[Subcuenta]],5,FALSE)),\"\",VLOOKUP(Tabla_Asiento_2[[#This Row],[Cta]],PGCtotal[[Nivel 3]:[Subcuenta]],5,FALSE))","v":""}]
[null,null,null,{"$f":"IF(ISERROR(VLOOKUP(Tabla_Asiento_2[[#This Row],[Cta]],PGCtotal[[Nivel 3]:[Subcuenta]],5,FALSE)),\"\",VLOOKUP(Tabla_Asiento_2[[#This Row],[Cta]],PGCtotal[[Nivel 3]:[Subcuenta]],5,FALSE))","v":""}]
[null,null,null,{"$f":"IF(ISERROR(VLOOKUP(Tabla_Asiento_2[[#This Row],[Cta]],PGCtotal[[Nivel 3]:[Subcuenta]],5,FALSE)),\"\",VLOOKUP(Tabla_Asiento_2[[#This Row],[Cta]],PGCtotal[[Nivel 3]:[Subcuenta]],5,FALSE))","v":""}]
[null,null,null,{"$f":"IF(ISERROR(VLOOKUP(Tabla_Asiento_2[[#This Row],[Cta]],PGCtotal[[Nivel 3]:[Subcuenta]],5,FALSE)),\"\",VLOOKUP(Tabla_Asiento_2[[#This Row],[Cta]],PGCtotal[[Nivel 3]:[Subcuenta]],5,FALSE))","v":""}]
[null,null,null,{"$f":"IF(ISERROR(VLOOKUP(Tabla_Asiento_2[[#This Row],[Cta]],PGCtotal[[Nivel 3]:[Subcuenta]],5,FALSE)),\"\",VLOOKUP(Tabla_Asiento_2[[#This Row],[Cta]],PGCtotal[[Nivel 3]:[Subcuenta]],5,FALSE))","v":""}]
[null,null,null,{"$f":"IF(ISERROR(VLOOKUP(Tabla_Asiento_2[[#This Row],[Cta]],PGCtotal[[Nivel 3]:[Subcuenta]],5,FALSE)),\"\",VLOOKUP(Tabla_Asiento_2[[#This Row],[Cta]],PGCtotal[[Nivel 3]:[Subcuenta]],5,FALSE))","v":""}]
[null,null,null,{"$f":"IF(ISERROR(VLOOKUP(Tabla_Asiento_2[[#This Row],[Cta]],PGCtotal[[Nivel 3]:[Subcuenta]],5,FALSE)),\"\",VLOOKUP(Tabla_Asiento_2[[#This Row],[Cta]],PGCtotal[[Nivel 3]:[Subcuenta]],5,FALSE))","v":""}]
[null,null,null,{"$f":"IF(ISERROR(VLOOKUP(Tabla_Asiento_2[[#This Row],[Cta]],PGCtotal[[Nivel 3]:[Subcuenta]],5,FALSE)),\"\",VLOOKUP(Tabla_Asiento_2[[#This Row],[Cta]],PGCtotal[[Nivel 3]:[Subcuenta]],5,FALSE))","v":""}]
[null,null,null,{"$f":"IF(ISERROR(VLOOKUP(Tabla_Asiento_2[[#This Row],[Cta]],PGCtotal[[Nivel 3]:[Subcuenta]],5,FALSE)),\"\",VLOOKUP(Tabla_Asiento_2[[#This Row],[Cta]],PGCtotal[[Nivel 3]:[Subcuenta]],5,FALSE))","v":""}]
[null,null,null,{"$f":"IF(ISERROR(VLOOKUP(Tabla_Asiento_2[[#This Row],[Cta]],PGCtotal[[Nivel 3]:[Subcuenta]],5,FALSE)),\"\",VLOOKUP(Tabla_Asiento_2[[#This Row],[Cta]],PGCtotal[[Nivel 3]:[Subcuenta]],5,FALSE))","v":""}]
[null,null,null,{"$f":"IF(ISERROR(VLOOKUP(Tabla_Asiento_2[[#This Row],[Cta]],PGCtotal[[Nivel 3]:[Subcuenta]],5,FALSE)),\"\",VLOOKUP(Tabla_Asiento_2[[#This Row],[Cta]],PGCtotal[[Nivel 3]:[Subcuenta]],5,FALSE))","v":""}]
[null,null,null,{"$f":"IF(ISERROR(VLOOKUP(Tabla_Asiento_2[[#This Row],[Cta]],PGCtotal[[Nivel 3]:[Subcuenta]],5,FALSE)),\"\",VLOOKUP(Tabla_Asiento_2[[#This Row],[Cta]],PGCtotal[[Nivel 3]:[Subcuenta]],5,FALSE))","v":""}]
[null,null,null,{"$f":"IF(ISERROR(VLOOKUP(Tabla_Asiento_2[[#This Row],[Cta]],PGCtotal[[Nivel 3]:[Subcuenta]],5,FALSE)),\"\",VLOOKUP(Tabla_Asiento_2[[#This Row],[Cta]],PGCtotal[[Nivel 3]:[Subcuenta]],5,FALSE))","v":""}]
[null,null,null,{"$f":"IF(ISERROR(VLOOKUP(Tabla_Asiento_2[[#This Row],[Cta]],PGCtotal[[Nivel 3]:[Subcuenta]],5,FALSE)),\"\",VLOOKUP(Tabla_Asiento_2[[#This Row],[Cta]],PGCtotal[[Nivel 3]:[Subcuenta]],5,FALSE))","v":""}]
[null,null,null,{"$f":"IF(ISERROR(VLOOKUP(Tabla_Asiento_2[[#This Row],[Cta]],PGCtotal[[Nivel 3]:[Subcuenta]],5,FALSE)),\"\",VLOOKUP(Tabla_Asiento_2[[#This Row],[Cta]],PGCtotal[[Nivel 3]:[Subcuenta]],5,FALSE))","v":""}]
[null,null,null,{"$f":"IF(ISERROR(VLOOKUP(Tabla_Asiento_2[[#This Row],[Cta]],PGCtotal[[Nivel 3]:[Subcuenta]],5,FALSE)),\"\",VLOOKUP(Tabla_Asiento_2[[#This Row],[Cta]],PGCtotal[[Nivel 3]:[Subcuenta]],5,FALSE))","v":""}]
[null,null,null,{"$f":"IF(ISERROR(VLOOKUP(Tabla_Asiento_2[[#This Row],[Cta]],PGCtotal[[Nivel 3]:[Subcuenta]],5,FALSE)),\"\",VLOOKUP(Tabla_Asiento_2[[#This Row],[Cta]],PGCtotal[[Nivel 3]:[Subcuenta]],5,FALSE))","v":""}]
[null,null,null,{"$f":"IF(ISERROR(VLOOKUP(Tabla_Asiento_2[[#This Row],[Cta]],PGCtotal[[Nivel 3]:[Subcuenta]],5,FALSE)),\"\",VLOOKUP(Tabla_Asiento_2[[#This Row],[Cta]],PGCtotal[[Nivel 3]:[Subcuenta]],5,FALSE))","v":""}]
[null,null,null,{"$f":"IF(ISERROR(VLOOKUP(Tabla_Asiento_2[[#This Row],[Cta]],PGCtotal[[Nivel 3]:[Subcuenta]],5,FALSE)),\"\",VLOOKUP(Tabla_Asiento_2[[#This Row],[Cta]],PGCtotal[[Nivel 3]:[Subcuenta]],5,FALSE))","v":""}]
[null,null,null,{"$f":"IF(ISERROR(VLOOKUP(Tabla_Asiento_2[[#This Row],[Cta]],PGCtotal[[Nivel 3]:[Subcuenta]],5,FALSE)),\"\",VLOOKUP(Tabla_Asiento_2[[#This Row],[Cta]],PGCtotal[[Nivel 3]:[Subcuenta]],5,FALSE))","v":""}]
[null,null,null,{"$f":"IF(ISERROR(VLOOKUP(Tabla_Asiento_2[[#This Row],[Cta]],PGCtotal[[Nivel 3]:[Subcuenta]],5,FALSE)),\"\",VLOOKUP(Tabla_Asiento_2[[#This Row],[Cta]],PGCtotal[[Nivel 3]:[Subcuenta]],5,FALSE))","v":""}]
[null,null,null,{"$f":"IF(ISERROR(VLOOKUP(Tabla_Asiento_2[[#This Row],[Cta]],PGCtotal[[Nivel 3]:[Subcuenta]],5,FALSE)),\"\",VLOOKUP(Tabla_Asiento_2[[#This Row],[Cta]],PGCtotal[[Nivel 3]:[Subcuenta]],5,FALSE))","v":""}]
[null,null,null,{"$f":"IF(ISERROR(VLOOKUP(Tabla_Asiento_2[[#This Row],[Cta]],PGCtotal[[Nivel 3]:[Subcuenta]],5,FALSE)),\"\",VLOOKUP(Tabla_Asiento_2[[#This Row],[Cta]],PGCtotal[[Nivel 3]:[Subcuenta]],5,FALSE))","v":""}]
[null,null,null,{"$f":"IF(ISERROR(VLOOKUP(Tabla_Asiento_2[[#This Row],[Cta]],PGCtotal[[Nivel 3]:[Subcuenta]],5,FALSE)),\"\",VLOOKUP(Tabla_Asiento_2[[#This Row],[Cta]],PGCtotal[[Nivel 3]:[Subcuenta]],5,FALSE))","v":""}]
[null,null,null,{"$f":"IF(ISERROR(VLOOKUP(Tabla_Asiento_2[[#This Row],[Cta]],PGCtotal[[Nivel 3]:[Subcuenta]],5,FALSE)),\"\",VLOOKUP(Tabla_Asiento_2[[#This Row],[Cta]],PGCtotal[[Nivel 3]:[Subcuenta]],5,FALSE))","v":""}]
[null,null,null,{"$f":"IF(ISERROR(VLOOKUP(Tabla_Asiento_2[[#This Row],[Cta]],PGCtotal[[Nivel 3]:[Subcuenta]],5,FALSE)),\"\",VLOOKUP(Tabla_Asiento_2[[#This Row],[Cta]],PGCtotal[[Nivel 3]:[Subcuenta]],5,FALSE))","v":""}]
[null,null,null,{"$f":"IF(ISERROR(VLOOKUP(Tabla_Asiento_2[[#This Row],[Cta]],PGCtotal[[Nivel 3]:[Subcuenta]],5,FALSE)),\"\",VLOOKUP(Tabla_Asiento_2[[#This Row],[Cta]],PGCtotal[[Nivel 3]:[Subcuenta]],5,FALSE))","v":""}]
[null,null,null,{"$f":"IF(ISERROR(VLOOKUP(Tabla_Asiento_2[[#This Row],[Cta]],PGCtotal[[Nivel 3]:[Subcuenta]],5,FALSE)),\"\",VLOOKUP(Tabla_Asiento_2[[#This Row],[Cta]],PGCtotal[[Nivel 3]:[Subcuenta]],5,FALSE))","v":""}]
[null,null,null,{"$f":"IF(ISERROR(VLOOKUP(Tabla_Asiento_2[[#This Row],[Cta]],PGCtotal[[Nivel 3]:[Subcuenta]],5,FALSE)),\"\",VLOOKUP(Tabla_Asiento_2[[#This Row],[Cta]],PGCtotal[[Nivel 3]:[Subcuenta]],5,FALSE))","v":""}]
[null,null,null,{"$f":"IF(ISERROR(VLOOKUP(Tabla_Asiento_2[[#This Row],[Cta]],PGCtotal[[Nivel 3]:[Subcuenta]],5,FALSE)),\"\",VLOOKUP(Tabla_Asiento_2[[#This Row],[Cta]],PGCtotal[[Nivel 3]:[Subcuenta]],5,FALSE))","v":""}]
[null,null,null,{"$f":"IF(ISERROR(VLOOKUP(Tabla_Asiento_2[[#This Row],[Cta]],PGCtotal[[Nivel 3]:[Subcuenta]],5,FALSE)),\"\",VLOOKUP(Tabla_Asiento_2[[#This Row],[Cta]],PGCtotal[[Nivel 3]:[Subcuenta]],5,FALSE))","v":""}]
[null,null,null,{"$f":"IF(ISERROR(VLOOKUP(Tabla_Asiento_2[[#This Row],[Cta]],PGCtotal[[Nivel 3]:[Subcuenta]],5,FALSE)),\"\",VLOOKUP(Tabla_Asiento_2[[#This Row],[Cta]],PGCtotal[[Nivel 3]:[Subcuenta]],5,FALSE))","v":""}]
[null,null,null,{"$f":"IF(ISERROR(VLOOKUP(Tabla_Asiento_2[[#This Row],[Cta]],PGCtotal[[Nivel 3]:[Subcuenta]],5,FALSE)),\"\",VLOOKUP(Tabla_Asiento_2[[#This Row],[Cta]],PGCtotal[[Nivel 3]:[Subcuenta]],5,FALSE))","v":""}]
[null,null,null,{"$f":"IF(ISERROR(VLOOKUP(Tabla_Asiento_2[[#This Row],[Cta]],PGCtotal[[Nivel 3]:[Subcuenta]],5,FALSE)),\"\",VLOOKUP(Tabla_Asiento_2[[#This Row],[Cta]],PGCtotal[[Nivel 3]:[Subcuenta]],5,FALSE))","v":""}]
[null,null,null,{"$f":"IF(ISERROR(VLOOKUP(Tabla_Asiento_2[[#This Row],[Cta]],PGCtotal[[Nivel 3]:[Subcuenta]],5,FALSE)),\"\",VLOOKUP(Tabla_Asiento_2[[#This Row],[Cta]],PGCtotal[[Nivel 3]:[Subcuenta]],5,FALSE))","v":""}]
[null,null,null,{"$f":"IF(ISERROR(VLOOKUP(Tabla_Asiento_2[[#This Row],[Cta]],PGCtotal[[Nivel 3]:[Subcuenta]],5,FALSE)),\"\",VLOOKUP(Tabla_Asiento_2[[#This Row],[Cta]],PGCtotal[[Nivel 3]:[Subcuenta]],5,FALSE))","v":""}]
[null,null,null,{"$f":"IF(ISERROR(VLOOKUP(Tabla_Asiento_2[[#This Row],[Cta]],PGCtotal[[Nivel 3]:[Subcuenta]],5,FALSE)),\"\",VLOOKUP(Tabla_Asiento_2[[#This Row],[Cta]],PGCtotal[[Nivel 3]:[Subcuenta]],5,FALSE))","v":""}]
[null,null,null,{"$f":"IF(ISERROR(VLOOKUP(Tabla_Asiento_2[[#This Row],[Cta]],PGCtotal[[Nivel 3]:[Subcuenta]],5,FALSE)),\"\",VLOOKUP(Tabla_Asiento_2[[#This Row],[Cta]],PGCtotal[[Nivel 3]:[Subcuenta]],5,FALSE))","v":""}]
[null,null,null,{"$f":"IF(ISERROR(VLOOKUP(Tabla_Asiento_2[[#This Row],[Cta]],PGCtotal[[Nivel 3]:[Subcuenta]],5,FALSE)),\"\",VLOOKUP(Tabla_Asiento_2[[#This Row],[Cta]],PGCtotal[[Nivel 3]:[Subcuenta]],5,FALSE))","v":""}]
[null,null,null,{"$f":"IF(ISERROR(VLOOKUP(Tabla_Asiento_2[[#This Row],[Cta]],PGCtotal[[Nivel 3]:[Subcuenta]],5,FALSE)),\"\",VLOOKUP(Tabla_Asiento_2[[#This Row],[Cta]],PGCtotal[[Nivel 3]:[Subcuenta]],5,FALSE))","v":""}]
[null,null,null,{"$f":"IF(ISERROR(VLOOKUP(Tabla_Asiento_2[[#This Row],[Cta]],PGCtotal[[Nivel 3]:[Subcuenta]],5,FALSE)),\"\",VLOOKUP(Tabla_Asiento_2[[#This Row],[Cta]],PGCtotal[[Nivel 3]:[Subcuenta]],5,FALSE))","v":""}]
[null,null,null,{"$f":"IF(ISERROR(VLOOKUP(Tabla_Asiento_2[[#This Row],[Cta]],PGCtotal[[Nivel 3]:[Subcuenta]],5,FALSE)),\"\",VLOOKUP(Tabla_Asiento_2[[#This Row],[Cta]],PGCtotal[[Nivel 3]:[Subcuenta]],5,FALSE))","v":""}]
[null,null,null,{"$f":"IF(ISERROR(VLOOKUP(Tabla_Asiento_2[[#This Row],[Cta]],PGCtotal[[Nivel 3]:[Subcuenta]],5,FALSE)),\"\",VLOOKUP(Tabla_Asiento_2[[#This Row],[Cta]],PGCtotal[[Nivel 3]:[Subcuenta]],5,FALSE))","v":""}]
[null,null,null,{"$f":"IF(ISERROR(VLOOKUP(Tabla_Asiento_2[[#This Row],[Cta]],PGCtotal[[Nivel 3]:[Subcuenta]],5,FALSE)),\"\",VLOOKUP(Tabla_Asiento_2[[#This Row],[Cta]],PGCtotal[[Nivel 3]:[Subcuenta]],5,FALSE))","v":""}]
[null,null,null,{"$f":"IF(ISERROR(VLOOKUP(Tabla_Asiento_2[[#This Row],[Cta]],PGCtotal[[Nivel 3]:[Subcuenta]],5,FALSE)),\"\",VLOOKUP(Tabla_Asiento_2[[#This Row],[Cta]],PGCtotal[[Nivel 3]:[Subcuenta]],5,FALSE))","v":""}]
[null,null,null,{"$f":"IF(ISERROR(VLOOKUP(Tabla_Asiento_2[[#This Row],[Cta]],PGCtotal[[Nivel 3]:[Subcuenta]],5,FALSE)),\"\",VLOOKUP(Tabla_Asiento_2[[#This Row],[Cta]],PGCtotal[[Nivel 3]:[Subcuenta]],5,FALSE))","v":""}]
[null,null,null,{"$f":"IF(ISERROR(VLOOKUP(Tabla_Asiento_2[[#This Row],[Cta]],PGCtotal[[Nivel 3]:[Subcuenta]],5,FALSE)),\"\",VLOOKUP(Tabla_Asiento_2[[#This Row],[Cta]],PGCtotal[[Nivel 3]:[Subcuenta]],5,FALSE))","v":""}]
[null,null,null,{"$f":"IF(ISERROR(VLOOKUP(Tabla_Asiento_2[[#This Row],[Cta]],PGCtotal[[Nivel 3]:[Subcuenta]],5,FALSE)),\"\",VLOOKUP(Tabla_Asiento_2[[#This Row],[Cta]],PGCtotal[[Nivel 3]:[Subcuenta]],5,FALSE))","v":""}]
[null,null,null,{"$f":"IF(ISERROR(VLOOKUP(Tabla_Asiento_2[[#This Row],[Cta]],PGCtotal[[Nivel 3]:[Subcuenta]],5,FALSE)),\"\",VLOOKUP(Tabla_Asiento_2[[#This Row],[Cta]],PGCtotal[[Nivel 3]:[Subcuenta]],5,FALSE))","v":""}]
[null,null,null,{"$f":"IF(ISERROR(VLOOKUP(Tabla_Asiento_2[[#This Row],[Cta]],PGCtotal[[Nivel 3]:[Subcuenta]],5,FALSE)),\"\",VLOOKUP(Tabla_Asiento_2[[#This Row],[Cta]],PGCtotal[[Nivel 3]:[Subcuenta]],5,FALSE))","v":""}]
[null,null,null,{"$f":"IF(ISERROR(VLOOKUP(Tabla_Asiento_2[[#This Row],[Cta]],PGCtotal[[Nivel 3]:[Subcuenta]],5,FALSE)),\"\",VLOOKUP(Tabla_Asiento_2[[#This Row],[Cta]],PGCtotal[[Nivel 3]:[Subcuenta]],5,FALSE))","v":""}]
[null,null,null,{"$f":"IF(ISERROR(VLOOKUP(Tabla_Asiento_2[[#This Row],[Cta]],PGCtotal[[Nivel 3]:[Subcuenta]],5,FALSE)),\"\",VLOOKUP(Tabla_Asiento_2[[#This Row],[Cta]],PGCtotal[[Nivel 3]:[Subcuenta]],5,FALSE))","v":""}]
[null,null,null,{"$f":"IF(ISERROR(VLOOKUP(Tabla_Asiento_2[[#This Row],[Cta]],PGCtotal[[Nivel 3]:[Subcuenta]],5,FALSE)),\"\",VLOOKUP(Tabla_Asiento_2[[#This Row],[Cta]],PGCtotal[[Nivel 3]:[Subcuenta]],5,FALSE))","v":""}]
[null,null,null,{"$f":"IF(ISERROR(VLOOKUP(Tabla_Asiento_2[[#This Row],[Cta]],PGCtotal[[Nivel 3]:[Subcuenta]],5,FALSE)),\"\",VLOOKUP(Tabla_Asiento_2[[#This Row],[Cta]],PGCtotal[[Nivel 3]:[Subcuenta]],5,FALSE))","v":""}]
[null,null,null,{"$f":"IF(ISERROR(VLOOKUP(Tabla_Asiento_2[[#This Row],[Cta]],PGCtotal[[Nivel 3]:[Subcuenta]],5,FALSE)),\"\",VLOOKUP(Tabla_Asiento_2[[#This Row],[Cta]],PGCtotal[[Nivel 3]:[Subcuenta]],5,FALSE))","v":""}]
[null,null,null,{"$f":"IF(ISERROR(VLOOKUP(Tabla_Asiento_2[[#This Row],[Cta]],PGCtotal[[Nivel 3]:[Subcuenta]],5,FALSE)),\"\",VLOOKUP(Tabla_Asiento_2[[#This Row],[Cta]],PGCtotal[[Nivel 3]:[Subcuenta]],5,FALSE))","v":""}]
[null,null,null,{"$f":"IF(ISERROR(VLOOKUP(Tabla_Asiento_2[[#This Row],[Cta]],PGCtotal[[Nivel 3]:[Subcuenta]],5,FALSE)),\"\",VLOOKUP(Tabla_Asiento_2[[#This Row],[Cta]],PGCtotal[[Nivel 3]:[Subcuenta]],5,FALSE))","v":""}]
[null,null,null,{"$f":"IF(ISERROR(VLOOKUP(Tabla_Asiento_2[[#This Row],[Cta]],PGCtotal[[Nivel 3]:[Subcuenta]],5,FALSE)),\"\",VLOOKUP(Tabla_Asiento_2[[#This Row],[Cta]],PGCtotal[[Nivel 3]:[Subcuenta]],5,FALSE))","v":""}]
[null,null,null,{"$f":"IF(ISERROR(VLOOKUP(Tabla_Asiento_2[[#This Row],[Cta]],PGCtotal[[Nivel 3]:[Subcuenta]],5,FALSE)),\"\",VLOOKUP(Tabla_Asiento_2[[#This Row],[Cta]],PGCtotal[[Nivel 3]:[Subcuenta]],5,FALSE))","v":""}]
[null,null,null,{"$f":"IF(ISERROR(VLOOKUP(Tabla_Asiento_2[[#This Row],[Cta]],PGCtotal[[Nivel 3]:[Subcuenta]],5,FALSE)),\"\",VLOOKUP(Tabla_Asiento_2[[#This Row],[Cta]],PGCtotal[[Nivel 3]:[Subcuenta]],5,FALSE))","v":""}]
[null,null,null,{"$f":"IF(ISERROR(VLOOKUP(Tabla_Asiento_2[[#This Row],[Cta]],PGCtotal[[Nivel 3]:[Subcuenta]],5,FALSE)),\"\",VLOOKUP(Tabla_Asiento_2[[#This Row],[Cta]],PGCtotal[[Nivel 3]:[Subcuenta]],5,FALSE))","v":""}]
[null,null,null,{"$f":"IF(ISERROR(VLOOKUP(Tabla_Asiento_2[[#This Row],[Cta]],PGCtotal[[Nivel 3]:[Subcuenta]],5,FALSE)),\"\",VLOOKUP(Tabla_Asiento_2[[#This Row],[Cta]],PGCtotal[[Nivel 3]:[Subcuenta]],5,FALSE))","v":""}]
[null,null,null,{"$f":"IF(ISERROR(VLOOKUP(Tabla_Asiento_2[[#This Row],[Cta]],PGCtotal[[Nivel 3]:[Subcuenta]],5,FALSE)),\"\",VLOOKUP(Tabla_Asiento_2[[#This Row],[Cta]],PGCtotal[[Nivel 3]:[Subcuenta]],5,FALSE))","v":""}]
[null,null,null,{"$f":"IF(ISERROR(VLOOKUP(Tabla_Asiento_2[[#This Row],[Cta]],PGCtotal[[Nivel 3]:[Subcuenta]],5,FALSE)),\"\",VLOOKUP(Tabla_Asiento_2[[#This Row],[Cta]],PGCtotal[[Nivel 3]:[Subcuenta]],5,FALSE))","v":""}]
[null,null,null,{"$f":"IF(ISERROR(VLOOKUP(Tabla_Asiento_2[[#This Row],[Cta]],PGCtotal[[Nivel 3]:[Subcuenta]],5,FALSE)),\"\",VLOOKUP(Tabla_Asiento_2[[#This Row],[Cta]],PGCtotal[[Nivel 3]:[Subcuenta]],5,FALSE))","v":""}]
[null,null,null,{"$f":"IF(ISERROR(VLOOKUP(Tabla_Asiento_2[[#This Row],[Cta]],PGCtotal[[Nivel 3]:[Subcuenta]],5,FALSE)),\"\",VLOOKUP(Tabla_Asiento_2[[#This Row],[Cta]],PGCtotal[[Nivel 3]:[Subcuenta]],5,FALSE))","v":""}]
[null,null,null,{"$f":"IF(ISERROR(VLOOKUP(Tabla_Asiento_2[[#This Row],[Cta]],PGCtotal[[Nivel 3]:[Subcuenta]],5,FALSE)),\"\",VLOOKUP(Tabla_Asiento_2[[#This Row],[Cta]],PGCtotal[[Nivel 3]:[Subcuenta]],5,FALSE))","v":""}]
[null,null,null,{"$f":"IF(ISERROR(VLOOKUP(Tabla_Asiento_2[[#This Row],[Cta]],PGCtotal[[Nivel 3]:[Subcuenta]],5,FALSE)),\"\",VLOOKUP(Tabla_Asiento_2[[#This Row],[Cta]],PGCtotal[[Nivel 3]:[Subcuenta]],5,FALSE))","v":""}]
[null,null,null,{"$f":"IF(ISERROR(VLOOKUP(Tabla_Asiento_2[[#This Row],[Cta]],PGCtotal[[Nivel 3]:[Subcuenta]],5,FALSE)),\"\",VLOOKUP(Tabla_Asiento_2[[#This Row],[Cta]],PGCtotal[[Nivel 3]:[Subcuenta]],5,FALSE))","v":""}]
[null,null,null,{"$f":"IF(ISERROR(VLOOKUP(Tabla_Asiento_2[[#This Row],[Cta]],PGCtotal[[Nivel 3]:[Subcuenta]],5,FALSE)),\"\",VLOOKUP(Tabla_Asiento_2[[#This Row],[Cta]],PGCtotal[[Nivel 3]:[Subcuenta]],5,FALSE))","v":""}]
[null,null,null,{"$f":"IF(ISERROR(VLOOKUP(Tabla_Asiento_2[[#This Row],[Cta]],PGCtotal[[Nivel 3]:[Subcuenta]],5,FALSE)),\"\",VLOOKUP(Tabla_Asiento_2[[#This Row],[Cta]],PGCtotal[[Nivel 3]:[Subcuenta]],5,FALSE))","v":""}]
[null,null,null,{"$f":"IF(ISERROR(VLOOKUP(Tabla_Asiento_2[[#This Row],[Cta]],PGCtotal[[Nivel 3]:[Subcuenta]],5,FALSE)),\"\",VLOOKUP(Tabla_Asiento_2[[#This Row],[Cta]],PGCtotal[[Nivel 3]:[Subcuenta]],5,FALSE))","v":""}]
[null,null,null,{"$f":"IF(ISERROR(VLOOKUP(Tabla_Asiento_2[[#This Row],[Cta]],PGCtotal[[Nivel 3]:[Subcuenta]],5,FALSE)),\"\",VLOOKUP(Tabla_Asiento_2[[#This Row],[Cta]],PGCtotal[[Nivel 3]:[Subcuenta]],5,FALSE))","v":""}]
[null,null,null,{"$f":"IF(ISERROR(VLOOKUP(Tabla_Asiento_2[[#This Row],[Cta]],PGCtotal[[Nivel 3]:[Subcuenta]],5,FALSE)),\"\",VLOOKUP(Tabla_Asiento_2[[#This Row],[Cta]],PGCtotal[[Nivel 3]:[Subcuenta]],5,FALSE))","v":""}]
[null,null,null,{"$f":"IF(ISERROR(VLOOKUP(Tabla_Asiento_2[[#This Row],[Cta]],PGCtotal[[Nivel 3]:[Subcuenta]],5,FALSE)),\"\",VLOOKUP(Tabla_Asiento_2[[#This Row],[Cta]],PGCtotal[[Nivel 3]:[Subcuenta]],5,FALSE))","v":""}]
[null,null,null,{"$f":"IF(ISERROR(VLOOKUP(Tabla_Asiento_2[[#This Row],[Cta]],PGCtotal[[Nivel 3]:[Subcuenta]],5,FALSE)),\"\",VLOOKUP(Tabla_Asiento_2[[#This Row],[Cta]],PGCtotal[[Nivel 3]:[Subcuenta]],5,FALSE))","v":""}]
[null,null,null,{"$f":"IF(ISERROR(VLOOKUP(Tabla_Asiento_2[[#This Row],[Cta]],PGCtotal[[Nivel 3]:[Subcuenta]],5,FALSE)),\"\",VLOOKUP(Tabla_Asiento_2[[#This Row],[Cta]],PGCtotal[[Nivel 3]:[Subcuenta]],5,FALSE))","v":""}]
[null,null,null,{"$f":"IF(ISERROR(VLOOKUP(Tabla_Asiento_2[[#This Row],[Cta]],PGCtotal[[Nivel 3]:[Subcuenta]],5,FALSE)),\"\",VLOOKUP(Tabla_Asiento_2[[#This Row],[Cta]],PGCtotal[[Nivel 3]:[Subcuenta]],5,FALSE))","v":""}]
[null,null,null,{"$f":"IF(ISERROR(VLOOKUP(Tabla_Asiento_2[[#This Row],[Cta]],PGCtotal[[Nivel 3]:[Subcuenta]],5,FALSE)),\"\",VLOOKUP(Tabla_Asiento_2[[#This Row],[Cta]],PGCtotal[[Nivel 3]:[Subcuenta]],5,FALSE))","v":""}]
[null,null,null,{"$f":"IF(ISERROR(VLOOKUP(Tabla_Asiento_2[[#This Row],[Cta]],PGCtotal[[Nivel 3]:[Subcuenta]],5,FALSE)),\"\",VLOOKUP(Tabla_Asiento_2[[#This Row],[Cta]],PGCtotal[[Nivel 3]:[Subcuenta]],5,FALSE))","v":""}]
[null,null,null,{"$f":"IF(ISERROR(VLOOKUP(Tabla_Asiento_2[[#This Row],[Cta]],PGCtotal[[Nivel 3]:[Subcuenta]],5,FALSE)),\"\",VLOOKUP(Tabla_Asiento_2[[#This Row],[Cta]],PGCtotal[[Nivel 3]:[Subcuenta]],5,FALSE))","v":""}]
[null,null,null,{"$f":"IF(ISERROR(VLOOKUP(Tabla_Asiento_2[[#This Row],[Cta]],PGCtotal[[Nivel 3]:[Subcuenta]],5,FALSE)),\"\",VLOOKUP(Tabla_Asiento_2[[#This Row],[Cta]],PGCtotal[[Nivel 3]:[Subcuenta]],5,FALSE))","v":""}]
[null,null,null,{"$f":"IF(ISERROR(VLOOKUP(Tabla_Asiento_2[[#This Row],[Cta]],PGCtotal[[Nivel 3]:[Subcuenta]],5,FALSE)),\"\",VLOOKUP(Tabla_Asiento_2[[#This Row],[Cta]],PGCtotal[[Nivel 3]:[Subcuenta]],5,FALSE))","v":""}]
[null,null,null,{"$f":"IF(ISERROR(VLOOKUP(Tabla_Asiento_2[[#This Row],[Cta]],PGCtotal[[Nivel 3]:[Subcuenta]],5,FALSE)),\"\",VLOOKUP(Tabla_Asiento_2[[#This Row],[Cta]],PGCtotal[[Nivel 3]:[Subcuenta]],5,FALSE))","v":""}]
[null,null,null,{"$f":"IF(ISERROR(VLOOKUP(Tabla_Asiento_2[[#This Row],[Cta]],PGCtotal[[Nivel 3]:[Subcuenta]],5,FALSE)),\"\",VLOOKUP(Tabla_Asiento_2[[#This Row],[Cta]],PGCtotal[[Nivel 3]:[Subcuenta]],5,FALSE))","v":""}]
[null,null,null,{"$f":"IF(ISERROR(VLOOKUP(Tabla_Asiento_2[[#This Row],[Cta]],PGCtotal[[Nivel 3]:[Subcuenta]],5,FALSE)),\"\",VLOOKUP(Tabla_Asiento_2[[#This Row],[Cta]],PGCtotal[[Nivel 3]:[Subcuenta]],5,FALSE))","v":""}]
[null,null,null,{"$f":"IF(ISERROR(VLOOKUP(Tabla_Asiento_2[[#This Row],[Cta]],PGCtotal[[Nivel 3]:[Subcuenta]],5,FALSE)),\"\",VLOOKUP(Tabla_Asiento_2[[#This Row],[Cta]],PGCtotal[[Nivel 3]:[Subcuenta]],5,FALSE))","v":""}]
[null,null,null,{"$f":"IF(ISERROR(VLOOKUP(Tabla_Asiento_2[[#This Row],[Cta]],PGCtotal[[Nivel 3]:[Subcuenta]],5,FALSE)),\"\",VLOOKUP(Tabla_Asiento_2[[#This Row],[Cta]],PGCtotal[[Nivel 3]:[Subcuenta]],5,FALSE))","v":""}]
[null,null,null,{"$f":"IF(ISERROR(VLOOKUP(Tabla_Asiento_2[[#This Row],[Cta]],PGCtotal[[Nivel 3]:[Subcuenta]],5,FALSE)),\"\",VLOOKUP(Tabla_Asiento_2[[#This Row],[Cta]],PGCtotal[[Nivel 3]:[Subcuenta]],5,FALSE))","v":""}]
[null,null,null,{"$f":"IF(ISERROR(VLOOKUP(Tabla_Asiento_2[[#This Row],[Cta]],PGCtotal[[Nivel 3]:[Subcuenta]],5,FALSE)),\"\",VLOOKUP(Tabla_Asiento_2[[#This Row],[Cta]],PGCtotal[[Nivel 3]:[Subcuenta]],5,FALSE))","v":""}]
[null,null,null,{"$f":"IF(ISERROR(VLOOKUP(Tabla_Asiento_2[[#This Row],[Cta]],PGCtotal[[Nivel 3]:[Subcuenta]],5,FALSE)),\"\",VLOOKUP(Tabla_Asiento_2[[#This Row],[Cta]],PGCtotal[[Nivel 3]:[Subcuenta]],5,FALSE))","v":""}]
[null,null,null,{"$f":"IF(ISERROR(VLOOKUP(Tabla_Asiento_2[[#This Row],[Cta]],PGCtotal[[Nivel 3]:[Subcuenta]],5,FALSE)),\"\",VLOOKUP(Tabla_Asiento_2[[#This Row],[Cta]],PGCtotal[[Nivel 3]:[Subcuenta]],5,FALSE))","v":""}]
[null,null,null,{"$f":"IF(ISERROR(VLOOKUP(Tabla_Asiento_2[[#This Row],[Cta]],PGCtotal[[Nivel 3]:[Subcuenta]],5,FALSE)),\"\",VLOOKUP(Tabla_Asiento_2[[#This Row],[Cta]],PGCtotal[[Nivel 3]:[Subcuenta]],5,FALSE))","v":""}]
[null,null,null,{"$f":"IF(ISERROR(VLOOKUP(Tabla_Asiento_2[[#This Row],[Cta]],PGCtotal[[Nivel 3]:[Subcuenta]],5,FALSE)),\"\",VLOOKUP(Tabla_Asiento_2[[#This Row],[Cta]],PGCtotal[[Nivel 3]:[Subcuenta]],5,FALSE))","v":""}]
[null,null,null,{"$f":"IF(ISERROR(VLOOKUP(Tabla_Asiento_2[[#This Row],[Cta]],PGCtotal[[Nivel 3]:[Subcuenta]],5,FALSE)),\"\",VLOOKUP(Tabla_Asiento_2[[#This Row],[Cta]],PGCtotal[[Nivel 3]:[Subcuenta]],5,FALSE))","v":""}]
[null,null,null,{"$f":"IF(ISERROR(VLOOKUP(Tabla_Asiento_2[[#This Row],[Cta]],PGCtotal[[Nivel 3]:[Subcuenta]],5,FALSE)),\"\",VLOOKUP(Tabla_Asiento_2[[#This Row],[Cta]],PGCtotal[[Nivel 3]:[Subcuenta]],5,FALSE))","v":""}]
[null,null,null,{"$f":"IF(ISERROR(VLOOKUP(Tabla_Asiento_2[[#This Row],[Cta]],PGCtotal[[Nivel 3]:[Subcuenta]],5,FALSE)),\"\",VLOOKUP(Tabla_Asiento_2[[#This Row],[Cta]],PGCtotal[[Nivel 3]:[Subcuenta]],5,FALSE))","v":""}]
[null,null,null,{"$f":"IF(ISERROR(VLOOKUP(Tabla_Asiento_2[[#This Row],[Cta]],PGCtotal[[Nivel 3]:[Subcuenta]],5,FALSE)),\"\",VLOOKUP(Tabla_Asiento_2[[#This Row],[Cta]],PGCtotal[[Nivel 3]:[Subcuenta]],5,FALSE))","v":""}]
[null,null,null,{"$f":"IF(ISERROR(VLOOKUP(Tabla_Asiento_2[[#This Row],[Cta]],PGCtotal[[Nivel 3]:[Subcuenta]],5,FALSE)),\"\",VLOOKUP(Tabla_Asiento_2[[#This Row],[Cta]],PGCtotal[[Nivel 3]:[Subcuenta]],5,FALSE))","v":""}]
[null,null,null,{"$f":"IF(ISERROR(VLOOKUP(Tabla_Asiento_2[[#This Row],[Cta]],PGCtotal[[Nivel 3]:[Subcuenta]],5,FALSE)),\"\",VLOOKUP(Tabla_Asiento_2[[#This Row],[Cta]],PGCtotal[[Nivel 3]:[Subcuenta]],5,FALSE))","v":""}]
[null,null,null,{"$f":"IF(ISERROR(VLOOKUP(Tabla_Asiento_2[[#This Row],[Cta]],PGCtotal[[Nivel 3]:[Subcuenta]],5,FALSE)),\"\",VLOOKUP(Tabla_Asiento_2[[#This Row],[Cta]],PGCtotal[[Nivel 3]:[Subcuenta]],5,FALSE))","v":""}]
[null,null,null,{"$f":"IF(ISERROR(VLOOKUP(Tabla_Asiento_2[[#This Row],[Cta]],PGCtotal[[Nivel 3]:[Subcuenta]],5,FALSE)),\"\",VLOOKUP(Tabla_Asiento_2[[#This Row],[Cta]],PGCtotal[[Nivel 3]:[Subcuenta]],5,FALSE))","v":""}]
[null,null,null,{"$f":"IF(ISERROR(VLOOKUP(Tabla_Asiento_2[[#This Row],[Cta]],PGCtotal[[Nivel 3]:[Subcuenta]],5,FALSE)),\"\",VLOOKUP(Tabla_Asiento_2[[#This Row],[Cta]],PGCtotal[[Nivel 3]:[Subcuenta]],5,FALSE))","v":""}]
[null,null,null,{"$f":"IF(ISERROR(VLOOKUP(Tabla_Asiento_2[[#This Row],[Cta]],PGCtotal[[Nivel 3]:[Subcuenta]],5,FALSE)),\"\",VLOOKUP(Tabla_Asiento_2[[#This Row],[Cta]],PGCtotal[[Nivel 3]:[Subcuenta]],5,FALSE))","v":""}]
[null,null,null,{"$f":"IF(ISERROR(VLOOKUP(Tabla_Asiento_2[[#This Row],[Cta]],PGCtotal[[Nivel 3]:[Subcuenta]],5,FALSE)),\"\",VLOOKUP(Tabla_Asiento_2[[#This Row],[Cta]],PGCtotal[[Nivel 3]:[Subcuenta]],5,FALSE))","v":""}]
[null,null,null,{"$f":"IF(ISERROR(VLOOKUP(Tabla_Asiento_2[[#This Row],[Cta]],PGCtotal[[Nivel 3]:[Subcuenta]],5,FALSE)),\"\",VLOOKUP(Tabla_Asiento_2[[#This Row],[Cta]],PGCtotal[[Nivel 3]:[Subcuenta]],5,FALSE))","v":""}]
[null,null,null,{"$f":"IF(ISERROR(VLOOKUP(Tabla_Asiento_2[[#This Row],[Cta]],PGCtotal[[Nivel 3]:[Subcuenta]],5,FALSE)),\"\",VLOOKUP(Tabla_Asiento_2[[#This Row],[Cta]],PGCtotal[[Nivel 3]:[Subcuenta]],5,FALSE))","v":""}]
[null,null,null,{"$f":"IF(ISERROR(VLOOKUP(Tabla_Asiento_2[[#This Row],[Cta]],PGCtotal[[Nivel 3]:[Subcuenta]],5,FALSE)),\"\",VLOOKUP(Tabla_Asiento_2[[#This Row],[Cta]],PGCtotal[[Nivel 3]:[Subcuenta]],5,FALSE))","v":""}]
[null,null,null,{"$f":"IF(ISERROR(VLOOKUP(Tabla_Asiento_2[[#This Row],[Cta]],PGCtotal[[Nivel 3]:[Subcuenta]],5,FALSE)),\"\",VLOOKUP(Tabla_Asiento_2[[#This Row],[Cta]],PGCtotal[[Nivel 3]:[Subcuenta]],5,FALSE))","v":""}]
[null,null,null,{"$f":"IF(ISERROR(VLOOKUP(Tabla_Asiento_2[[#This Row],[Cta]],PGCtotal[[Nivel 3]:[Subcuenta]],5,FALSE)),\"\",VLOOKUP(Tabla_Asiento_2[[#This Row],[Cta]],PGCtotal[[Nivel 3]:[Subcuenta]],5,FALSE))","v":""}]
[null,null,null,{"$f":"IF(ISERROR(VLOOKUP(Tabla_Asiento_2[[#This Row],[Cta]],PGCtotal[[Nivel 3]:[Subcuenta]],5,FALSE)),\"\",VLOOKUP(Tabla_Asiento_2[[#This Row],[Cta]],PGCtotal[[Nivel 3]:[Subcuenta]],5,FALSE))","v":""}]
[null,null,null,{"$f":"IF(ISERROR(VLOOKUP(Tabla_Asiento_2[[#This Row],[Cta]],PGCtotal[[Nivel 3]:[Subcuenta]],5,FALSE)),\"\",VLOOKUP(Tabla_Asiento_2[[#This Row],[Cta]],PGCtotal[[Nivel 3]:[Subcuenta]],5,FALSE))","v":""}]
[null,null,null,{"$f":"IF(ISERROR(VLOOKUP(Tabla_Asiento_2[[#This Row],[Cta]],PGCtotal[[Nivel 3]:[Subcuenta]],5,FALSE)),\"\",VLOOKUP(Tabla_Asiento_2[[#This Row],[Cta]],PGCtotal[[Nivel 3]:[Subcuenta]],5,FALSE))","v":""}]
[null,null,null,{"$f":"IF(ISERROR(VLOOKUP(Tabla_Asiento_2[[#This Row],[Cta]],PGCtotal[[Nivel 3]:[Subcuenta]],5,FALSE)),\"\",VLOOKUP(Tabla_Asiento_2[[#This Row],[Cta]],PGCtotal[[Nivel 3]:[Subcuenta]],5,FALSE))","v":""}]
[null,null,null,{"$f":"IF(ISERROR(VLOOKUP(Tabla_Asiento_2[[#This Row],[Cta]],PGCtotal[[Nivel 3]:[Subcuenta]],5,FALSE)),\"\",VLOOKUP(Tabla_Asiento_2[[#This Row],[Cta]],PGCtotal[[Nivel 3]:[Subcuenta]],5,FALSE))","v":""}]
[null,null,null,{"$f":"IF(ISERROR(VLOOKUP(Tabla_Asiento_2[[#This Row],[Cta]],PGCtotal[[Nivel 3]:[Subcuenta]],5,FALSE)),\"\",VLOOKUP(Tabla_Asiento_2[[#This Row],[Cta]],PGCtotal[[Nivel 3]:[Subcuenta]],5,FALSE))","v":""}]
[null,null,null,{"$f":"IF(ISERROR(VLOOKUP(Tabla_Asiento_2[[#This Row],[Cta]],PGCtotal[[Nivel 3]:[Subcuenta]],5,FALSE)),\"\",VLOOKUP(Tabla_Asiento_2[[#This Row],[Cta]],PGCtotal[[Nivel 3]:[Subcuenta]],5,FALSE))","v":""}]
[null,null,null,{"$f":"IF(ISERROR(VLOOKUP(Tabla_Asiento_2[[#This Row],[Cta]],PGCtotal[[Nivel 3]:[Subcuenta]],5,FALSE)),\"\",VLOOKUP(Tabla_Asiento_2[[#This Row],[Cta]],PGCtotal[[Nivel 3]:[Subcuenta]],5,FALSE))","v":""}]
[null,null,null,{"$f":"IF(ISERROR(VLOOKUP(Tabla_Asiento_2[[#This Row],[Cta]],PGCtotal[[Nivel 3]:[Subcuenta]],5,FALSE)),\"\",VLOOKUP(Tabla_Asiento_2[[#This Row],[Cta]],PGCtotal[[Nivel 3]:[Subcuenta]],5,FALSE))","v":""}]
[null,null,null,{"$f":"IF(ISERROR(VLOOKUP(Tabla_Asiento_2[[#This Row],[Cta]],PGCtotal[[Nivel 3]:[Subcuenta]],5,FALSE)),\"\",VLOOKUP(Tabla_Asiento_2[[#This Row],[Cta]],PGCtotal[[Nivel 3]:[Subcuenta]],5,FALSE))","v":""}]
[null,null,null,{"$f":"IF(ISERROR(VLOOKUP(Tabla_Asiento_2[[#This Row],[Cta]],PGCtotal[[Nivel 3]:[Subcuenta]],5,FALSE)),\"\",VLOOKUP(Tabla_Asiento_2[[#This Row],[Cta]],PGCtotal[[Nivel 3]:[Subcuenta]],5,FALSE))","v":""}]
[null,null,null,{"$f":"IF(ISERROR(VLOOKUP(Tabla_Asiento_2[[#This Row],[Cta]],PGCtotal[[Nivel 3]:[Subcuenta]],5,FALSE)),\"\",VLOOKUP(Tabla_Asiento_2[[#This Row],[Cta]],PGCtotal[[Nivel 3]:[Subcuenta]],5,FALSE))","v":""}]
[null,null,null,{"$f":"IF(ISERROR(VLOOKUP(Tabla_Asiento_2[[#This Row],[Cta]],PGCtotal[[Nivel 3]:[Subcuenta]],5,FALSE)),\"\",VLOOKUP(Tabla_Asiento_2[[#This Row],[Cta]],PGCtotal[[Nivel 3]:[Subcuenta]],5,FALSE))","v":""}]
[null,null,null,{"$f":"IF(ISERROR(VLOOKUP(Tabla_Asiento_2[[#This Row],[Cta]],PGCtotal[[Nivel 3]:[Subcuenta]],5,FALSE)),\"\",VLOOKUP(Tabla_Asiento_2[[#This Row],[Cta]],PGCtotal[[Nivel 3]:[Subcuenta]],5,FALSE))","v":""}]
[null,null,null,{"$f":"IF(ISERROR(VLOOKUP(Tabla_Asiento_2[[#This Row],[Cta]],PGCtotal[[Nivel 3]:[Subcuenta]],5,FALSE)),\"\",VLOOKUP(Tabla_Asiento_2[[#This Row],[Cta]],PGCtotal[[Nivel 3]:[Subcuenta]],5,FALSE))","v":""}]
[null,null,null,{"$f":"IF(ISERROR(VLOOKUP(Tabla_Asiento_2[[#This Row],[Cta]],PGCtotal[[Nivel 3]:[Subcuenta]],5,FALSE)),\"\",VLOOKUP(Tabla_Asiento_2[[#This Row],[Cta]],PGCtotal[[Nivel 3]:[Subcuenta]],5,FALSE))","v":""}]
[null,null,null,{"$f":"IF(ISERROR(VLOOKUP(Tabla_Asiento_2[[#This Row],[Cta]],PGCtotal[[Nivel 3]:[Subcuenta]],5,FALSE)),\"\",VLOOKUP(Tabla_Asiento_2[[#This Row],[Cta]],PGCtotal[[Nivel 3]:[Subcuenta]],5,FALSE))","v":""}]
[null,null,null,{"$f":"IF(ISERROR(VLOOKUP(Tabla_Asiento_2[[#This Row],[Cta]],PGCtotal[[Nivel 3]:[Subcuenta]],5,FALSE)),\"\",VLOOKUP(Tabla_Asiento_2[[#This Row],[Cta]],PGCtotal[[Nivel 3]:[Subcuenta]],5,FALSE))","v":""}]
[null,null,null,{"$f":"IF(ISERROR(VLOOKUP(Tabla_Asiento_2[[#This Row],[Cta]],PGCtotal[[Nivel 3]:[Subcuenta]],5,FALSE)),\"\",VLOOKUP(Tabla_Asiento_2[[#This Row],[Cta]],PGCtotal[[Nivel 3]:[Subcuenta]],5,FALSE))","v":""}]
[null,null,null,{"$f":"IF(ISERROR(VLOOKUP(Tabla_Asiento_2[[#This Row],[Cta]],PGCtotal[[Nivel 3]:[Subcuenta]],5,FALSE)),\"\",VLOOKUP(Tabla_Asiento_2[[#This Row],[Cta]],PGCtotal[[Nivel 3]:[Subcuenta]],5,FALSE))","v":""}]
[null,null,null,{"$f":"IF(ISERROR(VLOOKUP(Tabla_Asiento_2[[#This Row],[Cta]],PGCtotal[[Nivel 3]:[Subcuenta]],5,FALSE)),\"\",VLOOKUP(Tabla_Asiento_2[[#This Row],[Cta]],PGCtotal[[Nivel 3]:[Subcuenta]],5,FALSE))","v":""}]
[null,null,null,{"$f":"IF(ISERROR(VLOOKUP(Tabla_Asiento_2[[#This Row],[Cta]],PGCtotal[[Nivel 3]:[Subcuenta]],5,FALSE)),\"\",VLOOKUP(Tabla_Asiento_2[[#This Row],[Cta]],PGCtotal[[Nivel 3]:[Subcuenta]],5,FALSE))","v":""}]
[null,null,null,{"$f":"IF(ISERROR(VLOOKUP(Tabla_Asiento_2[[#This Row],[Cta]],PGCtotal[[Nivel 3]:[Subcuenta]],5,FALSE)),\"\",VLOOKUP(Tabla_Asiento_2[[#This Row],[Cta]],PGCtotal[[Nivel 3]:[Subcuenta]],5,FALSE))","v":""}]
[null,null,null,{"$f":"IF(ISERROR(VLOOKUP(Tabla_Asiento_2[[#This Row],[Cta]],PGCtotal[[Nivel 3]:[Subcuenta]],5,FALSE)),\"\",VLOOKUP(Tabla_Asiento_2[[#This Row],[Cta]],PGCtotal[[Nivel 3]:[Subcuenta]],5,FALSE))","v":""}]
[null,null,null,{"$f":"IF(ISERROR(VLOOKUP(Tabla_Asiento_2[[#This Row],[Cta]],PGCtotal[[Nivel 3]:[Subcuenta]],5,FALSE)),\"\",VLOOKUP(Tabla_Asiento_2[[#This Row],[Cta]],PGCtotal[[Nivel 3]:[Subcuenta]],5,FALSE))","v":""}]
[null,null,null,{"$f":"IF(ISERROR(VLOOKUP(Tabla_Asiento_2[[#This Row],[Cta]],PGCtotal[[Nivel 3]:[Subcuenta]],5,FALSE)),\"\",VLOOKUP(Tabla_Asiento_2[[#This Row],[Cta]],PGCtotal[[Nivel 3]:[Subcuenta]],5,FALSE))","v":""}]
[null,null,null,{"$f":"IF(ISERROR(VLOOKUP(Tabla_Asiento_2[[#This Row],[Cta]],PGCtotal[[Nivel 3]:[Subcuenta]],5,FALSE)),\"\",VLOOKUP(Tabla_Asiento_2[[#This Row],[Cta]],PGCtotal[[Nivel 3]:[Subcuenta]],5,FALSE))","v":""}]
[null,null,null,{"$f":"IF(ISERROR(VLOOKUP(Tabla_Asiento_2[[#This Row],[Cta]],PGCtotal[[Nivel 3]:[Subcuenta]],5,FALSE)),\"\",VLOOKUP(Tabla_Asiento_2[[#This Row],[Cta]],PGCtotal[[Nivel 3]:[Subcuenta]],5,FALSE))","v":""}]
[null,null,null,{"$f":"IF(ISERROR(VLOOKUP(Tabla_Asiento_2[[#This Row],[Cta]],PGCtotal[[Nivel 3]:[Subcuenta]],5,FALSE)),\"\",VLOOKUP(Tabla_Asiento_2[[#This Row],[Cta]],PGCtotal[[Nivel 3]:[Subcuenta]],5,FALSE))","v":""}]
[null,null,null,{"$f":"IF(ISERROR(VLOOKUP(Tabla_Asiento_2[[#This Row],[Cta]],PGCtotal[[Nivel 3]:[Subcuenta]],5,FALSE)),\"\",VLOOKUP(Tabla_Asiento_2[[#This Row],[Cta]],PGCtotal[[Nivel 3]:[Subcuenta]],5,FALSE))","v":""}]
[null,null,null,{"$f":"IF(ISERROR(VLOOKUP(Tabla_Asiento_2[[#This Row],[Cta]],PGCtotal[[Nivel 3]:[Subcuenta]],5,FALSE)),\"\",VLOOKUP(Tabla_Asiento_2[[#This Row],[Cta]],PGCtotal[[Nivel 3]:[Subcuenta]],5,FALSE))","v":""}]
[null,null,null,{"$f":"IF(ISERROR(VLOOKUP(Tabla_Asiento_2[[#This Row],[Cta]],PGCtotal[[Nivel 3]:[Subcuenta]],5,FALSE)),\"\",VLOOKUP(Tabla_Asiento_2[[#This Row],[Cta]],PGCtotal[[Nivel 3]:[Subcuenta]],5,FALSE))","v":""}]
[null,null,null,{"$f":"IF(ISERROR(VLOOKUP(Tabla_Asiento_2[[#This Row],[Cta]],PGCtotal[[Nivel 3]:[Subcuenta]],5,FALSE)),\"\",VLOOKUP(Tabla_Asiento_2[[#This Row],[Cta]],PGCtotal[[Nivel 3]:[Subcuenta]],5,FALSE))","v":""}]
[null,null,null,{"$f":"IF(ISERROR(VLOOKUP(Tabla_Asiento_2[[#This Row],[Cta]],PGCtotal[[Nivel 3]:[Subcuenta]],5,FALSE)),\"\",VLOOKUP(Tabla_Asiento_2[[#This Row],[Cta]],PGCtotal[[Nivel 3]:[Subcuenta]],5,FALSE))","v":""}]
[null,null,null,{"$f":"IF(ISERROR(VLOOKUP(Tabla_Asiento_2[[#This Row],[Cta]],PGCtotal[[Nivel 3]:[Subcuenta]],5,FALSE)),\"\",VLOOKUP(Tabla_Asiento_2[[#This Row],[Cta]],PGCtotal[[Nivel 3]:[Subcuenta]],5,FALSE))","v":""}]
[null,null,null,{"$f":"IF(ISERROR(VLOOKUP(Tabla_Asiento_2[[#This Row],[Cta]],PGCtotal[[Nivel 3]:[Subcuenta]],5,FALSE)),\"\",VLOOKUP(Tabla_Asiento_2[[#This Row],[Cta]],PGCtotal[[Nivel 3]:[Subcuenta]],5,FALSE))","v":""}]
[null,null,null,{"$f":"IF(ISERROR(VLOOKUP(Tabla_Asiento_2[[#This Row],[Cta]],PGCtotal[[Nivel 3]:[Subcuenta]],5,FALSE)),\"\",VLOOKUP(Tabla_Asiento_2[[#This Row],[Cta]],PGCtotal[[Nivel 3]:[Subcuenta]],5,FALSE))","v":""}]
[null,null,null,{"$f":"IF(ISERROR(VLOOKUP(Tabla_Asiento_2[[#This Row],[Cta]],PGCtotal[[Nivel 3]:[Subcuenta]],5,FALSE)),\"\",VLOOKUP(Tabla_Asiento_2[[#This Row],[Cta]],PGCtotal[[Nivel 3]:[Subcuenta]],5,FALSE))","v":""}]
[null,null,null,{"$f":"IF(ISERROR(VLOOKUP(Tabla_Asiento_2[[#This Row],[Cta]],PGCtotal[[Nivel 3]:[Subcuenta]],5,FALSE)),\"\",VLOOKUP(Tabla_Asiento_2[[#This Row],[Cta]],PGCtotal[[Nivel 3]:[Subcuenta]],5,FALSE))","v":""}]
[null,null,null,{"$f":"IF(ISERROR(VLOOKUP(Tabla_Asiento_2[[#This Row],[Cta]],PGCtotal[[Nivel 3]:[Subcuenta]],5,FALSE)),\"\",VLOOKUP(Tabla_Asiento_2[[#This Row],[Cta]],PGCtotal[[Nivel 3]:[Subcuenta]],5,FALSE))","v":""}]
[null,null,null,{"$f":"IF(ISERROR(VLOOKUP(Tabla_Asiento_2[[#This Row],[Cta]],PGCtotal[[Nivel 3]:[Subcuenta]],5,FALSE)),\"\",VLOOKUP(Tabla_Asiento_2[[#This Row],[Cta]],PGCtotal[[Nivel 3]:[Subcuenta]],5,FALSE))","v":""}]
[null,null,null,{"$f":"IF(ISERROR(VLOOKUP(Tabla_Asiento_2[[#This Row],[Cta]],PGCtotal[[Nivel 3]:[Subcuenta]],5,FALSE)),\"\",VLOOKUP(Tabla_Asiento_2[[#This Row],[Cta]],PGCtotal[[Nivel 3]:[Subcuenta]],5,FALSE))","v":""}]
[null,null,null,{"$f":"IF(ISERROR(VLOOKUP(Tabla_Asiento_2[[#This Row],[Cta]],PGCtotal[[Nivel 3]:[Subcuenta]],5,FALSE)),\"\",VLOOKUP(Tabla_Asiento_2[[#This Row],[Cta]],PGCtotal[[Nivel 3]:[Subcuenta]],5,FALSE))","v":""}]
[null,null,null,{"$f":"IF(ISERROR(VLOOKUP(Tabla_Asiento_2[[#This Row],[Cta]],PGCtotal[[Nivel 3]:[Subcuenta]],5,FALSE)),\"\",VLOOKUP(Tabla_Asiento_2[[#This Row],[Cta]],PGCtotal[[Nivel 3]:[Subcuenta]],5,FALSE))","v":""}]
[null,null,null,{"$f":"IF(ISERROR(VLOOKUP(Tabla_Asiento_2[[#This Row],[Cta]],PGCtotal[[Nivel 3]:[Subcuenta]],5,FALSE)),\"\",VLOOKUP(Tabla_Asiento_2[[#This Row],[Cta]],PGCtotal[[Nivel 3]:[Subcuenta]],5,FALSE))","v":""}]
[null,null,null,{"$f":"IF(ISERROR(VLOOKUP(Tabla_Asiento_2[[#This Row],[Cta]],PGCtotal[[Nivel 3]:[Subcuenta]],5,FALSE)),\"\",VLOOKUP(Tabla_Asiento_2[[#This Row],[Cta]],PGCtotal[[Nivel 3]:[Subcuenta]],5,FALSE))","v":""}]
[null,null,null,{"$f":"IF(ISERROR(VLOOKUP(Tabla_Asiento_2[[#This Row],[Cta]],PGCtotal[[Nivel 3]:[Subcuenta]],5,FALSE)),\"\",VLOOKUP(Tabla_Asiento_2[[#This Row],[Cta]],PGCtotal[[Nivel 3]:[Subcuenta]],5,FALSE))","v":""}]
[null,null,null,{"$f":"IF(ISERROR(VLOOKUP(Tabla_Asiento_2[[#This Row],[Cta]],PGCtotal[[Nivel 3]:[Subcuenta]],5,FALSE)),\"\",VLOOKUP(Tabla_Asiento_2[[#This Row],[Cta]],PGCtotal[[Nivel 3]:[Subcuenta]],5,FALSE))","v":""}]
[null,null,null,{"$f":"IF(ISERROR(VLOOKUP(Tabla_Asiento_2[[#This Row],[Cta]],PGCtotal[[Nivel 3]:[Subcuenta]],5,FALSE)),\"\",VLOOKUP(Tabla_Asiento_2[[#This Row],[Cta]],PGCtotal[[Nivel 3]:[Subcuenta]],5,FALSE))","v":""}]
[null,null,null,{"$f":"IF(ISERROR(VLOOKUP(Tabla_Asiento_2[[#This Row],[Cta]],PGCtotal[[Nivel 3]:[Subcuenta]],5,FALSE)),\"\",VLOOKUP(Tabla_Asiento_2[[#This Row],[Cta]],PGCtotal[[Nivel 3]:[Subcuenta]],5,FALSE))","v":""}]
[null,null,null,{"$f":"IF(ISERROR(VLOOKUP(Tabla_Asiento_2[[#This Row],[Cta]],PGCtotal[[Nivel 3]:[Subcuenta]],5,FALSE)),\"\",VLOOKUP(Tabla_Asiento_2[[#This Row],[Cta]],PGCtotal[[Nivel 3]:[Subcuenta]],5,FALSE))","v":""}]
[null,null,null,{"$f":"IF(ISERROR(VLOOKUP(Tabla_Asiento_2[[#This Row],[Cta]],PGCtotal[[Nivel 3]:[Subcuenta]],5,FALSE)),\"\",VLOOKUP(Tabla_Asiento_2[[#This Row],[Cta]],PGCtotal[[Nivel 3]:[Subcuenta]],5,FALSE))","v":""}]
[null,null,null,{"$f":"IF(ISERROR(VLOOKUP(Tabla_Asiento_2[[#This Row],[Cta]],PGCtotal[[Nivel 3]:[Subcuenta]],5,FALSE)),\"\",VLOOKUP(Tabla_Asiento_2[[#This Row],[Cta]],PGCtotal[[Nivel 3]:[Subcuenta]],5,FALSE))","v":""}]
[null,null,null,{"$f":"IF(ISERROR(VLOOKUP(Tabla_Asiento_2[[#This Row],[Cta]],PGCtotal[[Nivel 3]:[Subcuenta]],5,FALSE)),\"\",VLOOKUP(Tabla_Asiento_2[[#This Row],[Cta]],PGCtotal[[Nivel 3]:[Subcuenta]],5,FALSE))","v":""}]
[null,null,null,{"$f":"IF(ISERROR(VLOOKUP(Tabla_Asiento_2[[#This Row],[Cta]],PGCtotal[[Nivel 3]:[Subcuenta]],5,FALSE)),\"\",VLOOKUP(Tabla_Asiento_2[[#This Row],[Cta]],PGCtotal[[Nivel 3]:[Subcuenta]],5,FALSE))","v":""}]
[null,null,null,{"$f":"IF(ISERROR(VLOOKUP(Tabla_Asiento_2[[#This Row],[Cta]],PGCtotal[[Nivel 3]:[Subcuenta]],5,FALSE)),\"\",VLOOKUP(Tabla_Asiento_2[[#This Row],[Cta]],PGCtotal[[Nivel 3]:[Subcuenta]],5,FALSE))","v":""}]
[null,null,null,{"$f":"IF(ISERROR(VLOOKUP(Tabla_Asiento_2[[#This Row],[Cta]],PGCtotal[[Nivel 3]:[Subcuenta]],5,FALSE)),\"\",VLOOKUP(Tabla_Asiento_2[[#This Row],[Cta]],PGCtotal[[Nivel 3]:[Subcuenta]],5,FALSE))","v":""}]
[null,null,null,{"$f":"IF(ISERROR(VLOOKUP(Tabla_Asiento_2[[#This Row],[Cta]],PGCtotal[[Nivel 3]:[Subcuenta]],5,FALSE)),\"\",VLOOKUP(Tabla_Asiento_2[[#This Row],[Cta]],PGCtotal[[Nivel 3]:[Subcuenta]],5,FALSE))","v":""}]
[null,null,null,{"$f":"IF(ISERROR(VLOOKUP(Tabla_Asiento_2[[#This Row],[Cta]],PGCtotal[[Nivel 3]:[Subcuenta]],5,FALSE)),\"\",VLOOKUP(Tabla_Asiento_2[[#This Row],[Cta]],PGCtotal[[Nivel 3]:[Subcuenta]],5,FALSE))","v":""}]
[null,null,null,{"$f":"IF(ISERROR(VLOOKUP(Tabla_Asiento_2[[#This Row],[Cta]],PGCtotal[[Nivel 3]:[Subcuenta]],5,FALSE)),\"\",VLOOKUP(Tabla_Asiento_2[[#This Row],[Cta]],PGCtotal[[Nivel 3]:[Subcuenta]],5,FALSE))","v":""}]
[null,null,null,{"$f":"IF(ISERROR(VLOOKUP(Tabla_Asiento_2[[#This Row],[Cta]],PGCtotal[[Nivel 3]:[Subcuenta]],5,FALSE)),\"\",VLOOKUP(Tabla_Asiento_2[[#This Row],[Cta]],PGCtotal[[Nivel 3]:[Subcuenta]],5,FALSE))","v":""}]
[null,null,null,{"$f":"IF(ISERROR(VLOOKUP(Tabla_Asiento_2[[#This Row],[Cta]],PGCtotal[[Nivel 3]:[Subcuenta]],5,FALSE)),\"\",VLOOKUP(Tabla_Asiento_2[[#This Row],[Cta]],PGCtotal[[Nivel 3]:[Subcuenta]],5,FALSE))","v":""}]
[null,null,null,{"$f":"IF(ISERROR(VLOOKUP(Tabla_Asiento_2[[#This Row],[Cta]],PGCtotal[[Nivel 3]:[Subcuenta]],5,FALSE)),\"\",VLOOKUP(Tabla_Asiento_2[[#This Row],[Cta]],PGCtotal[[Nivel 3]:[Subcuenta]],5,FALSE))","v":""}]
[null,null,null,{"$f":"IF(ISERROR(VLOOKUP(Tabla_Asiento_2[[#This Row],[Cta]],PGCtotal[[Nivel 3]:[Subcuenta]],5,FALSE)),\"\",VLOOKUP(Tabla_Asiento_2[[#This Row],[Cta]],PGCtotal[[Nivel 3]:[Subcuenta]],5,FALSE))","v":""}]
[null,null,null,{"$f":"IF(ISERROR(VLOOKUP(Tabla_Asiento_2[[#This Row],[Cta]],PGCtotal[[Nivel 3]:[Subcuenta]],5,FALSE)),\"\",VLOOKUP(Tabla_Asiento_2[[#This Row],[Cta]],PGCtotal[[Nivel 3]:[Subcuenta]],5,FALSE))","v":""}]
[null,null,null,{"$f":"IF(ISERROR(VLOOKUP(Tabla_Asiento_2[[#This Row],[Cta]],PGCtotal[[Nivel 3]:[Subcuenta]],5,FALSE)),\"\",VLOOKUP(Tabla_Asiento_2[[#This Row],[Cta]],PGCtotal[[Nivel 3]:[Subcuenta]],5,FALSE))","v":""}]
[null,null,null,{"$f":"IF(ISERROR(VLOOKUP(Tabla_Asiento_2[[#This Row],[Cta]],PGCtotal[[Nivel 3]:[Subcuenta]],5,FALSE)),\"\",VLOOKUP(Tabla_Asiento_2[[#This Row],[Cta]],PGCtotal[[Nivel 3]:[Subcuenta]],5,FALSE))","v":""}]
[null,null,null,{"$f":"IF(ISERROR(VLOOKUP(Tabla_Asiento_2[[#This Row],[Cta]],PGCtotal[[Nivel 3]:[Subcuenta]],5,FALSE)),\"\",VLOOKUP(Tabla_Asiento_2[[#This Row],[Cta]],PGCtotal[[Nivel 3]:[Subcuenta]],5,FALSE))","v":""}]
[null,null,null,{"$f":"IF(ISERROR(VLOOKUP(Tabla_Asiento_2[[#This Row],[Cta]],PGCtotal[[Nivel 3]:[Subcuenta]],5,FALSE)),\"\",VLOOKUP(Tabla_Asiento_2[[#This Row],[Cta]],PGCtotal[[Nivel 3]:[Subcuenta]],5,FALSE))","v":""}]
[null,null,null,{"$f":"IF(ISERROR(VLOOKUP(Tabla_Asiento_2[[#This Row],[Cta]],PGCtotal[[Nivel 3]:[Subcuenta]],5,FALSE)),\"\",VLOOKUP(Tabla_Asiento_2[[#This Row],[Cta]],PGCtotal[[Nivel 3]:[Subcuenta]],5,FALSE))","v":""}]
[null,null,null,{"$f":"IF(ISERROR(VLOOKUP(Tabla_Asiento_2[[#This Row],[Cta]],PGCtotal[[Nivel 3]:[Subcuenta]],5,FALSE)),\"\",VLOOKUP(Tabla_Asiento_2[[#This Row],[Cta]],PGCtotal[[Nivel 3]:[Subcuenta]],5,FALSE))","v":""}]
[null,null,null,{"$f":"IF(ISERROR(VLOOKUP(Tabla_Asiento_2[[#This Row],[Cta]],PGCtotal[[Nivel 3]:[Subcuenta]],5,FALSE)),\"\",VLOOKUP(Tabla_Asiento_2[[#This Row],[Cta]],PGCtotal[[Nivel 3]:[Subcuenta]],5,FALSE))","v":""}]
[null,null,null,{"$f":"IF(ISERROR(VLOOKUP(Tabla_Asiento_2[[#This Row],[Cta]],PGCtotal[[Nivel 3]:[Subcuenta]],5,FALSE)),\"\",VLOOKUP(Tabla_Asiento_2[[#This Row],[Cta]],PGCtotal[[Nivel 3]:[Subcuenta]],5,FALSE))","v":""}]
[null,null,null,{"$f":"IF(ISERROR(VLOOKUP(Tabla_Asiento_2[[#This Row],[Cta]],PGCtotal[[Nivel 3]:[Subcuenta]],5,FALSE)),\"\",VLOOKUP(Tabla_Asiento_2[[#This Row],[Cta]],PGCtotal[[Nivel 3]:[Subcuenta]],5,FALSE))","v":""}]
[null,null,null,{"$f":"IF(ISERROR(VLOOKUP(Tabla_Asiento_2[[#This Row],[Cta]],PGCtotal[[Nivel 3]:[Subcuenta]],5,FALSE)),\"\",VLOOKUP(Tabla_Asiento_2[[#This Row],[Cta]],PGCtotal[[Nivel 3]:[Subcuenta]],5,FALSE))","v":""}]
[null,null,null,{"$f":"IF(ISERROR(VLOOKUP(Tabla_Asiento_2[[#This Row],[Cta]],PGCtotal[[Nivel 3]:[Subcuenta]],5,FALSE)),\"\",VLOOKUP(Tabla_Asiento_2[[#This Row],[Cta]],PGCtotal[[Nivel 3]:[Subcuenta]],5,FALSE))","v":""}]
[null,null,null,{"$f":"IF(ISERROR(VLOOKUP(Tabla_Asiento_2[[#This Row],[Cta]],PGCtotal[[Nivel 3]:[Subcuenta]],5,FALSE)),\"\",VLOOKUP(Tabla_Asiento_2[[#This Row],[Cta]],PGCtotal[[Nivel 3]:[Subcuenta]],5,FALSE))","v":""}]
[null,null,null,{"$f":"IF(ISERROR(VLOOKUP(Tabla_Asiento_2[[#This Row],[Cta]],PGCtotal[[Nivel 3]:[Subcuenta]],5,FALSE)),\"\",VLOOKUP(Tabla_Asiento_2[[#This Row],[Cta]],PGCtotal[[Nivel 3]:[Subcuenta]],5,FALSE))","v":""}]
[null,null,null,{"$f":"IF(ISERROR(VLOOKUP(Tabla_Asiento_2[[#This Row],[Cta]],PGCtotal[[Nivel 3]:[Subcuenta]],5,FALSE)),\"\",VLOOKUP(Tabla_Asiento_2[[#This Row],[Cta]],PGCtotal[[Nivel 3]:[Subcuenta]],5,FALSE))","v":""}]
[null,null,null,{"$f":"IF(ISERROR(VLOOKUP(Tabla_Asiento_2[[#This Row],[Cta]],PGCtotal[[Nivel 3]:[Subcuenta]],5,FALSE)),\"\",VLOOKUP(Tabla_Asiento_2[[#This Row],[Cta]],PGCtotal[[Nivel 3]:[Subcuenta]],5,FALSE))","v":""}]
[null,null,null,{"$f":"IF(ISERROR(VLOOKUP(Tabla_Asiento_2[[#This Row],[Cta]],PGCtotal[[Nivel 3]:[Subcuenta]],5,FALSE)),\"\",VLOOKUP(Tabla_Asiento_2[[#This Row],[Cta]],PGCtotal[[Nivel 3]:[Subcuenta]],5,FALSE))","v":""}]
[null,null,null,{"$f":"IF(ISERROR(VLOOKUP(Tabla_Asiento_2[[#This Row],[Cta]],PGCtotal[[Nivel 3]:[Subcuenta]],5,FALSE)),\"\",VLOOKUP(Tabla_Asiento_2[[#This Row],[Cta]],PGCtotal[[Nivel 3]:[Subcuenta]],5,FALSE))","v":""}]
[null,null,null,{"$f":"IF(ISERROR(VLOOKUP(Tabla_Asiento_2[[#This Row],[Cta]],PGCtotal[[Nivel 3]:[Subcuenta]],5,FALSE)),\"\",VLOOKUP(Tabla_Asiento_2[[#This Row],[Cta]],PGCtotal[[Nivel 3]:[Subcuenta]],5,FALSE))","v":""}]
[null,null,null,{"$f":"IF(ISERROR(VLOOKUP(Tabla_Asiento_2[[#This Row],[Cta]],PGCtotal[[Nivel 3]:[Subcuenta]],5,FALSE)),\"\",VLOOKUP(Tabla_Asiento_2[[#This Row],[Cta]],PGCtotal[[Nivel 3]:[Subcuenta]],5,FALSE))","v":""}]
[null,null,null,{"$f":"IF(ISERROR(VLOOKUP(Tabla_Asiento_2[[#This Row],[Cta]],PGCtotal[[Nivel 3]:[Subcuenta]],5,FALSE)),\"\",VLOOKUP(Tabla_Asiento_2[[#This Row],[Cta]],PGCtotal[[Nivel 3]:[Subcuenta]],5,FALSE))","v":""}]
[null,null,null,{"$f":"IF(ISERROR(VLOOKUP(Tabla_Asiento_2[[#This Row],[Cta]],PGCtotal[[Nivel 3]:[Subcuenta]],5,FALSE)),\"\",VLOOKUP(Tabla_Asiento_2[[#This Row],[Cta]],PGCtotal[[Nivel 3]:[Subcuenta]],5,FALSE))","v":""}]
[null,null,null,{"$f":"IF(ISERROR(VLOOKUP(Tabla_Asiento_2[[#This Row],[Cta]],PGCtotal[[Nivel 3]:[Subcuenta]],5,FALSE)),\"\",VLOOKUP(Tabla_Asiento_2[[#This Row],[Cta]],PGCtotal[[Nivel 3]:[Subcuenta]],5,FALSE))","v":""}]
[null,null,null,{"$f":"IF(ISERROR(VLOOKUP(Tabla_Asiento_2[[#This Row],[Cta]],PGCtotal[[Nivel 3]:[Subcuenta]],5,FALSE)),\"\",VLOOKUP(Tabla_Asiento_2[[#This Row],[Cta]],PGCtotal[[Nivel 3]:[Subcuenta]],5,FALSE))","v":""}]
[null,null,null,{"$f":"IF(ISERROR(VLOOKUP(Tabla_Asiento_2[[#This Row],[Cta]],PGCtotal[[Nivel 3]:[Subcuenta]],5,FALSE)),\"\",VLOOKUP(Tabla_Asiento_2[[#This Row],[Cta]],PGCtotal[[Nivel 3]:[Subcuenta]],5,FALSE))","v":""}]
[null,null,null,{"$f":"IF(ISERROR(VLOOKUP(Tabla_Asiento_2[[#This Row],[Cta]],PGCtotal[[Nivel 3]:[Subcuenta]],5,FALSE)),\"\",VLOOKUP(Tabla_Asiento_2[[#This Row],[Cta]],PGCtotal[[Nivel 3]:[Subcuenta]],5,FALSE))","v":""}]
[null,null,null,{"$f":"IF(ISERROR(VLOOKUP(Tabla_Asiento_2[[#This Row],[Cta]],PGCtotal[[Nivel 3]:[Subcuenta]],5,FALSE)),\"\",VLOOKUP(Tabla_Asiento_2[[#This Row],[Cta]],PGCtotal[[Nivel 3]:[Subcuenta]],5,FALSE))","v":""}]
[null,null,null,{"$f":"IF(ISERROR(VLOOKUP(Tabla_Asiento_2[[#This Row],[Cta]],PGCtotal[[Nivel 3]:[Subcuenta]],5,FALSE)),\"\",VLOOKUP(Tabla_Asiento_2[[#This Row],[Cta]],PGCtotal[[Nivel 3]:[Subcuenta]],5,FALSE))","v":""}]
[null,null,null,{"$f":"IF(ISERROR(VLOOKUP(Tabla_Asiento_2[[#This Row],[Cta]],PGCtotal[[Nivel 3]:[Subcuenta]],5,FALSE)),\"\",VLOOKUP(Tabla_Asiento_2[[#This Row],[Cta]],PGCtotal[[Nivel 3]:[Subcuenta]],5,FALSE))","v":""}]
[null,null,null,{"$f":"IF(ISERROR(VLOOKUP(Tabla_Asiento_2[[#This Row],[Cta]],PGCtotal[[Nivel 3]:[Subcuenta]],5,FALSE)),\"\",VLOOKUP(Tabla_Asiento_2[[#This Row],[Cta]],PGCtotal[[Nivel 3]:[Subcuenta]],5,FALSE))","v":""}]
[null,null,null,{"$f":"IF(ISERROR(VLOOKUP(Tabla_Asiento_2[[#This Row],[Cta]],PGCtotal[[Nivel 3]:[Subcuenta]],5,FALSE)),\"\",VLOOKUP(Tabla_Asiento_2[[#This Row],[Cta]],PGCtotal[[Nivel 3]:[Subcuenta]],5,FALSE))","v":""}]
[null,null,null,{"$f":"IF(ISERROR(VLOOKUP(Tabla_Asiento_2[[#This Row],[Cta]],PGCtotal[[Nivel 3]:[Subcuenta]],5,FALSE)),\"\",VLOOKUP(Tabla_Asiento_2[[#This Row],[Cta]],PGCtotal[[Nivel 3]:[Subcuenta]],5,FALSE))","v":""}]
[null,null,null,{"$f":"IF(ISERROR(VLOOKUP(Tabla_Asiento_2[[#This Row],[Cta]],PGCtotal[[Nivel 3]:[Subcuenta]],5,FALSE)),\"\",VLOOKUP(Tabla_Asiento_2[[#This Row],[Cta]],PGCtotal[[Nivel 3]:[Subcuenta]],5,FALSE))","v":""}]
[null,null,null,{"$f":"IF(ISERROR(VLOOKUP(Tabla_Asiento_2[[#This Row],[Cta]],PGCtotal[[Nivel 3]:[Subcuenta]],5,FALSE)),\"\",VLOOKUP(Tabla_Asiento_2[[#This Row],[Cta]],PGCtotal[[Nivel 3]:[Subcuenta]],5,FALSE))","v":""}]
[null,null,null,{"$f":"IF(ISERROR(VLOOKUP(Tabla_Asiento_2[[#This Row],[Cta]],PGCtotal[[Nivel 3]:[Subcuenta]],5,FALSE)),\"\",VLOOKUP(Tabla_Asiento_2[[#This Row],[Cta]],PGCtotal[[Nivel 3]:[Subcuenta]],5,FALSE))","v":""}]
[null,null,null,{"$f":"IF(ISERROR(VLOOKUP(Tabla_Asiento_2[[#This Row],[Cta]],PGCtotal[[Nivel 3]:[Subcuenta]],5,FALSE)),\"\",VLOOKUP(Tabla_Asiento_2[[#This Row],[Cta]],PGCtotal[[Nivel 3]:[Subcuenta]],5,FALSE))","v":""}]
[null,null,null,{"$f":"IF(ISERROR(VLOOKUP(Tabla_Asiento_2[[#This Row],[Cta]],PGCtotal[[Nivel 3]:[Subcuenta]],5,FALSE)),\"\",VLOOKUP(Tabla_Asiento_2[[#This Row],[Cta]],PGCtotal[[Nivel 3]:[Subcuenta]],5,FALSE))","v":""}]
[null,null,null,{"$f":"IF(ISERROR(VLOOKUP(Tabla_Asiento_2[[#This Row],[Cta]],PGCtotal[[Nivel 3]:[Subcuenta]],5,FALSE)),\"\",VLOOKUP(Tabla_Asiento_2[[#This Row],[Cta]],PGCtotal[[Nivel 3]:[Subcuenta]],5,FALSE))","v":""}]
[null,null,null,{"$f":"IF(ISERROR(VLOOKUP(Tabla_Asiento_2[[#This Row],[Cta]],PGCtotal[[Nivel 3]:[Subcuenta]],5,FALSE)),\"\",VLOOKUP(Tabla_Asiento_2[[#This Row],[Cta]],PGCtotal[[Nivel 3]:[Subcuenta]],5,FALSE))","v":""}]
[null,null,null,{"$f":"IF(ISERROR(VLOOKUP(Tabla_Asiento_2[[#This Row],[Cta]],PGCtotal[[Nivel 3]:[Subcuenta]],5,FALSE)),\"\",VLOOKUP(Tabla_Asiento_2[[#This Row],[Cta]],PGCtotal[[Nivel 3]:[Subcuenta]],5,FALSE))","v":""}]
[null,null,null,{"$f":"IF(ISERROR(VLOOKUP(Tabla_Asiento_2[[#This Row],[Cta]],PGCtotal[[Nivel 3]:[Subcuenta]],5,FALSE)),\"\",VLOOKUP(Tabla_Asiento_2[[#This Row],[Cta]],PGCtotal[[Nivel 3]:[Subcuenta]],5,FALSE))","v":""}]
[null,null,null,{"$f":"IF(ISERROR(VLOOKUP(Tabla_Asiento_2[[#This Row],[Cta]],PGCtotal[[Nivel 3]:[Subcuenta]],5,FALSE)),\"\",VLOOKUP(Tabla_Asiento_2[[#This Row],[Cta]],PGCtotal[[Nivel 3]:[Subcuenta]],5,FALSE))","v":""}]
[null,null,null,{"$f":"IF(ISERROR(VLOOKUP(Tabla_Asiento_2[[#This Row],[Cta]],PGCtotal[[Nivel 3]:[Subcuenta]],5,FALSE)),\"\",VLOOKUP(Tabla_Asiento_2[[#This Row],[Cta]],PGCtotal[[Nivel 3]:[Subcuenta]],5,FALSE))","v":""}]
[null,null,null,{"$f":"IF(ISERROR(VLOOKUP(Tabla_Asiento_2[[#This Row],[Cta]],PGCtotal[[Nivel 3]:[Subcuenta]],5,FALSE)),\"\",VLOOKUP(Tabla_Asiento_2[[#This Row],[Cta]],PGCtotal[[Nivel 3]:[Subcuenta]],5,FALSE))","v":""}]
[null,null,null,{"$f":"IF(ISERROR(VLOOKUP(Tabla_Asiento_2[[#This Row],[Cta]],PGCtotal[[Nivel 3]:[Subcuenta]],5,FALSE)),\"\",VLOOKUP(Tabla_Asiento_2[[#This Row],[Cta]],PGCtotal[[Nivel 3]:[Subcuenta]],5,FALSE))","v":""}]
[null,null,null,{"$f":"IF(ISERROR(VLOOKUP(Tabla_Asiento_2[[#This Row],[Cta]],PGCtotal[[Nivel 3]:[Subcuenta]],5,FALSE)),\"\",VLOOKUP(Tabla_Asiento_2[[#This Row],[Cta]],PGCtotal[[Nivel 3]:[Subcuenta]],5,FALSE))","v":""}]
[null,null,null,{"$f":"IF(ISERROR(VLOOKUP(Tabla_Asiento_2[[#This Row],[Cta]],PGCtotal[[Nivel 3]:[Subcuenta]],5,FALSE)),\"\",VLOOKUP(Tabla_Asiento_2[[#This Row],[Cta]],PGCtotal[[Nivel 3]:[Subcuenta]],5,FALSE))","v":""}]
[null,null,null,{"$f":"IF(ISERROR(VLOOKUP(Tabla_Asiento_2[[#This Row],[Cta]],PGCtotal[[Nivel 3]:[Subcuenta]],5,FALSE)),\"\",VLOOKUP(Tabla_Asiento_2[[#This Row],[Cta]],PGCtotal[[Nivel 3]:[Subcuenta]],5,FALSE))","v":""}]
[null,null,null,{"$f":"IF(ISERROR(VLOOKUP(Tabla_Asiento_2[[#This Row],[Cta]],PGCtotal[[Nivel 3]:[Subcuenta]],5,FALSE)),\"\",VLOOKUP(Tabla_Asiento_2[[#This Row],[Cta]],PGCtotal[[Nivel 3]:[Subcuenta]],5,FALSE))","v":""}]
[null,null,null,{"$f":"IF(ISERROR(VLOOKUP(Tabla_Asiento_2[[#This Row],[Cta]],PGCtotal[[Nivel 3]:[Subcuenta]],5,FALSE)),\"\",VLOOKUP(Tabla_Asiento_2[[#This Row],[Cta]],PGCtotal[[Nivel 3]:[Subcuenta]],5,FALSE))","v":""}]
[null,null,null,{"$f":"IF(ISERROR(VLOOKUP(Tabla_Asiento_2[[#This Row],[Cta]],PGCtotal[[Nivel 3]:[Subcuenta]],5,FALSE)),\"\",VLOOKUP(Tabla_Asiento_2[[#This Row],[Cta]],PGCtotal[[Nivel 3]:[Subcuenta]],5,FALSE))","v":""}]
[null,null,null,{"$f":"IF(ISERROR(VLOOKUP(Tabla_Asiento_2[[#This Row],[Cta]],PGCtotal[[Nivel 3]:[Subcuenta]],5,FALSE)),\"\",VLOOKUP(Tabla_Asiento_2[[#This Row],[Cta]],PGCtotal[[Nivel 3]:[Subcuenta]],5,FALSE))","v":""}]
[null,null,null,{"$f":"IF(ISERROR(VLOOKUP(Tabla_Asiento_2[[#This Row],[Cta]],PGCtotal[[Nivel 3]:[Subcuenta]],5,FALSE)),\"\",VLOOKUP(Tabla_Asiento_2[[#This Row],[Cta]],PGCtotal[[Nivel 3]:[Subcuenta]],5,FALSE))","v":""}]
[null,null,null,{"$f":"IF(ISERROR(VLOOKUP(Tabla_Asiento_2[[#This Row],[Cta]],PGCtotal[[Nivel 3]:[Subcuenta]],5,FALSE)),\"\",VLOOKUP(Tabla_Asiento_2[[#This Row],[Cta]],PGCtotal[[Nivel 3]:[Subcuenta]],5,FALSE))","v":""}]
[null,null,null,{"$f":"IF(ISERROR(VLOOKUP(Tabla_Asiento_2[[#This Row],[Cta]],PGCtotal[[Nivel 3]:[Subcuenta]],5,FALSE)),\"\",VLOOKUP(Tabla_Asiento_2[[#This Row],[Cta]],PGCtotal[[Nivel 3]:[Subcuenta]],5,FALSE))","v":""}]
[null,null,null,{"$f":"IF(ISERROR(VLOOKUP(Tabla_Asiento_2[[#This Row],[Cta]],PGCtotal[[Nivel 3]:[Subcuenta]],5,FALSE)),\"\",VLOOKUP(Tabla_Asiento_2[[#This Row],[Cta]],PGCtotal[[Nivel 3]:[Subcuenta]],5,FALSE))","v":""}]
[null,null,null,{"$f":"IF(ISERROR(VLOOKUP(Tabla_Asiento_2[[#This Row],[Cta]],PGCtotal[[Nivel 3]:[Subcuenta]],5,FALSE)),\"\",VLOOKUP(Tabla_Asiento_2[[#This Row],[Cta]],PGCtotal[[Nivel 3]:[Subcuenta]],5,FALSE))","v":""}]
[null,null,null,{"$f":"IF(ISERROR(VLOOKUP(Tabla_Asiento_2[[#This Row],[Cta]],PGCtotal[[Nivel 3]:[Subcuenta]],5,FALSE)),\"\",VLOOKUP(Tabla_Asiento_2[[#This Row],[Cta]],PGCtotal[[Nivel 3]:[Subcuenta]],5,FALSE))","v":""}]
[null,null,null,{"$f":"IF(ISERROR(VLOOKUP(Tabla_Asiento_2[[#This Row],[Cta]],PGCtotal[[Nivel 3]:[Subcuenta]],5,FALSE)),\"\",VLOOKUP(Tabla_Asiento_2[[#This Row],[Cta]],PGCtotal[[Nivel 3]:[Subcuenta]],5,FALSE))","v":""}]
[null,null,null,{"$f":"IF(ISERROR(VLOOKUP(Tabla_Asiento_2[[#This Row],[Cta]],PGCtotal[[Nivel 3]:[Subcuenta]],5,FALSE)),\"\",VLOOKUP(Tabla_Asiento_2[[#This Row],[Cta]],PGCtotal[[Nivel 3]:[Subcuenta]],5,FALSE))","v":""}]
[null,null,null,{"$f":"IF(ISERROR(VLOOKUP(Tabla_Asiento_2[[#This Row],[Cta]],PGCtotal[[Nivel 3]:[Subcuenta]],5,FALSE)),\"\",VLOOKUP(Tabla_Asiento_2[[#This Row],[Cta]],PGCtotal[[Nivel 3]:[Subcuenta]],5,FALSE))","v":""}]
[null,null,null,{"$f":"IF(ISERROR(VLOOKUP(Tabla_Asiento_2[[#This Row],[Cta]],PGCtotal[[Nivel 3]:[Subcuenta]],5,FALSE)),\"\",VLOOKUP(Tabla_Asiento_2[[#This Row],[Cta]],PGCtotal[[Nivel 3]:[Subcuenta]],5,FALSE))","v":""}]
[null,null,null,{"$f":"IF(ISERROR(VLOOKUP(Tabla_Asiento_2[[#This Row],[Cta]],PGCtotal[[Nivel 3]:[Subcuenta]],5,FALSE)),\"\",VLOOKUP(Tabla_Asiento_2[[#This Row],[Cta]],PGCtotal[[Nivel 3]:[Subcuenta]],5,FALSE))","v":""}]
[null,null,null,{"$f":"IF(ISERROR(VLOOKUP(Tabla_Asiento_2[[#This Row],[Cta]],PGCtotal[[Nivel 3]:[Subcuenta]],5,FALSE)),\"\",VLOOKUP(Tabla_Asiento_2[[#This Row],[Cta]],PGCtotal[[Nivel 3]:[Subcuenta]],5,FALSE))","v":""}]
[null,null,null,{"$f":"IF(ISERROR(VLOOKUP(Tabla_Asiento_2[[#This Row],[Cta]],PGCtotal[[Nivel 3]:[Subcuenta]],5,FALSE)),\"\",VLOOKUP(Tabla_Asiento_2[[#This Row],[Cta]],PGCtotal[[Nivel 3]:[Subcuenta]],5,FALSE))","v":""}]
[null,null,null,{"$f":"IF(ISERROR(VLOOKUP(Tabla_Asiento_2[[#This Row],[Cta]],PGCtotal[[Nivel 3]:[Subcuenta]],5,FALSE)),\"\",VLOOKUP(Tabla_Asiento_2[[#This Row],[Cta]],PGCtotal[[Nivel 3]:[Subcuenta]],5,FALSE))","v":""}]
[null,null,null,{"$f":"IF(ISERROR(VLOOKUP(Tabla_Asiento_2[[#This Row],[Cta]],PGCtotal[[Nivel 3]:[Subcuenta]],5,FALSE)),\"\",VLOOKUP(Tabla_Asiento_2[[#This Row],[Cta]],PGCtotal[[Nivel 3]:[Subcuenta]],5,FALSE))","v":""}]
[null,null,null,{"$f":"IF(ISERROR(VLOOKUP(Tabla_Asiento_2[[#This Row],[Cta]],PGCtotal[[Nivel 3]:[Subcuenta]],5,FALSE)),\"\",VLOOKUP(Tabla_Asiento_2[[#This Row],[Cta]],PGCtotal[[Nivel 3]:[Subcuenta]],5,FALSE))","v":""}]
[null,null,null,{"$f":"IF(ISERROR(VLOOKUP(Tabla_Asiento_2[[#This Row],[Cta]],PGCtotal[[Nivel 3]:[Subcuenta]],5,FALSE)),\"\",VLOOKUP(Tabla_Asiento_2[[#This Row],[Cta]],PGCtotal[[Nivel 3]:[Subcuenta]],5,FALSE))","v":""}]
[null,null,null,{"$f":"IF(ISERROR(VLOOKUP(Tabla_Asiento_2[[#This Row],[Cta]],PGCtotal[[Nivel 3]:[Subcuenta]],5,FALSE)),\"\",VLOOKUP(Tabla_Asiento_2[[#This Row],[Cta]],PGCtotal[[Nivel 3]:[Subcuenta]],5,FALSE))","v":""}]
[null,null,null,{"$f":"IF(ISERROR(VLOOKUP(Tabla_Asiento_2[[#This Row],[Cta]],PGCtotal[[Nivel 3]:[Subcuenta]],5,FALSE)),\"\",VLOOKUP(Tabla_Asiento_2[[#This Row],[Cta]],PGCtotal[[Nivel 3]:[Subcuenta]],5,FALSE))","v":""}]
[null,null,null,{"$f":"IF(ISERROR(VLOOKUP(Tabla_Asiento_2[[#This Row],[Cta]],PGCtotal[[Nivel 3]:[Subcuenta]],5,FALSE)),\"\",VLOOKUP(Tabla_Asiento_2[[#This Row],[Cta]],PGCtotal[[Nivel 3]:[Subcuenta]],5,FALSE))","v":""}]
[null,null,null,{"$f":"IF(ISERROR(VLOOKUP(Tabla_Asiento_2[[#This Row],[Cta]],PGCtotal[[Nivel 3]:[Subcuenta]],5,FALSE)),\"\",VLOOKUP(Tabla_Asiento_2[[#This Row],[Cta]],PGCtotal[[Nivel 3]:[Subcuenta]],5,FALSE))","v":""}]
[null,null,null,{"$f":"IF(ISERROR(VLOOKUP(Tabla_Asiento_2[[#This Row],[Cta]],PGCtotal[[Nivel 3]:[Subcuenta]],5,FALSE)),\"\",VLOOKUP(Tabla_Asiento_2[[#This Row],[Cta]],PGCtotal[[Nivel 3]:[Subcuenta]],5,FALSE))","v":""}]
[null,null,null,{"$f":"IF(ISERROR(VLOOKUP(Tabla_Asiento_2[[#This Row],[Cta]],PGCtotal[[Nivel 3]:[Subcuenta]],5,FALSE)),\"\",VLOOKUP(Tabla_Asiento_2[[#This Row],[Cta]],PGCtotal[[Nivel 3]:[Subcuenta]],5,FALSE))","v":""}]
[null,null,null,{"$f":"IF(ISERROR(VLOOKUP(Tabla_Asiento_2[[#This Row],[Cta]],PGCtotal[[Nivel 3]:[Subcuenta]],5,FALSE)),\"\",VLOOKUP(Tabla_Asiento_2[[#This Row],[Cta]],PGCtotal[[Nivel 3]:[Subcuenta]],5,FALSE))","v":""}]
[null,null,null,{"$f":"IF(ISERROR(VLOOKUP(Tabla_Asiento_2[[#This Row],[Cta]],PGCtotal[[Nivel 3]:[Subcuenta]],5,FALSE)),\"\",VLOOKUP(Tabla_Asiento_2[[#This Row],[Cta]],PGCtotal[[Nivel 3]:[Subcuenta]],5,FALSE))","v":""}]
[null,null,null,{"$f":"IF(ISERROR(VLOOKUP(Tabla_Asiento_2[[#This Row],[Cta]],PGCtotal[[Nivel 3]:[Subcuenta]],5,FALSE)),\"\",VLOOKUP(Tabla_Asiento_2[[#This Row],[Cta]],PGCtotal[[Nivel 3]:[Subcuenta]],5,FALSE))","v":""}]
[null,null,null,{"$f":"IF(ISERROR(VLOOKUP(Tabla_Asiento_2[[#This Row],[Cta]],PGCtotal[[Nivel 3]:[Subcuenta]],5,FALSE)),\"\",VLOOKUP(Tabla_Asiento_2[[#This Row],[Cta]],PGCtotal[[Nivel 3]:[Subcuenta]],5,FALSE))","v":""}]
[null,null,null,{"$f":"IF(ISERROR(VLOOKUP(Tabla_Asiento_2[[#This Row],[Cta]],PGCtotal[[Nivel 3]:[Subcuenta]],5,FALSE)),\"\",VLOOKUP(Tabla_Asiento_2[[#This Row],[Cta]],PGCtotal[[Nivel 3]:[Subcuenta]],5,FALSE))","v":""}]
[null,null,null,{"$f":"IF(ISERROR(VLOOKUP(Tabla_Asiento_2[[#This Row],[Cta]],PGCtotal[[Nivel 3]:[Subcuenta]],5,FALSE)),\"\",VLOOKUP(Tabla_Asiento_2[[#This Row],[Cta]],PGCtotal[[Nivel 3]:[Subcuenta]],5,FALSE))","v":""}]
[null,null,null,{"$f":"IF(ISERROR(VLOOKUP(Tabla_Asiento_2[[#This Row],[Cta]],PGCtotal[[Nivel 3]:[Subcuenta]],5,FALSE)),\"\",VLOOKUP(Tabla_Asiento_2[[#This Row],[Cta]],PGCtotal[[Nivel 3]:[Subcuenta]],5,FALSE))","v":""}]
[null,null,null,{"$f":"IF(ISERROR(VLOOKUP(Tabla_Asiento_2[[#This Row],[Cta]],PGCtotal[[Nivel 3]:[Subcuenta]],5,FALSE)),\"\",VLOOKUP(Tabla_Asiento_2[[#This Row],[Cta]],PGCtotal[[Nivel 3]:[Subcuenta]],5,FALSE))","v":""}]
[null,null,null,{"$f":"IF(ISERROR(VLOOKUP(Tabla_Asiento_2[[#This Row],[Cta]],PGCtotal[[Nivel 3]:[Subcuenta]],5,FALSE)),\"\",VLOOKUP(Tabla_Asiento_2[[#This Row],[Cta]],PGCtotal[[Nivel 3]:[Subcuenta]],5,FALSE))","v":""}]
[null,null,null,{"$f":"IF(ISERROR(VLOOKUP(Tabla_Asiento_2[[#This Row],[Cta]],PGCtotal[[Nivel 3]:[Subcuenta]],5,FALSE)),\"\",VLOOKUP(Tabla_Asiento_2[[#This Row],[Cta]],PGCtotal[[Nivel 3]:[Subcuenta]],5,FALSE))","v":""}]
[null,null,null,{"$f":"IF(ISERROR(VLOOKUP(Tabla_Asiento_2[[#This Row],[Cta]],PGCtotal[[Nivel 3]:[Subcuenta]],5,FALSE)),\"\",VLOOKUP(Tabla_Asiento_2[[#This Row],[Cta]],PGCtotal[[Nivel 3]:[Subcuenta]],5,FALSE))","v":""}]
[null,null,null,{"$f":"IF(ISERROR(VLOOKUP(Tabla_Asiento_2[[#This Row],[Cta]],PGCtotal[[Nivel 3]:[Subcuenta]],5,FALSE)),\"\",VLOOKUP(Tabla_Asiento_2[[#This Row],[Cta]],PGCtotal[[Nivel 3]:[Subcuenta]],5,FALSE))","v":""}]
[null,null,null,{"$f":"IF(ISERROR(VLOOKUP(Tabla_Asiento_2[[#This Row],[Cta]],PGCtotal[[Nivel 3]:[Subcuenta]],5,FALSE)),\"\",VLOOKUP(Tabla_Asiento_2[[#This Row],[Cta]],PGCtotal[[Nivel 3]:[Subcuenta]],5,FALSE))","v":""}]
[null,null,null,{"$f":"IF(ISERROR(VLOOKUP(Tabla_Asiento_2[[#This Row],[Cta]],PGCtotal[[Nivel 3]:[Subcuenta]],5,FALSE)),\"\",VLOOKUP(Tabla_Asiento_2[[#This Row],[Cta]],PGCtotal[[Nivel 3]:[Subcuenta]],5,FALSE))","v":""}]
[null,null,null,{"$f":"IF(ISERROR(VLOOKUP(Tabla_Asiento_2[[#This Row],[Cta]],PGCtotal[[Nivel 3]:[Subcuenta]],5,FALSE)),\"\",VLOOKUP(Tabla_Asiento_2[[#This Row],[Cta]],PGCtotal[[Nivel 3]:[Subcuenta]],5,FALSE))","v":""}]
[null,null,null,{"$f":"IF(ISERROR(VLOOKUP(Tabla_Asiento_2[[#This Row],[Cta]],PGCtotal[[Nivel 3]:[Subcuenta]],5,FALSE)),\"\",VLOOKUP(Tabla_Asiento_2[[#This Row],[Cta]],PGCtotal[[Nivel 3]:[Subcuenta]],5,FALSE))","v":""}]
[null,null,null,{"$f":"IF(ISERROR(VLOOKUP(Tabla_Asiento_2[[#This Row],[Cta]],PGCtotal[[Nivel 3]:[Subcuenta]],5,FALSE)),\"\",VLOOKUP(Tabla_Asiento_2[[#This Row],[Cta]],PGCtotal[[Nivel 3]:[Subcuenta]],5,FALSE))","v":""}]
[null,null,null,{"$f":"IF(ISERROR(VLOOKUP(Tabla_Asiento_2[[#This Row],[Cta]],PGCtotal[[Nivel 3]:[Subcuenta]],5,FALSE)),\"\",VLOOKUP(Tabla_Asiento_2[[#This Row],[Cta]],PGCtotal[[Nivel 3]:[Subcuenta]],5,FALSE))","v":""}]
[null,null,null,{"$f":"IF(ISERROR(VLOOKUP(Tabla_Asiento_2[[#This Row],[Cta]],PGCtotal[[Nivel 3]:[Subcuenta]],5,FALSE)),\"\",VLOOKUP(Tabla_Asiento_2[[#This Row],[Cta]],PGCtotal[[Nivel 3]:[Subcuenta]],5,FALSE))","v":""}]
[null,null,null,{"$f":"IF(ISERROR(VLOOKUP(Tabla_Asiento_2[[#This Row],[Cta]],PGCtotal[[Nivel 3]:[Subcuenta]],5,FALSE)),\"\",VLOOKUP(Tabla_Asiento_2[[#This Row],[Cta]],PGCtotal[[Nivel 3]:[Subcuenta]],5,FALSE))","v":""}]
[null,null,null,{"$f":"IF(ISERROR(VLOOKUP(Tabla_Asiento_2[[#This Row],[Cta]],PGCtotal[[Nivel 3]:[Subcuenta]],5,FALSE)),\"\",VLOOKUP(Tabla_Asiento_2[[#This Row],[Cta]],PGCtotal[[Nivel 3]:[Subcuenta]],5,FALSE))","v":""}]
[null,null,null,{"$f":"IF(ISERROR(VLOOKUP(Tabla_Asiento_2[[#This Row],[Cta]],PGCtotal[[Nivel 3]:[Subcuenta]],5,FALSE)),\"\",VLOOKUP(Tabla_Asiento_2[[#This Row],[Cta]],PGCtotal[[Nivel 3]:[Subcuenta]],5,FALSE))","v":""}]
[null,null,null,{"$f":"IF(ISERROR(VLOOKUP(Tabla_Asiento_2[[#This Row],[Cta]],PGCtotal[[Nivel 3]:[Subcuenta]],5,FALSE)),\"\",VLOOKUP(Tabla_Asiento_2[[#This Row],[Cta]],PGCtotal[[Nivel 3]:[Subcuenta]],5,FALSE))","v":""}]
[null,null,null,{"$f":"IF(ISERROR(VLOOKUP(Tabla_Asiento_2[[#This Row],[Cta]],PGCtotal[[Nivel 3]:[Subcuenta]],5,FALSE)),\"\",VLOOKUP(Tabla_Asiento_2[[#This Row],[Cta]],PGCtotal[[Nivel 3]:[Subcuenta]],5,FALSE))","v":""}]
[null,null,null,{"$f":"IF(ISERROR(VLOOKUP(Tabla_Asiento_2[[#This Row],[Cta]],PGCtotal[[Nivel 3]:[Subcuenta]],5,FALSE)),\"\",VLOOKUP(Tabla_Asiento_2[[#This Row],[Cta]],PGCtotal[[Nivel 3]:[Subcuenta]],5,FALSE))","v":""}]
[null,null,null,{"$f":"IF(ISERROR(VLOOKUP(Tabla_Asiento_2[[#This Row],[Cta]],PGCtotal[[Nivel 3]:[Subcuenta]],5,FALSE)),\"\",VLOOKUP(Tabla_Asiento_2[[#This Row],[Cta]],PGCtotal[[Nivel 3]:[Subcuenta]],5,FALSE))","v":""}]
[null,null,null,{"$f":"IF(ISERROR(VLOOKUP(Tabla_Asiento_2[[#This Row],[Cta]],PGCtotal[[Nivel 3]:[Subcuenta]],5,FALSE)),\"\",VLOOKUP(Tabla_Asiento_2[[#This Row],[Cta]],PGCtotal[[Nivel 3]:[Subcuenta]],5,FALSE))","v":""}]
[null,null,null,{"$f":"IF(ISERROR(VLOOKUP(Tabla_Asiento_2[[#This Row],[Cta]],PGCtotal[[Nivel 3]:[Subcuenta]],5,FALSE)),\"\",VLOOKUP(Tabla_Asiento_2[[#This Row],[Cta]],PGCtotal[[Nivel 3]:[Subcuenta]],5,FALSE))","v":""}]
[null,null,null,{"$f":"IF(ISERROR(VLOOKUP(Tabla_Asiento_2[[#This Row],[Cta]],PGCtotal[[Nivel 3]:[Subcuenta]],5,FALSE)),\"\",VLOOKUP(Tabla_Asiento_2[[#This Row],[Cta]],PGCtotal[[Nivel 3]:[Subcuenta]],5,FALSE))","v":""}]
[null,null,null,{"$f":"IF(ISERROR(VLOOKUP(Tabla_Asiento_2[[#This Row],[Cta]],PGCtotal[[Nivel 3]:[Subcuenta]],5,FALSE)),\"\",VLOOKUP(Tabla_Asiento_2[[#This Row],[Cta]],PGCtotal[[Nivel 3]:[Subcuenta]],5,FALSE))","v":""}]
[null,null,null,{"$f":"IF(ISERROR(VLOOKUP(Tabla_Asiento_2[[#This Row],[Cta]],PGCtotal[[Nivel 3]:[Subcuenta]],5,FALSE)),\"\",VLOOKUP(Tabla_Asiento_2[[#This Row],[Cta]],PGCtotal[[Nivel 3]:[Subcuenta]],5,FALSE))","v":""}]
[null,null,null,{"$f":"IF(ISERROR(VLOOKUP(Tabla_Asiento_2[[#This Row],[Cta]],PGCtotal[[Nivel 3]:[Subcuenta]],5,FALSE)),\"\",VLOOKUP(Tabla_Asiento_2[[#This Row],[Cta]],PGCtotal[[Nivel 3]:[Subcuenta]],5,FALSE))","v":""}]
[null,null,null,{"$f":"IF(ISERROR(VLOOKUP(Tabla_Asiento_2[[#This Row],[Cta]],PGCtotal[[Nivel 3]:[Subcuenta]],5,FALSE)),\"\",VLOOKUP(Tabla_Asiento_2[[#This Row],[Cta]],PGCtotal[[Nivel 3]:[Subcuenta]],5,FALSE))","v":""}]
[null,null,null,{"$f":"IF(ISERROR(VLOOKUP(Tabla_Asiento_2[[#This Row],[Cta]],PGCtotal[[Nivel 3]:[Subcuenta]],5,FALSE)),\"\",VLOOKUP(Tabla_Asiento_2[[#This Row],[Cta]],PGCtotal[[Nivel 3]:[Subcuenta]],5,FALSE))","v":""}]
[null,null,null,{"$f":"IF(ISERROR(VLOOKUP(Tabla_Asiento_2[[#This Row],[Cta]],PGCtotal[[Nivel 3]:[Subcuenta]],5,FALSE)),\"\",VLOOKUP(Tabla_Asiento_2[[#This Row],[Cta]],PGCtotal[[Nivel 3]:[Subcuenta]],5,FALSE))","v":""}]
[null,null,null,{"$f":"IF(ISERROR(VLOOKUP(Tabla_Asiento_2[[#This Row],[Cta]],PGCtotal[[Nivel 3]:[Subcuenta]],5,FALSE)),\"\",VLOOKUP(Tabla_Asiento_2[[#This Row],[Cta]],PGCtotal[[Nivel 3]:[Subcuenta]],5,FALSE))","v":""}]
[null,null,null,{"$f":"IF(ISERROR(VLOOKUP(Tabla_Asiento_2[[#This Row],[Cta]],PGCtotal[[Nivel 3]:[Subcuenta]],5,FALSE)),\"\",VLOOKUP(Tabla_Asiento_2[[#This Row],[Cta]],PGCtotal[[Nivel 3]:[Subcuenta]],5,FALSE))","v":""}]
[null,null,null,{"$f":"IF(ISERROR(VLOOKUP(Tabla_Asiento_2[[#This Row],[Cta]],PGCtotal[[Nivel 3]:[Subcuenta]],5,FALSE)),\"\",VLOOKUP(Tabla_Asiento_2[[#This Row],[Cta]],PGCtotal[[Nivel 3]:[Subcuenta]],5,FALSE))","v":""}]
[null,null,null,{"$f":"IF(ISERROR(VLOOKUP(Tabla_Asiento_2[[#This Row],[Cta]],PGCtotal[[Nivel 3]:[Subcuenta]],5,FALSE)),\"\",VLOOKUP(Tabla_Asiento_2[[#This Row],[Cta]],PGCtotal[[Nivel 3]:[Subcuenta]],5,FALSE))","v":""}]
[null,null,null,{"$f":"IF(ISERROR(VLOOKUP(Tabla_Asiento_2[[#This Row],[Cta]],PGCtotal[[Nivel 3]:[Subcuenta]],5,FALSE)),\"\",VLOOKUP(Tabla_Asiento_2[[#This Row],[Cta]],PGCtotal[[Nivel 3]:[Subcuenta]],5,FALSE))","v":""}]
[null,null,null,{"$f":"IF(ISERROR(VLOOKUP(Tabla_Asiento_2[[#This Row],[Cta]],PGCtotal[[Nivel 3]:[Subcuenta]],5,FALSE)),\"\",VLOOKUP(Tabla_Asiento_2[[#This Row],[Cta]],PGCtotal[[Nivel 3]:[Subcuenta]],5,FALSE))","v":""}]
[null,null,null,{"$f":"IF(ISERROR(VLOOKUP(Tabla_Asiento_2[[#This Row],[Cta]],PGCtotal[[Nivel 3]:[Subcuenta]],5,FALSE)),\"\",VLOOKUP(Tabla_Asiento_2[[#This Row],[Cta]],PGCtotal[[Nivel 3]:[Subcuenta]],5,FALSE))","v":""}]
[null,null,null,{"$f":"IF(ISERROR(VLOOKUP(Tabla_Asiento_2[[#This Row],[Cta]],PGCtotal[[Nivel 3]:[Subcuenta]],5,FALSE)),\"\",VLOOKUP(Tabla_Asiento_2[[#This Row],[Cta]],PGCtotal[[Nivel 3]:[Subcuenta]],5,FALSE))","v":""}]
[null,null,null,{"$f":"IF(ISERROR(VLOOKUP(Tabla_Asiento_2[[#This Row],[Cta]],PGCtotal[[Nivel 3]:[Subcuenta]],5,FALSE)),\"\",VLOOKUP(Tabla_Asiento_2[[#This Row],[Cta]],PGCtotal[[Nivel 3]:[Subcuenta]],5,FALSE))","v":""}]
[null,null,null,{"$f":"IF(ISERROR(VLOOKUP(Tabla_Asiento_2[[#This Row],[Cta]],PGCtotal[[Nivel 3]:[Subcuenta]],5,FALSE)),\"\",VLOOKUP(Tabla_Asiento_2[[#This Row],[Cta]],PGCtotal[[Nivel 3]:[Subcuenta]],5,FALSE))","v":""}]
[null,null,null,{"$f":"IF(ISERROR(VLOOKUP(Tabla_Asiento_2[[#This Row],[Cta]],PGCtotal[[Nivel 3]:[Subcuenta]],5,FALSE)),\"\",VLOOKUP(Tabla_Asiento_2[[#This Row],[Cta]],PGCtotal[[Nivel 3]:[Subcuenta]],5,FALSE))","v":""}]
[null,null,null,{"$f":"IF(ISERROR(VLOOKUP(Tabla_Asiento_2[[#This Row],[Cta]],PGCtotal[[Nivel 3]:[Subcuenta]],5,FALSE)),\"\",VLOOKUP(Tabla_Asiento_2[[#This Row],[Cta]],PGCtotal[[Nivel 3]:[Subcuenta]],5,FALSE))","v":""}]
[null,null,null,{"$f":"IF(ISERROR(VLOOKUP(Tabla_Asiento_2[[#This Row],[Cta]],PGCtotal[[Nivel 3]:[Subcuenta]],5,FALSE)),\"\",VLOOKUP(Tabla_Asiento_2[[#This Row],[Cta]],PGCtotal[[Nivel 3]:[Subcuenta]],5,FALSE))","v":""}]
[null,null,null,{"$f":"IF(ISERROR(VLOOKUP(Tabla_Asiento_2[[#This Row],[Cta]],PGCtotal[[Nivel 3]:[Subcuenta]],5,FALSE)),\"\",VLOOKUP(Tabla_Asiento_2[[#This Row],[Cta]],PGCtotal[[Nivel 3]:[Subcuenta]],5,FALSE))","v":""}]
[null,null,null,{"$f":"IF(ISERROR(VLOOKUP(Tabla_Asiento_2[[#This Row],[Cta]],PGCtotal[[Nivel 3]:[Subcuenta]],5,FALSE)),\"\",VLOOKUP(Tabla_Asiento_2[[#This Row],[Cta]],PGCtotal[[Nivel 3]:[Subcuenta]],5,FALSE))","v":""}]
[null,null,null,{"$f":"IF(ISERROR(VLOOKUP(Tabla_Asiento_2[[#This Row],[Cta]],PGCtotal[[Nivel 3]:[Subcuenta]],5,FALSE)),\"\",VLOOKUP(Tabla_Asiento_2[[#This Row],[Cta]],PGCtotal[[Nivel 3]:[Subcuenta]],5,FALSE))","v":""}]
[null,null,null,{"$f":"IF(ISERROR(VLOOKUP(Tabla_Asiento_2[[#This Row],[Cta]],PGCtotal[[Nivel 3]:[Subcuenta]],5,FALSE)),\"\",VLOOKUP(Tabla_Asiento_2[[#This Row],[Cta]],PGCtotal[[Nivel 3]:[Subcuenta]],5,FALSE))","v":""}]
[null,null,null,{"$f":"IF(ISERROR(VLOOKUP(Tabla_Asiento_2[[#This Row],[Cta]],PGCtotal[[Nivel 3]:[Subcuenta]],5,FALSE)),\"\",VLOOKUP(Tabla_Asiento_2[[#This Row],[Cta]],PGCtotal[[Nivel 3]:[Subcuenta]],5,FALSE))","v":""}]
[null,null,null,{"$f":"IF(ISERROR(VLOOKUP(Tabla_Asiento_2[[#This Row],[Cta]],PGCtotal[[Nivel 3]:[Subcuenta]],5,FALSE)),\"\",VLOOKUP(Tabla_Asiento_2[[#This Row],[Cta]],PGCtotal[[Nivel 3]:[Subcuenta]],5,FALSE))","v":""}]
[null,null,null,{"$f":"IF(ISERROR(VLOOKUP(Tabla_Asiento_2[[#This Row],[Cta]],PGCtotal[[Nivel 3]:[Subcuenta]],5,FALSE)),\"\",VLOOKUP(Tabla_Asiento_2[[#This Row],[Cta]],PGCtotal[[Nivel 3]:[Subcuenta]],5,FALSE))","v":""}]
[null,null,null,{"$f":"IF(ISERROR(VLOOKUP(Tabla_Asiento_2[[#This Row],[Cta]],PGCtotal[[Nivel 3]:[Subcuenta]],5,FALSE)),\"\",VLOOKUP(Tabla_Asiento_2[[#This Row],[Cta]],PGCtotal[[Nivel 3]:[Subcuenta]],5,FALSE))","v":""}]
[null,null,null,{"$f":"IF(ISERROR(VLOOKUP(Tabla_Asiento_2[[#This Row],[Cta]],PGCtotal[[Nivel 3]:[Subcuenta]],5,FALSE)),\"\",VLOOKUP(Tabla_Asiento_2[[#This Row],[Cta]],PGCtotal[[Nivel 3]:[Subcuenta]],5,FALSE))","v":""}]
[null,null,null,{"$f":"IF(ISERROR(VLOOKUP(Tabla_Asiento_2[[#This Row],[Cta]],PGCtotal[[Nivel 3]:[Subcuenta]],5,FALSE)),\"\",VLOOKUP(Tabla_Asiento_2[[#This Row],[Cta]],PGCtotal[[Nivel 3]:[Subcuenta]],5,FALSE))","v":""}]
[null,null,null,{"$f":"IF(ISERROR(VLOOKUP(Tabla_Asiento_2[[#This Row],[Cta]],PGCtotal[[Nivel 3]:[Subcuenta]],5,FALSE)),\"\",VLOOKUP(Tabla_Asiento_2[[#This Row],[Cta]],PGCtotal[[Nivel 3]:[Subcuenta]],5,FALSE))","v":""}]
[null,null,null,{"$f":"IF(ISERROR(VLOOKUP(Tabla_Asiento_2[[#This Row],[Cta]],PGCtotal[[Nivel 3]:[Subcuenta]],5,FALSE)),\"\",VLOOKUP(Tabla_Asiento_2[[#This Row],[Cta]],PGCtotal[[Nivel 3]:[Subcuenta]],5,FALSE))","v":""}]
[null,null,null,{"$f":"IF(ISERROR(VLOOKUP(Tabla_Asiento_2[[#This Row],[Cta]],PGCtotal[[Nivel 3]:[Subcuenta]],5,FALSE)),\"\",VLOOKUP(Tabla_Asiento_2[[#This Row],[Cta]],PGCtotal[[Nivel 3]:[Subcuenta]],5,FALSE))","v":""}]
[null,null,null,{"$f":"IF(ISERROR(VLOOKUP(Tabla_Asiento_2[[#This Row],[Cta]],PGCtotal[[Nivel 3]:[Subcuenta]],5,FALSE)),\"\",VLOOKUP(Tabla_Asiento_2[[#This Row],[Cta]],PGCtotal[[Nivel 3]:[Subcuenta]],5,FALSE))","v":""}]
[null,null,null,{"$f":"IF(ISERROR(VLOOKUP(Tabla_Asiento_2[[#This Row],[Cta]],PGCtotal[[Nivel 3]:[Subcuenta]],5,FALSE)),\"\",VLOOKUP(Tabla_Asiento_2[[#This Row],[Cta]],PGCtotal[[Nivel 3]:[Subcuenta]],5,FALSE))","v":""}]
[null,null,null,{"$f":"IF(ISERROR(VLOOKUP(Tabla_Asiento_2[[#This Row],[Cta]],PGCtotal[[Nivel 3]:[Subcuenta]],5,FALSE)),\"\",VLOOKUP(Tabla_Asiento_2[[#This Row],[Cta]],PGCtotal[[Nivel 3]:[Subcuenta]],5,FALSE))","v":""}]
[null,null,null,{"$f":"IF(ISERROR(VLOOKUP(Tabla_Asiento_2[[#This Row],[Cta]],PGCtotal[[Nivel 3]:[Subcuenta]],5,FALSE)),\"\",VLOOKUP(Tabla_Asiento_2[[#This Row],[Cta]],PGCtotal[[Nivel 3]:[Subcuenta]],5,FALSE))","v":""}]
[null,null,null,{"$f":"IF(ISERROR(VLOOKUP(Tabla_Asiento_2[[#This Row],[Cta]],PGCtotal[[Nivel 3]:[Subcuenta]],5,FALSE)),\"\",VLOOKUP(Tabla_Asiento_2[[#This Row],[Cta]],PGCtotal[[Nivel 3]:[Subcuenta]],5,FALSE))","v":""}]
[null,null,null,{"$f":"IF(ISERROR(VLOOKUP(Tabla_Asiento_2[[#This Row],[Cta]],PGCtotal[[Nivel 3]:[Subcuenta]],5,FALSE)),\"\",VLOOKUP(Tabla_Asiento_2[[#This Row],[Cta]],PGCtotal[[Nivel 3]:[Subcuenta]],5,FALSE))","v":""}]
[null,null,null,{"$f":"IF(ISERROR(VLOOKUP(Tabla_Asiento_2[[#This Row],[Cta]],PGCtotal[[Nivel 3]:[Subcuenta]],5,FALSE)),\"\",VLOOKUP(Tabla_Asiento_2[[#This Row],[Cta]],PGCtotal[[Nivel 3]:[Subcuenta]],5,FALSE))","v":""}]
[null,null,null,{"$f":"IF(ISERROR(VLOOKUP(Tabla_Asiento_2[[#This Row],[Cta]],PGCtotal[[Nivel 3]:[Subcuenta]],5,FALSE)),\"\",VLOOKUP(Tabla_Asiento_2[[#This Row],[Cta]],PGCtotal[[Nivel 3]:[Subcuenta]],5,FALSE))","v":""}]
[null,null,null,{"$f":"IF(ISERROR(VLOOKUP(Tabla_Asiento_2[[#This Row],[Cta]],PGCtotal[[Nivel 3]:[Subcuenta]],5,FALSE)),\"\",VLOOKUP(Tabla_Asiento_2[[#This Row],[Cta]],PGCtotal[[Nivel 3]:[Subcuenta]],5,FALSE))","v":""}]
[null,null,null,{"$f":"IF(ISERROR(VLOOKUP(Tabla_Asiento_2[[#This Row],[Cta]],PGCtotal[[Nivel 3]:[Subcuenta]],5,FALSE)),\"\",VLOOKUP(Tabla_Asiento_2[[#This Row],[Cta]],PGCtotal[[Nivel 3]:[Subcuenta]],5,FALSE))","v":""}]
[null,null,null,{"$f":"IF(ISERROR(VLOOKUP(Tabla_Asiento_2[[#This Row],[Cta]],PGCtotal[[Nivel 3]:[Subcuenta]],5,FALSE)),\"\",VLOOKUP(Tabla_Asiento_2[[#This Row],[Cta]],PGCtotal[[Nivel 3]:[Subcuenta]],5,FALSE))","v":""}]
[null,null,null,{"$f":"IF(ISERROR(VLOOKUP(Tabla_Asiento_2[[#This Row],[Cta]],PGCtotal[[Nivel 3]:[Subcuenta]],5,FALSE)),\"\",VLOOKUP(Tabla_Asiento_2[[#This Row],[Cta]],PGCtotal[[Nivel 3]:[Subcuenta]],5,FALSE))","v":""}]
[null,null,null,{"$f":"IF(ISERROR(VLOOKUP(Tabla_Asiento_2[[#This Row],[Cta]],PGCtotal[[Nivel 3]:[Subcuenta]],5,FALSE)),\"\",VLOOKUP(Tabla_Asiento_2[[#This Row],[Cta]],PGCtotal[[Nivel 3]:[Subcuenta]],5,FALSE))","v":""}]
[null,null,null,{"$f":"IF(ISERROR(VLOOKUP(Tabla_Asiento_2[[#This Row],[Cta]],PGCtotal[[Nivel 3]:[Subcuenta]],5,FALSE)),\"\",VLOOKUP(Tabla_Asiento_2[[#This Row],[Cta]],PGCtotal[[Nivel 3]:[Subcuenta]],5,FALSE))","v":""}]
[null,null,null,{"$f":"IF(ISERROR(VLOOKUP(Tabla_Asiento_2[[#This Row],[Cta]],PGCtotal[[Nivel 3]:[Subcuenta]],5,FALSE)),\"\",VLOOKUP(Tabla_Asiento_2[[#This Row],[Cta]],PGCtotal[[Nivel 3]:[Subcuenta]],5,FALSE))","v":""}]
[null,null,null,{"$f":"IF(ISERROR(VLOOKUP(Tabla_Asiento_2[[#This Row],[Cta]],PGCtotal[[Nivel 3]:[Subcuenta]],5,FALSE)),\"\",VLOOKUP(Tabla_Asiento_2[[#This Row],[Cta]],PGCtotal[[Nivel 3]:[Subcuenta]],5,FALSE))","v":""}]
[null,null,null,{"$f":"IF(ISERROR(VLOOKUP(Tabla_Asiento_2[[#This Row],[Cta]],PGCtotal[[Nivel 3]:[Subcuenta]],5,FALSE)),\"\",VLOOKUP(Tabla_Asiento_2[[#This Row],[Cta]],PGCtotal[[Nivel 3]:[Subcuenta]],5,FALSE))","v":""}]
[null,null,null,{"$f":"IF(ISERROR(VLOOKUP(Tabla_Asiento_2[[#This Row],[Cta]],PGCtotal[[Nivel 3]:[Subcuenta]],5,FALSE)),\"\",VLOOKUP(Tabla_Asiento_2[[#This Row],[Cta]],PGCtotal[[Nivel 3]:[Subcuenta]],5,FALSE))","v":""}]
[null,null,null,{"$f":"IF(ISERROR(VLOOKUP(Tabla_Asiento_2[[#This Row],[Cta]],PGCtotal[[Nivel 3]:[Subcuenta]],5,FALSE)),\"\",VLOOKUP(Tabla_Asiento_2[[#This Row],[Cta]],PGCtotal[[Nivel 3]:[Subcuenta]],5,FALSE))","v":""}]
[null,null,null,{"$f":"IF(ISERROR(VLOOKUP(Tabla_Asiento_2[[#This Row],[Cta]],PGCtotal[[Nivel 3]:[Subcuenta]],5,FALSE)),\"\",VLOOKUP(Tabla_Asiento_2[[#This Row],[Cta]],PGCtotal[[Nivel 3]:[Subcuenta]],5,FALSE))","v":""}]
[null,null,null,{"$f":"IF(ISERROR(VLOOKUP(Tabla_Asiento_2[[#This Row],[Cta]],PGCtotal[[Nivel 3]:[Subcuenta]],5,FALSE)),\"\",VLOOKUP(Tabla_Asiento_2[[#This Row],[Cta]],PGCtotal[[Nivel 3]:[Subcuenta]],5,FALSE))","v":""}]
[null,null,null,{"$f":"IF(ISERROR(VLOOKUP(Tabla_Asiento_2[[#This Row],[Cta]],PGCtotal[[Nivel 3]:[Subcuenta]],5,FALSE)),\"\",VLOOKUP(Tabla_Asiento_2[[#This Row],[Cta]],PGCtotal[[Nivel 3]:[Subcuenta]],5,FALSE))","v":""}]
[null,null,null,{"$f":"IF(ISERROR(VLOOKUP(Tabla_Asiento_2[[#This Row],[Cta]],PGCtotal[[Nivel 3]:[Subcuenta]],5,FALSE)),\"\",VLOOKUP(Tabla_Asiento_2[[#This Row],[Cta]],PGCtotal[[Nivel 3]:[Subcuenta]],5,FALSE))","v":""}]
[null,null,null,{"$f":"IF(ISERROR(VLOOKUP(Tabla_Asiento_2[[#This Row],[Cta]],PGCtotal[[Nivel 3]:[Subcuenta]],5,FALSE)),\"\",VLOOKUP(Tabla_Asiento_2[[#This Row],[Cta]],PGCtotal[[Nivel 3]:[Subcuenta]],5,FALSE))","v":""}]
[null,null,null,{"$f":"IF(ISERROR(VLOOKUP(Tabla_Asiento_2[[#This Row],[Cta]],PGCtotal[[Nivel 3]:[Subcuenta]],5,FALSE)),\"\",VLOOKUP(Tabla_Asiento_2[[#This Row],[Cta]],PGCtotal[[Nivel 3]:[Subcuenta]],5,FALSE))","v":""}]
[null,null,null,{"$f":"IF(ISERROR(VLOOKUP(Tabla_Asiento_2[[#This Row],[Cta]],PGCtotal[[Nivel 3]:[Subcuenta]],5,FALSE)),\"\",VLOOKUP(Tabla_Asiento_2[[#This Row],[Cta]],PGCtotal[[Nivel 3]:[Subcuenta]],5,FALSE))","v":""}]
[null,null,null,{"$f":"IF(ISERROR(VLOOKUP(Tabla_Asiento_2[[#This Row],[Cta]],PGCtotal[[Nivel 3]:[Subcuenta]],5,FALSE)),\"\",VLOOKUP(Tabla_Asiento_2[[#This Row],[Cta]],PGCtotal[[Nivel 3]:[Subcuenta]],5,FALSE))","v":""}]
[null,null,null,{"$f":"IF(ISERROR(VLOOKUP(Tabla_Asiento_2[[#This Row],[Cta]],PGCtotal[[Nivel 3]:[Subcuenta]],5,FALSE)),\"\",VLOOKUP(Tabla_Asiento_2[[#This Row],[Cta]],PGCtotal[[Nivel 3]:[Subcuenta]],5,FALSE))","v":""}]
[null,null,null,{"$f":"IF(ISERROR(VLOOKUP(Tabla_Asiento_2[[#This Row],[Cta]],PGCtotal[[Nivel 3]:[Subcuenta]],5,FALSE)),\"\",VLOOKUP(Tabla_Asiento_2[[#This Row],[Cta]],PGCtotal[[Nivel 3]:[Subcuenta]],5,FALSE))","v":""}]
[null,null,null,{"$f":"IF(ISERROR(VLOOKUP(Tabla_Asiento_2[[#This Row],[Cta]],PGCtotal[[Nivel 3]:[Subcuenta]],5,FALSE)),\"\",VLOOKUP(Tabla_Asiento_2[[#This Row],[Cta]],PGCtotal[[Nivel 3]:[Subcuenta]],5,FALSE))","v":""}]
[null,null,null,{"$f":"IF(ISERROR(VLOOKUP(Tabla_Asiento_2[[#This Row],[Cta]],PGCtotal[[Nivel 3]:[Subcuenta]],5,FALSE)),\"\",VLOOKUP(Tabla_Asiento_2[[#This Row],[Cta]],PGCtotal[[Nivel 3]:[Subcuenta]],5,FALSE))","v":""}]
[null,null,null,{"$f":"IF(ISERROR(VLOOKUP(Tabla_Asiento_2[[#This Row],[Cta]],PGCtotal[[Nivel 3]:[Subcuenta]],5,FALSE)),\"\",VLOOKUP(Tabla_Asiento_2[[#This Row],[Cta]],PGCtotal[[Nivel 3]:[Subcuenta]],5,FALSE))","v":""}]
[null,null,null,{"$f":"IF(ISERROR(VLOOKUP(Tabla_Asiento_2[[#This Row],[Cta]],PGCtotal[[Nivel 3]:[Subcuenta]],5,FALSE)),\"\",VLOOKUP(Tabla_Asiento_2[[#This Row],[Cta]],PGCtotal[[Nivel 3]:[Subcuenta]],5,FALSE))","v":""}]
[null,null,null,{"$f":"IF(ISERROR(VLOOKUP(Tabla_Asiento_2[[#This Row],[Cta]],PGCtotal[[Nivel 3]:[Subcuenta]],5,FALSE)),\"\",VLOOKUP(Tabla_Asiento_2[[#This Row],[Cta]],PGCtotal[[Nivel 3]:[Subcuenta]],5,FALSE))","v":""}]
[null,null,null,{"$f":"IF(ISERROR(VLOOKUP(Tabla_Asiento_2[[#This Row],[Cta]],PGCtotal[[Nivel 3]:[Subcuenta]],5,FALSE)),\"\",VLOOKUP(Tabla_Asiento_2[[#This Row],[Cta]],PGCtotal[[Nivel 3]:[Subcuenta]],5,FALSE))","v":""}]
[null,null,null,{"$f":"IF(ISERROR(VLOOKUP(Tabla_Asiento_2[[#This Row],[Cta]],PGCtotal[[Nivel 3]:[Subcuenta]],5,FALSE)),\"\",VLOOKUP(Tabla_Asiento_2[[#This Row],[Cta]],PGCtotal[[Nivel 3]:[Subcuenta]],5,FALSE))","v":""}]
[null,null,null,{"$f":"IF(ISERROR(VLOOKUP(Tabla_Asiento_2[[#This Row],[Cta]],PGCtotal[[Nivel 3]:[Subcuenta]],5,FALSE)),\"\",VLOOKUP(Tabla_Asiento_2[[#This Row],[Cta]],PGCtotal[[Nivel 3]:[Subcuenta]],5,FALSE))","v":""}]
[null,null,null,{"$f":"IF(ISERROR(VLOOKUP(Tabla_Asiento_2[[#This Row],[Cta]],PGCtotal[[Nivel 3]:[Subcuenta]],5,FALSE)),\"\",VLOOKUP(Tabla_Asiento_2[[#This Row],[Cta]],PGCtotal[[Nivel 3]:[Subcuenta]],5,FALSE))","v":""}]
[null,null,null,{"$f":"IF(ISERROR(VLOOKUP(Tabla_Asiento_2[[#This Row],[Cta]],PGCtotal[[Nivel 3]:[Subcuenta]],5,FALSE)),\"\",VLOOKUP(Tabla_Asiento_2[[#This Row],[Cta]],PGCtotal[[Nivel 3]:[Subcuenta]],5,FALSE))","v":""}]
[null,null,null,{"$f":"IF(ISERROR(VLOOKUP(Tabla_Asiento_2[[#This Row],[Cta]],PGCtotal[[Nivel 3]:[Subcuenta]],5,FALSE)),\"\",VLOOKUP(Tabla_Asiento_2[[#This Row],[Cta]],PGCtotal[[Nivel 3]:[Subcuenta]],5,FALSE))","v":""}]
[null,null,null,{"$f":"IF(ISERROR(VLOOKUP(Tabla_Asiento_2[[#This Row],[Cta]],PGCtotal[[Nivel 3]:[Subcuenta]],5,FALSE)),\"\",VLOOKUP(Tabla_Asiento_2[[#This Row],[Cta]],PGCtotal[[Nivel 3]:[Subcuenta]],5,FALSE))","v":""}]
[null,null,null,{"$f":"IF(ISERROR(VLOOKUP(Tabla_Asiento_2[[#This Row],[Cta]],PGCtotal[[Nivel 3]:[Subcuenta]],5,FALSE)),\"\",VLOOKUP(Tabla_Asiento_2[[#This Row],[Cta]],PGCtotal[[Nivel 3]:[Subcuenta]],5,FALSE))","v":""}]
[null,null,null,{"$f":"IF(ISERROR(VLOOKUP(Tabla_Asiento_2[[#This Row],[Cta]],PGCtotal[[Nivel 3]:[Subcuenta]],5,FALSE)),\"\",VLOOKUP(Tabla_Asiento_2[[#This Row],[Cta]],PGCtotal[[Nivel 3]:[Subcuenta]],5,FALSE))","v":""}]
[null,null,null,{"$f":"IF(ISERROR(VLOOKUP(Tabla_Asiento_2[[#This Row],[Cta]],PGCtotal[[Nivel 3]:[Subcuenta]],5,FALSE)),\"\",VLOOKUP(Tabla_Asiento_2[[#This Row],[Cta]],PGCtotal[[Nivel 3]:[Subcuenta]],5,FALSE))","v":""}]
[null,null,null,{"$f":"IF(ISERROR(VLOOKUP(Tabla_Asiento_2[[#This Row],[Cta]],PGCtotal[[Nivel 3]:[Subcuenta]],5,FALSE)),\"\",VLOOKUP(Tabla_Asiento_2[[#This Row],[Cta]],PGCtotal[[Nivel 3]:[Subcuenta]],5,FALSE))","v":""}]
[null,null,null,{"$f":"IF(ISERROR(VLOOKUP(Tabla_Asiento_2[[#This Row],[Cta]],PGCtotal[[Nivel 3]:[Subcuenta]],5,FALSE)),\"\",VLOOKUP(Tabla_Asiento_2[[#This Row],[Cta]],PGCtotal[[Nivel 3]:[Subcuenta]],5,FALSE))","v":""}]
[null,null,null,{"$f":"IF(ISERROR(VLOOKUP(Tabla_Asiento_2[[#This Row],[Cta]],PGCtotal[[Nivel 3]:[Subcuenta]],5,FALSE)),\"\",VLOOKUP(Tabla_Asiento_2[[#This Row],[Cta]],PGCtotal[[Nivel 3]:[Subcuenta]],5,FALSE))","v":""}]
[null,null,null,{"$f":"IF(ISERROR(VLOOKUP(Tabla_Asiento_2[[#This Row],[Cta]],PGCtotal[[Nivel 3]:[Subcuenta]],5,FALSE)),\"\",VLOOKUP(Tabla_Asiento_2[[#This Row],[Cta]],PGCtotal[[Nivel 3]:[Subcuenta]],5,FALSE))","v":""}]
[null,null,null,{"$f":"IF(ISERROR(VLOOKUP(Tabla_Asiento_2[[#This Row],[Cta]],PGCtotal[[Nivel 3]:[Subcuenta]],5,FALSE)),\"\",VLOOKUP(Tabla_Asiento_2[[#This Row],[Cta]],PGCtotal[[Nivel 3]:[Subcuenta]],5,FALSE))","v":""}]
[null,null,null,{"$f":"IF(ISERROR(VLOOKUP(Tabla_Asiento_2[[#This Row],[Cta]],PGCtotal[[Nivel 3]:[Subcuenta]],5,FALSE)),\"\",VLOOKUP(Tabla_Asiento_2[[#This Row],[Cta]],PGCtotal[[Nivel 3]:[Subcuenta]],5,FALSE))","v":""}]
[null,null,null,{"$f":"IF(ISERROR(VLOOKUP(Tabla_Asiento_2[[#This Row],[Cta]],PGCtotal[[Nivel 3]:[Subcuenta]],5,FALSE)),\"\",VLOOKUP(Tabla_Asiento_2[[#This Row],[Cta]],PGCtotal[[Nivel 3]:[Subcuenta]],5,FALSE))","v":""}]
[null,null,null,{"$f":"IF(ISERROR(VLOOKUP(Tabla_Asiento_2[[#This Row],[Cta]],PGCtotal[[Nivel 3]:[Subcuenta]],5,FALSE)),\"\",VLOOKUP(Tabla_Asiento_2[[#This Row],[Cta]],PGCtotal[[Nivel 3]:[Subcuenta]],5,FALSE))","v":""}]
[null,null,null,{"$f":"IF(ISERROR(VLOOKUP(Tabla_Asiento_2[[#This Row],[Cta]],PGCtotal[[Nivel 3]:[Subcuenta]],5,FALSE)),\"\",VLOOKUP(Tabla_Asiento_2[[#This Row],[Cta]],PGCtotal[[Nivel 3]:[Subcuenta]],5,FALSE))","v":""}]
[null,null,null,{"$f":"IF(ISERROR(VLOOKUP(Tabla_Asiento_2[[#This Row],[Cta]],PGCtotal[[Nivel 3]:[Subcuenta]],5,FALSE)),\"\",VLOOKUP(Tabla_Asiento_2[[#This Row],[Cta]],PGCtotal[[Nivel 3]:[Subcuenta]],5,FALSE))","v":""}]
[null,null,null,{"$f":"IF(ISERROR(VLOOKUP(Tabla_Asiento_2[[#This Row],[Cta]],PGCtotal[[Nivel 3]:[Subcuenta]],5,FALSE)),\"\",VLOOKUP(Tabla_Asiento_2[[#This Row],[Cta]],PGCtotal[[Nivel 3]:[Subcuenta]],5,FALSE))","v":""}]
[null,null,null,{"$f":"IF(ISERROR(VLOOKUP(Tabla_Asiento_2[[#This Row],[Cta]],PGCtotal[[Nivel 3]:[Subcuenta]],5,FALSE)),\"\",VLOOKUP(Tabla_Asiento_2[[#This Row],[Cta]],PGCtotal[[Nivel 3]:[Subcuenta]],5,FALSE))","v":""}]
[null,null,null,{"$f":"IF(ISERROR(VLOOKUP(Tabla_Asiento_2[[#This Row],[Cta]],PGCtotal[[Nivel 3]:[Subcuenta]],5,FALSE)),\"\",VLOOKUP(Tabla_Asiento_2[[#This Row],[Cta]],PGCtotal[[Nivel 3]:[Subcuenta]],5,FALSE))","v":""}]
[null,null,null,{"$f":"IF(ISERROR(VLOOKUP(Tabla_Asiento_2[[#This Row],[Cta]],PGCtotal[[Nivel 3]:[Subcuenta]],5,FALSE)),\"\",VLOOKUP(Tabla_Asiento_2[[#This Row],[Cta]],PGCtotal[[Nivel 3]:[Subcuenta]],5,FALSE))","v":""}]
[null,null,null,{"$f":"IF(ISERROR(VLOOKUP(Tabla_Asiento_2[[#This Row],[Cta]],PGCtotal[[Nivel 3]:[Subcuenta]],5,FALSE)),\"\",VLOOKUP(Tabla_Asiento_2[[#This Row],[Cta]],PGCtotal[[Nivel 3]:[Subcuenta]],5,FALSE))","v":""}]
[null,null,null,{"$f":"IF(ISERROR(VLOOKUP(Tabla_Asiento_2[[#This Row],[Cta]],PGCtotal[[Nivel 3]:[Subcuenta]],5,FALSE)),\"\",VLOOKUP(Tabla_Asiento_2[[#This Row],[Cta]],PGCtotal[[Nivel 3]:[Subcuenta]],5,FALSE))","v":""}]
[null,null,null,{"$f":"IF(ISERROR(VLOOKUP(Tabla_Asiento_2[[#This Row],[Cta]],PGCtotal[[Nivel 3]:[Subcuenta]],5,FALSE)),\"\",VLOOKUP(Tabla_Asiento_2[[#This Row],[Cta]],PGCtotal[[Nivel 3]:[Subcuenta]],5,FALSE))","v":""}]
[null,null,null,{"$f":"IF(ISERROR(VLOOKUP(Tabla_Asiento_2[[#This Row],[Cta]],PGCtotal[[Nivel 3]:[Subcuenta]],5,FALSE)),\"\",VLOOKUP(Tabla_Asiento_2[[#This Row],[Cta]],PGCtotal[[Nivel 3]:[Subcuenta]],5,FALSE))","v":""}]
[null,null,null,{"$f":"IF(ISERROR(VLOOKUP(Tabla_Asiento_2[[#This Row],[Cta]],PGCtotal[[Nivel 3]:[Subcuenta]],5,FALSE)),\"\",VLOOKUP(Tabla_Asiento_2[[#This Row],[Cta]],PGCtotal[[Nivel 3]:[Subcuenta]],5,FALSE))","v":""}]
[null,null,null,{"$f":"IF(ISERROR(VLOOKUP(Tabla_Asiento_2[[#This Row],[Cta]],PGCtotal[[Nivel 3]:[Subcuenta]],5,FALSE)),\"\",VLOOKUP(Tabla_Asiento_2[[#This Row],[Cta]],PGCtotal[[Nivel 3]:[Subcuenta]],5,FALSE))","v":""}]
[null,null,null,{"$f":"IF(ISERROR(VLOOKUP(Tabla_Asiento_2[[#This Row],[Cta]],PGCtotal[[Nivel 3]:[Subcuenta]],5,FALSE)),\"\",VLOOKUP(Tabla_Asiento_2[[#This Row],[Cta]],PGCtotal[[Nivel 3]:[Subcuenta]],5,FALSE))","v":""}]
[null,null,null,{"$f":"IF(ISERROR(VLOOKUP(Tabla_Asiento_2[[#This Row],[Cta]],PGCtotal[[Nivel 3]:[Subcuenta]],5,FALSE)),\"\",VLOOKUP(Tabla_Asiento_2[[#This Row],[Cta]],PGCtotal[[Nivel 3]:[Subcuenta]],5,FALSE))","v":""}]
[null,null,null,{"$f":"IF(ISERROR(VLOOKUP(Tabla_Asiento_2[[#This Row],[Cta]],PGCtotal[[Nivel 3]:[Subcuenta]],5,FALSE)),\"\",VLOOKUP(Tabla_Asiento_2[[#This Row],[Cta]],PGCtotal[[Nivel 3]:[Subcuenta]],5,FALSE))","v":""}]
[null,null,null,{"$f":"IF(ISERROR(VLOOKUP(Tabla_Asiento_2[[#This Row],[Cta]],PGCtotal[[Nivel 3]:[Subcuenta]],5,FALSE)),\"\",VLOOKUP(Tabla_Asiento_2[[#This Row],[Cta]],PGCtotal[[Nivel 3]:[Subcuenta]],5,FALSE))","v":""}]
[null,null,null,{"$f":"IF(ISERROR(VLOOKUP(Tabla_Asiento_2[[#This Row],[Cta]],PGCtotal[[Nivel 3]:[Subcuenta]],5,FALSE)),\"\",VLOOKUP(Tabla_Asiento_2[[#This Row],[Cta]],PGCtotal[[Nivel 3]:[Subcuenta]],5,FALSE))","v":""}]
[null,null,null,{"$f":"IF(ISERROR(VLOOKUP(Tabla_Asiento_2[[#This Row],[Cta]],PGCtotal[[Nivel 3]:[Subcuenta]],5,FALSE)),\"\",VLOOKUP(Tabla_Asiento_2[[#This Row],[Cta]],PGCtotal[[Nivel 3]:[Subcuenta]],5,FALSE))","v":""}]
[null,null,null,{"$f":"IF(ISERROR(VLOOKUP(Tabla_Asiento_2[[#This Row],[Cta]],PGCtotal[[Nivel 3]:[Subcuenta]],5,FALSE)),\"\",VLOOKUP(Tabla_Asiento_2[[#This Row],[Cta]],PGCtotal[[Nivel 3]:[Subcuenta]],5,FALSE))","v":""}]
[null,null,null,{"$f":"IF(ISERROR(VLOOKUP(Tabla_Asiento_2[[#This Row],[Cta]],PGCtotal[[Nivel 3]:[Subcuenta]],5,FALSE)),\"\",VLOOKUP(Tabla_Asiento_2[[#This Row],[Cta]],PGCtotal[[Nivel 3]:[Subcuenta]],5,FALSE))","v":""}]
[null,null,null,{"$f":"IF(ISERROR(VLOOKUP(Tabla_Asiento_2[[#This Row],[Cta]],PGCtotal[[Nivel 3]:[Subcuenta]],5,FALSE)),\"\",VLOOKUP(Tabla_Asiento_2[[#This Row],[Cta]],PGCtotal[[Nivel 3]:[Subcuenta]],5,FALSE))","v":""}]
[null,null,null,{"$f":"IF(ISERROR(VLOOKUP(Tabla_Asiento_2[[#This Row],[Cta]],PGCtotal[[Nivel 3]:[Subcuenta]],5,FALSE)),\"\",VLOOKUP(Tabla_Asiento_2[[#This Row],[Cta]],PGCtotal[[Nivel 3]:[Subcuenta]],5,FALSE))","v":""}]
[null,null,null,{"$f":"IF(ISERROR(VLOOKUP(Tabla_Asiento_2[[#This Row],[Cta]],PGCtotal[[Nivel 3]:[Subcuenta]],5,FALSE)),\"\",VLOOKUP(Tabla_Asiento_2[[#This Row],[Cta]],PGCtotal[[Nivel 3]:[Subcuenta]],5,FALSE))","v":""}]
[null,null,null,{"$f":"IF(ISERROR(VLOOKUP(Tabla_Asiento_2[[#This Row],[Cta]],PGCtotal[[Nivel 3]:[Subcuenta]],5,FALSE)),\"\",VLOOKUP(Tabla_Asiento_2[[#This Row],[Cta]],PGCtotal[[Nivel 3]:[Subcuenta]],5,FALSE))","v":""}]
[null,null,null,{"$f":"IF(ISERROR(VLOOKUP(Tabla_Asiento_2[[#This Row],[Cta]],PGCtotal[[Nivel 3]:[Subcuenta]],5,FALSE)),\"\",VLOOKUP(Tabla_Asiento_2[[#This Row],[Cta]],PGCtotal[[Nivel 3]:[Subcuenta]],5,FALSE))","v":""}]
[null,null,null,{"$f":"IF(ISERROR(VLOOKUP(Tabla_Asiento_2[[#This Row],[Cta]],PGCtotal[[Nivel 3]:[Subcuenta]],5,FALSE)),\"\",VLOOKUP(Tabla_Asiento_2[[#This Row],[Cta]],PGCtotal[[Nivel 3]:[Subcuenta]],5,FALSE))","v":""}]
[null,null,null,{"$f":"IF(ISERROR(VLOOKUP(Tabla_Asiento_2[[#This Row],[Cta]],PGCtotal[[Nivel 3]:[Subcuenta]],5,FALSE)),\"\",VLOOKUP(Tabla_Asiento_2[[#This Row],[Cta]],PGCtotal[[Nivel 3]:[Subcuenta]],5,FALSE))","v":""}]
[null,null,null,{"$f":"IF(ISERROR(VLOOKUP(Tabla_Asiento_2[[#This Row],[Cta]],PGCtotal[[Nivel 3]:[Subcuenta]],5,FALSE)),\"\",VLOOKUP(Tabla_Asiento_2[[#This Row],[Cta]],PGCtotal[[Nivel 3]:[Subcuenta]],5,FALSE))","v":""}]
[null,null,null,{"$f":"IF(ISERROR(VLOOKUP(Tabla_Asiento_2[[#This Row],[Cta]],PGCtotal[[Nivel 3]:[Subcuenta]],5,FALSE)),\"\",VLOOKUP(Tabla_Asiento_2[[#This Row],[Cta]],PGCtotal[[Nivel 3]:[Subcuenta]],5,FALSE))","v":""}]
[null,null,null,{"$f":"IF(ISERROR(VLOOKUP(Tabla_Asiento_2[[#This Row],[Cta]],PGCtotal[[Nivel 3]:[Subcuenta]],5,FALSE)),\"\",VLOOKUP(Tabla_Asiento_2[[#This Row],[Cta]],PGCtotal[[Nivel 3]:[Subcuenta]],5,FALSE))","v":""}]
[null,null,null,{"$f":"IF(ISERROR(VLOOKUP(Tabla_Asiento_2[[#This Row],[Cta]],PGCtotal[[Nivel 3]:[Subcuenta]],5,FALSE)),\"\",VLOOKUP(Tabla_Asiento_2[[#This Row],[Cta]],PGCtotal[[Nivel 3]:[Subcuenta]],5,FALSE))","v":""}]
[null,null,null,{"$f":"IF(ISERROR(VLOOKUP(Tabla_Asiento_2[[#This Row],[Cta]],PGCtotal[[Nivel 3]:[Subcuenta]],5,FALSE)),\"\",VLOOKUP(Tabla_Asiento_2[[#This Row],[Cta]],PGCtotal[[Nivel 3]:[Subcuenta]],5,FALSE))","v":""}]
[null,null,null,{"$f":"IF(ISERROR(VLOOKUP(Tabla_Asiento_2[[#This Row],[Cta]],PGCtotal[[Nivel 3]:[Subcuenta]],5,FALSE)),\"\",VLOOKUP(Tabla_Asiento_2[[#This Row],[Cta]],PGCtotal[[Nivel 3]:[Subcuenta]],5,FALSE))","v":""}]
[null,null,null,{"$f":"IF(ISERROR(VLOOKUP(Tabla_Asiento_2[[#This Row],[Cta]],PGCtotal[[Nivel 3]:[Subcuenta]],5,FALSE)),\"\",VLOOKUP(Tabla_Asiento_2[[#This Row],[Cta]],PGCtotal[[Nivel 3]:[Subcuenta]],5,FALSE))","v":""}]
[null,null,null,{"$f":"IF(ISERROR(VLOOKUP(Tabla_Asiento_2[[#This Row],[Cta]],PGCtotal[[Nivel 3]:[Subcuenta]],5,FALSE)),\"\",VLOOKUP(Tabla_Asiento_2[[#This Row],[Cta]],PGCtotal[[Nivel 3]:[Subcuenta]],5,FALSE))","v":""}]
[null,null,null,{"$f":"IF(ISERROR(VLOOKUP(Tabla_Asiento_2[[#This Row],[Cta]],PGCtotal[[Nivel 3]:[Subcuenta]],5,FALSE)),\"\",VLOOKUP(Tabla_Asiento_2[[#This Row],[Cta]],PGCtotal[[Nivel 3]:[Subcuenta]],5,FALSE))","v":""}]
[null,null,null,{"$f":"IF(ISERROR(VLOOKUP(Tabla_Asiento_2[[#This Row],[Cta]],PGCtotal[[Nivel 3]:[Subcuenta]],5,FALSE)),\"\",VLOOKUP(Tabla_Asiento_2[[#This Row],[Cta]],PGCtotal[[Nivel 3]:[Subcuenta]],5,FALSE))","v":""}]
[null,null,null,{"$f":"IF(ISERROR(VLOOKUP(Tabla_Asiento_2[[#This Row],[Cta]],PGCtotal[[Nivel 3]:[Subcuenta]],5,FALSE)),\"\",VLOOKUP(Tabla_Asiento_2[[#This Row],[Cta]],PGCtotal[[Nivel 3]:[Subcuenta]],5,FALSE))","v":""}]
[null,null,null,{"$f":"IF(ISERROR(VLOOKUP(Tabla_Asiento_2[[#This Row],[Cta]],PGCtotal[[Nivel 3]:[Subcuenta]],5,FALSE)),\"\",VLOOKUP(Tabla_Asiento_2[[#This Row],[Cta]],PGCtotal[[Nivel 3]:[Subcuenta]],5,FALSE))","v":""}]
[null,null,null,{"$f":"IF(ISERROR(VLOOKUP(Tabla_Asiento_2[[#This Row],[Cta]],PGCtotal[[Nivel 3]:[Subcuenta]],5,FALSE)),\"\",VLOOKUP(Tabla_Asiento_2[[#This Row],[Cta]],PGCtotal[[Nivel 3]:[Subcuenta]],5,FALSE))","v":""}]
[null,null,null,{"$f":"IF(ISERROR(VLOOKUP(Tabla_Asiento_2[[#This Row],[Cta]],PGCtotal[[Nivel 3]:[Subcuenta]],5,FALSE)),\"\",VLOOKUP(Tabla_Asiento_2[[#This Row],[Cta]],PGCtotal[[Nivel 3]:[Subcuenta]],5,FALSE))","v":""}]
[null,null,null,{"$f":"IF(ISERROR(VLOOKUP(Tabla_Asiento_2[[#This Row],[Cta]],PGCtotal[[Nivel 3]:[Subcuenta]],5,FALSE)),\"\",VLOOKUP(Tabla_Asiento_2[[#This Row],[Cta]],PGCtotal[[Nivel 3]:[Subcuenta]],5,FALSE))","v":""}]
[null,null,null,{"$f":"IF(ISERROR(VLOOKUP(Tabla_Asiento_2[[#This Row],[Cta]],PGCtotal[[Nivel 3]:[Subcuenta]],5,FALSE)),\"\",VLOOKUP(Tabla_Asiento_2[[#This Row],[Cta]],PGCtotal[[Nivel 3]:[Subcuenta]],5,FALSE))","v":""}]
[null,null,null,{"$f":"IF(ISERROR(VLOOKUP(Tabla_Asiento_2[[#This Row],[Cta]],PGCtotal[[Nivel 3]:[Subcuenta]],5,FALSE)),\"\",VLOOKUP(Tabla_Asiento_2[[#This Row],[Cta]],PGCtotal[[Nivel 3]:[Subcuenta]],5,FALSE))","v":""}]
[null,null,null,{"$f":"IF(ISERROR(VLOOKUP(Tabla_Asiento_2[[#This Row],[Cta]],PGCtotal[[Nivel 3]:[Subcuenta]],5,FALSE)),\"\",VLOOKUP(Tabla_Asiento_2[[#This Row],[Cta]],PGCtotal[[Nivel 3]:[Subcuenta]],5,FALSE))","v":""}]
[null,null,null,{"$f":"IF(ISERROR(VLOOKUP(Tabla_Asiento_2[[#This Row],[Cta]],PGCtotal[[Nivel 3]:[Subcuenta]],5,FALSE)),\"\",VLOOKUP(Tabla_Asiento_2[[#This Row],[Cta]],PGCtotal[[Nivel 3]:[Subcuenta]],5,FALSE))","v":""}]
[null,null,null,{"$f":"IF(ISERROR(VLOOKUP(Tabla_Asiento_2[[#This Row],[Cta]],PGCtotal[[Nivel 3]:[Subcuenta]],5,FALSE)),\"\",VLOOKUP(Tabla_Asiento_2[[#This Row],[Cta]],PGCtotal[[Nivel 3]:[Subcuenta]],5,FALSE))","v":""}]
[null,null,null,{"$f":"IF(ISERROR(VLOOKUP(Tabla_Asiento_2[[#This Row],[Cta]],PGCtotal[[Nivel 3]:[Subcuenta]],5,FALSE)),\"\",VLOOKUP(Tabla_Asiento_2[[#This Row],[Cta]],PGCtotal[[Nivel 3]:[Subcuenta]],5,FALSE))","v":""}]
[null,null,null,{"$f":"IF(ISERROR(VLOOKUP(Tabla_Asiento_2[[#This Row],[Cta]],PGCtotal[[Nivel 3]:[Subcuenta]],5,FALSE)),\"\",VLOOKUP(Tabla_Asiento_2[[#This Row],[Cta]],PGCtotal[[Nivel 3]:[Subcuenta]],5,FALSE))","v":""}]
[null,null,null,{"$f":"IF(ISERROR(VLOOKUP(Tabla_Asiento_2[[#This Row],[Cta]],PGCtotal[[Nivel 3]:[Subcuenta]],5,FALSE)),\"\",VLOOKUP(Tabla_Asiento_2[[#This Row],[Cta]],PGCtotal[[Nivel 3]:[Subcuenta]],5,FALSE))","v":""}]
[null,null,null,{"$f":"IF(ISERROR(VLOOKUP(Tabla_Asiento_2[[#This Row],[Cta]],PGCtotal[[Nivel 3]:[Subcuenta]],5,FALSE)),\"\",VLOOKUP(Tabla_Asiento_2[[#This Row],[Cta]],PGCtotal[[Nivel 3]:[Subcuenta]],5,FALSE))","v":""}]
[null,null,null,{"$f":"IF(ISERROR(VLOOKUP(Tabla_Asiento_2[[#This Row],[Cta]],PGCtotal[[Nivel 3]:[Subcuenta]],5,FALSE)),\"\",VLOOKUP(Tabla_Asiento_2[[#This Row],[Cta]],PGCtotal[[Nivel 3]:[Subcuenta]],5,FALSE))","v":""}]
[null,null,null,{"$f":"IF(ISERROR(VLOOKUP(Tabla_Asiento_2[[#This Row],[Cta]],PGCtotal[[Nivel 3]:[Subcuenta]],5,FALSE)),\"\",VLOOKUP(Tabla_Asiento_2[[#This Row],[Cta]],PGCtotal[[Nivel 3]:[Subcuenta]],5,FALSE))","v":""}]
[null,null,null,{"$f":"IF(ISERROR(VLOOKUP(Tabla_Asiento_2[[#This Row],[Cta]],PGCtotal[[Nivel 3]:[Subcuenta]],5,FALSE)),\"\",VLOOKUP(Tabla_Asiento_2[[#This Row],[Cta]],PGCtotal[[Nivel 3]:[Subcuenta]],5,FALSE))","v":""}]
[null,null,null,{"$f":"IF(ISERROR(VLOOKUP(Tabla_Asiento_2[[#This Row],[Cta]],PGCtotal[[Nivel 3]:[Subcuenta]],5,FALSE)),\"\",VLOOKUP(Tabla_Asiento_2[[#This Row],[Cta]],PGCtotal[[Nivel 3]:[Subcuenta]],5,FALSE))","v":""}]
[null,null,null,{"$f":"IF(ISERROR(VLOOKUP(Tabla_Asiento_2[[#This Row],[Cta]],PGCtotal[[Nivel 3]:[Subcuenta]],5,FALSE)),\"\",VLOOKUP(Tabla_Asiento_2[[#This Row],[Cta]],PGCtotal[[Nivel 3]:[Subcuenta]],5,FALSE))","v":""}]
[null,null,null,{"$f":"IF(ISERROR(VLOOKUP(Tabla_Asiento_2[[#This Row],[Cta]],PGCtotal[[Nivel 3]:[Subcuenta]],5,FALSE)),\"\",VLOOKUP(Tabla_Asiento_2[[#This Row],[Cta]],PGCtotal[[Nivel 3]:[Subcuenta]],5,FALSE))","v":""}]
[null,null,null,{"$f":"IF(ISERROR(VLOOKUP(Tabla_Asiento_2[[#This Row],[Cta]],PGCtotal[[Nivel 3]:[Subcuenta]],5,FALSE)),\"\",VLOOKUP(Tabla_Asiento_2[[#This Row],[Cta]],PGCtotal[[Nivel 3]:[Subcuenta]],5,FALSE))","v":""}]
[null,null,null,{"$f":"IF(ISERROR(VLOOKUP(Tabla_Asiento_2[[#This Row],[Cta]],PGCtotal[[Nivel 3]:[Subcuenta]],5,FALSE)),\"\",VLOOKUP(Tabla_Asiento_2[[#This Row],[Cta]],PGCtotal[[Nivel 3]:[Subcuenta]],5,FALSE))","v":""}]
[null,null,null,{"$f":"IF(ISERROR(VLOOKUP(Tabla_Asiento_2[[#This Row],[Cta]],PGCtotal[[Nivel 3]:[Subcuenta]],5,FALSE)),\"\",VLOOKUP(Tabla_Asiento_2[[#This Row],[Cta]],PGCtotal[[Nivel 3]:[Subcuenta]],5,FALSE))","v":""}]
[null,null,null,{"$f":"IF(ISERROR(VLOOKUP(Tabla_Asiento_2[[#This Row],[Cta]],PGCtotal[[Nivel 3]:[Subcuenta]],5,FALSE)),\"\",VLOOKUP(Tabla_Asiento_2[[#This Row],[Cta]],PGCtotal[[Nivel 3]:[Subcuenta]],5,FALSE))","v":""}]
[null,null,null,{"$f":"IF(ISERROR(VLOOKUP(Tabla_Asiento_2[[#This Row],[Cta]],PGCtotal[[Nivel 3]:[Subcuenta]],5,FALSE)),\"\",VLOOKUP(Tabla_Asiento_2[[#This Row],[Cta]],PGCtotal[[Nivel 3]:[Subcuenta]],5,FALSE))","v":""}]
[null,null,null,{"$f":"IF(ISERROR(VLOOKUP(Tabla_Asiento_2[[#This Row],[Cta]],PGCtotal[[Nivel 3]:[Subcuenta]],5,FALSE)),\"\",VLOOKUP(Tabla_Asiento_2[[#This Row],[Cta]],PGCtotal[[Nivel 3]:[Subcuenta]],5,FALSE))","v":""}]
[null,null,null,{"$f":"IF(ISERROR(VLOOKUP(Tabla_Asiento_2[[#This Row],[Cta]],PGCtotal[[Nivel 3]:[Subcuenta]],5,FALSE)),\"\",VLOOKUP(Tabla_Asiento_2[[#This Row],[Cta]],PGCtotal[[Nivel 3]:[Subcuenta]],5,FALSE))","v":""}]
[null,null,null,{"$f":"IF(ISERROR(VLOOKUP(Tabla_Asiento_2[[#This Row],[Cta]],PGCtotal[[Nivel 3]:[Subcuenta]],5,FALSE)),\"\",VLOOKUP(Tabla_Asiento_2[[#This Row],[Cta]],PGCtotal[[Nivel 3]:[Subcuenta]],5,FALSE))","v":""}]
[null,null,null,{"$f":"IF(ISERROR(VLOOKUP(Tabla_Asiento_2[[#This Row],[Cta]],PGCtotal[[Nivel 3]:[Subcuenta]],5,FALSE)),\"\",VLOOKUP(Tabla_Asiento_2[[#This Row],[Cta]],PGCtotal[[Nivel 3]:[Subcuenta]],5,FALSE))","v":""}]
[null,null,null,{"$f":"IF(ISERROR(VLOOKUP(Tabla_Asiento_2[[#This Row],[Cta]],PGCtotal[[Nivel 3]:[Subcuenta]],5,FALSE)),\"\",VLOOKUP(Tabla_Asiento_2[[#This Row],[Cta]],PGCtotal[[Nivel 3]:[Subcuenta]],5,FALSE))","v":""}]
[null,null,null,{"$f":"IF(ISERROR(VLOOKUP(Tabla_Asiento_2[[#This Row],[Cta]],PGCtotal[[Nivel 3]:[Subcuenta]],5,FALSE)),\"\",VLOOKUP(Tabla_Asiento_2[[#This Row],[Cta]],PGCtotal[[Nivel 3]:[Subcuenta]],5,FALSE))","v":""}]
[null,null,null,{"$f":"IF(ISERROR(VLOOKUP(Tabla_Asiento_2[[#This Row],[Cta]],PGCtotal[[Nivel 3]:[Subcuenta]],5,FALSE)),\"\",VLOOKUP(Tabla_Asiento_2[[#This Row],[Cta]],PGCtotal[[Nivel 3]:[Subcuenta]],5,FALSE))","v":""}]
[null,null,null,{"$f":"IF(ISERROR(VLOOKUP(Tabla_Asiento_2[[#This Row],[Cta]],PGCtotal[[Nivel 3]:[Subcuenta]],5,FALSE)),\"\",VLOOKUP(Tabla_Asiento_2[[#This Row],[Cta]],PGCtotal[[Nivel 3]:[Subcuenta]],5,FALSE))","v":""}]
[null,null,null,{"$f":"IF(ISERROR(VLOOKUP(Tabla_Asiento_2[[#This Row],[Cta]],PGCtotal[[Nivel 3]:[Subcuenta]],5,FALSE)),\"\",VLOOKUP(Tabla_Asiento_2[[#This Row],[Cta]],PGCtotal[[Nivel 3]:[Subcuenta]],5,FALSE))","v":""}]
[null,null,null,{"$f":"IF(ISERROR(VLOOKUP(Tabla_Asiento_2[[#This Row],[Cta]],PGCtotal[[Nivel 3]:[Subcuenta]],5,FALSE)),\"\",VLOOKUP(Tabla_Asiento_2[[#This Row],[Cta]],PGCtotal[[Nivel 3]:[Subcuenta]],5,FALSE))","v":""}]
[null,null,null,{"$f":"IF(ISERROR(VLOOKUP(Tabla_Asiento_2[[#This Row],[Cta]],PGCtotal[[Nivel 3]:[Subcuenta]],5,FALSE)),\"\",VLOOKUP(Tabla_Asiento_2[[#This Row],[Cta]],PGCtotal[[Nivel 3]:[Subcuenta]],5,FALSE))","v":""}]
[null,null,null,{"$f":"IF(ISERROR(VLOOKUP(Tabla_Asiento_2[[#This Row],[Cta]],PGCtotal[[Nivel 3]:[Subcuenta]],5,FALSE)),\"\",VLOOKUP(Tabla_Asiento_2[[#This Row],[Cta]],PGCtotal[[Nivel 3]:[Subcuenta]],5,FALSE))","v":""}]
[null,null,null,{"$f":"IF(ISERROR(VLOOKUP(Tabla_Asiento_2[[#This Row],[Cta]],PGCtotal[[Nivel 3]:[Subcuenta]],5,FALSE)),\"\",VLOOKUP(Tabla_Asiento_2[[#This Row],[Cta]],PGCtotal[[Nivel 3]:[Subcuenta]],5,FALSE))","v":""}]
[null,null,null,{"$f":"IF(ISERROR(VLOOKUP(Tabla_Asiento_2[[#This Row],[Cta]],PGCtotal[[Nivel 3]:[Subcuenta]],5,FALSE)),\"\",VLOOKUP(Tabla_Asiento_2[[#This Row],[Cta]],PGCtotal[[Nivel 3]:[Subcuenta]],5,FALSE))","v":""}]
[null,null,null,{"$f":"IF(ISERROR(VLOOKUP(Tabla_Asiento_2[[#This Row],[Cta]],PGCtotal[[Nivel 3]:[Subcuenta]],5,FALSE)),\"\",VLOOKUP(Tabla_Asiento_2[[#This Row],[Cta]],PGCtotal[[Nivel 3]:[Subcuenta]],5,FALSE))","v":""}]
[null,null,null,{"$f":"IF(ISERROR(VLOOKUP(Tabla_Asiento_2[[#This Row],[Cta]],PGCtotal[[Nivel 3]:[Subcuenta]],5,FALSE)),\"\",VLOOKUP(Tabla_Asiento_2[[#This Row],[Cta]],PGCtotal[[Nivel 3]:[Subcuenta]],5,FALSE))","v":""}]
[null,null,null,{"$f":"IF(ISERROR(VLOOKUP(Tabla_Asiento_2[[#This Row],[Cta]],PGCtotal[[Nivel 3]:[Subcuenta]],5,FALSE)),\"\",VLOOKUP(Tabla_Asiento_2[[#This Row],[Cta]],PGCtotal[[Nivel 3]:[Subcuenta]],5,FALSE))","v":""}]
[null,null,null,{"$f":"IF(ISERROR(VLOOKUP(Tabla_Asiento_2[[#This Row],[Cta]],PGCtotal[[Nivel 3]:[Subcuenta]],5,FALSE)),\"\",VLOOKUP(Tabla_Asiento_2[[#This Row],[Cta]],PGCtotal[[Nivel 3]:[Subcuenta]],5,FALSE))","v":""}]
[null,null,null,{"$f":"IF(ISERROR(VLOOKUP(Tabla_Asiento_2[[#This Row],[Cta]],PGCtotal[[Nivel 3]:[Subcuenta]],5,FALSE)),\"\",VLOOKUP(Tabla_Asiento_2[[#This Row],[Cta]],PGCtotal[[Nivel 3]:[Subcuenta]],5,FALSE))","v":""}]
[null,null,null,{"$f":"IF(ISERROR(VLOOKUP(Tabla_Asiento_2[[#This Row],[Cta]],PGCtotal[[Nivel 3]:[Subcuenta]],5,FALSE)),\"\",VLOOKUP(Tabla_Asiento_2[[#This Row],[Cta]],PGCtotal[[Nivel 3]:[Subcuenta]],5,FALSE))","v":""}]
[null,null,null,{"$f":"IF(ISERROR(VLOOKUP(Tabla_Asiento_2[[#This Row],[Cta]],PGCtotal[[Nivel 3]:[Subcuenta]],5,FALSE)),\"\",VLOOKUP(Tabla_Asiento_2[[#This Row],[Cta]],PGCtotal[[Nivel 3]:[Subcuenta]],5,FALSE))","v":""}]
[null,null,null,{"$f":"IF(ISERROR(VLOOKUP(Tabla_Asiento_2[[#This Row],[Cta]],PGCtotal[[Nivel 3]:[Subcuenta]],5,FALSE)),\"\",VLOOKUP(Tabla_Asiento_2[[#This Row],[Cta]],PGCtotal[[Nivel 3]:[Subcuenta]],5,FALSE))","v":""}]
[null,null,null,{"$f":"IF(ISERROR(VLOOKUP(Tabla_Asiento_2[[#This Row],[Cta]],PGCtotal[[Nivel 3]:[Subcuenta]],5,FALSE)),\"\",VLOOKUP(Tabla_Asiento_2[[#This Row],[Cta]],PGCtotal[[Nivel 3]:[Subcuenta]],5,FALSE))","v":""}]
[null,null,null,{"$f":"IF(ISERROR(VLOOKUP(Tabla_Asiento_2[[#This Row],[Cta]],PGCtotal[[Nivel 3]:[Subcuenta]],5,FALSE)),\"\",VLOOKUP(Tabla_Asiento_2[[#This Row],[Cta]],PGCtotal[[Nivel 3]:[Subcuenta]],5,FALSE))","v":""}]
[null,null,null,{"$f":"IF(ISERROR(VLOOKUP(Tabla_Asiento_2[[#This Row],[Cta]],PGCtotal[[Nivel 3]:[Subcuenta]],5,FALSE)),\"\",VLOOKUP(Tabla_Asiento_2[[#This Row],[Cta]],PGCtotal[[Nivel 3]:[Subcuenta]],5,FALSE))","v":""}]
[null,null,null,{"$f":"IF(ISERROR(VLOOKUP(Tabla_Asiento_2[[#This Row],[Cta]],PGCtotal[[Nivel 3]:[Subcuenta]],5,FALSE)),\"\",VLOOKUP(Tabla_Asiento_2[[#This Row],[Cta]],PGCtotal[[Nivel 3]:[Subcuenta]],5,FALSE))","v":""}]
[null,null,null,{"$f":"IF(ISERROR(VLOOKUP(Tabla_Asiento_2[[#This Row],[Cta]],PGCtotal[[Nivel 3]:[Subcuenta]],5,FALSE)),\"\",VLOOKUP(Tabla_Asiento_2[[#This Row],[Cta]],PGCtotal[[Nivel 3]:[Subcuenta]],5,FALSE))","v":""}]
[null,null,null,{"$f":"IF(ISERROR(VLOOKUP(Tabla_Asiento_2[[#This Row],[Cta]],PGCtotal[[Nivel 3]:[Subcuenta]],5,FALSE)),\"\",VLOOKUP(Tabla_Asiento_2[[#This Row],[Cta]],PGCtotal[[Nivel 3]:[Subcuenta]],5,FALSE))","v":""}]
[null,null,null,{"$f":"IF(ISERROR(VLOOKUP(Tabla_Asiento_2[[#This Row],[Cta]],PGCtotal[[Nivel 3]:[Subcuenta]],5,FALSE)),\"\",VLOOKUP(Tabla_Asiento_2[[#This Row],[Cta]],PGCtotal[[Nivel 3]:[Subcuenta]],5,FALSE))","v":""}]
[null,null,null,{"$f":"IF(ISERROR(VLOOKUP(Tabla_Asiento_2[[#This Row],[Cta]],PGCtotal[[Nivel 3]:[Subcuenta]],5,FALSE)),\"\",VLOOKUP(Tabla_Asiento_2[[#This Row],[Cta]],PGCtotal[[Nivel 3]:[Subcuenta]],5,FALSE))","v":""}]
[null,null,null,{"$f":"IF(ISERROR(VLOOKUP(Tabla_Asiento_2[[#This Row],[Cta]],PGCtotal[[Nivel 3]:[Subcuenta]],5,FALSE)),\"\",VLOOKUP(Tabla_Asiento_2[[#This Row],[Cta]],PGCtotal[[Nivel 3]:[Subcuenta]],5,FALSE))","v":""}]
[null,null,null,{"$f":"IF(ISERROR(VLOOKUP(Tabla_Asiento_2[[#This Row],[Cta]],PGCtotal[[Nivel 3]:[Subcuenta]],5,FALSE)),\"\",VLOOKUP(Tabla_Asiento_2[[#This Row],[Cta]],PGCtotal[[Nivel 3]:[Subcuenta]],5,FALSE))","v":""}]
[null,null,null,{"$f":"IF(ISERROR(VLOOKUP(Tabla_Asiento_2[[#This Row],[Cta]],PGCtotal[[Nivel 3]:[Subcuenta]],5,FALSE)),\"\",VLOOKUP(Tabla_Asiento_2[[#This Row],[Cta]],PGCtotal[[Nivel 3]:[Subcuenta]],5,FALSE))","v":""}]
[null,null,null,{"$f":"IF(ISERROR(VLOOKUP(Tabla_Asiento_2[[#This Row],[Cta]],PGCtotal[[Nivel 3]:[Subcuenta]],5,FALSE)),\"\",VLOOKUP(Tabla_Asiento_2[[#This Row],[Cta]],PGCtotal[[Nivel 3]:[Subcuenta]],5,FALSE))","v":""}]
[null,null,null,{"$f":"IF(ISERROR(VLOOKUP(Tabla_Asiento_2[[#This Row],[Cta]],PGCtotal[[Nivel 3]:[Subcuenta]],5,FALSE)),\"\",VLOOKUP(Tabla_Asiento_2[[#This Row],[Cta]],PGCtotal[[Nivel 3]:[Subcuenta]],5,FALSE))","v":""}]
[null,null,null,{"$f":"IF(ISERROR(VLOOKUP(Tabla_Asiento_2[[#This Row],[Cta]],PGCtotal[[Nivel 3]:[Subcuenta]],5,FALSE)),\"\",VLOOKUP(Tabla_Asiento_2[[#This Row],[Cta]],PGCtotal[[Nivel 3]:[Subcuenta]],5,FALSE))","v":""}]
[null,null,null,{"$f":"IF(ISERROR(VLOOKUP(Tabla_Asiento_2[[#This Row],[Cta]],PGCtotal[[Nivel 3]:[Subcuenta]],5,FALSE)),\"\",VLOOKUP(Tabla_Asiento_2[[#This Row],[Cta]],PGCtotal[[Nivel 3]:[Subcuenta]],5,FALSE))","v":""}]
[null,null,null,{"$f":"IF(ISERROR(VLOOKUP(Tabla_Asiento_2[[#This Row],[Cta]],PGCtotal[[Nivel 3]:[Subcuenta]],5,FALSE)),\"\",VLOOKUP(Tabla_Asiento_2[[#This Row],[Cta]],PGCtotal[[Nivel 3]:[Subcuenta]],5,FALSE))","v":""}]
[null,null,null,{"$f":"IF(ISERROR(VLOOKUP(Tabla_Asiento_2[[#This Row],[Cta]],PGCtotal[[Nivel 3]:[Subcuenta]],5,FALSE)),\"\",VLOOKUP(Tabla_Asiento_2[[#This Row],[Cta]],PGCtotal[[Nivel 3]:[Subcuenta]],5,FALSE))","v":""}]
[null,null,null,{"$f":"IF(ISERROR(VLOOKUP(Tabla_Asiento_2[[#This Row],[Cta]],PGCtotal[[Nivel 3]:[Subcuenta]],5,FALSE)),\"\",VLOOKUP(Tabla_Asiento_2[[#This Row],[Cta]],PGCtotal[[Nivel 3]:[Subcuenta]],5,FALSE))","v":""}]
[null,null,null,{"$f":"IF(ISERROR(VLOOKUP(Tabla_Asiento_2[[#This Row],[Cta]],PGCtotal[[Nivel 3]:[Subcuenta]],5,FALSE)),\"\",VLOOKUP(Tabla_Asiento_2[[#This Row],[Cta]],PGCtotal[[Nivel 3]:[Subcuenta]],5,FALSE))","v":""}]
[null,null,null,{"$f":"IF(ISERROR(VLOOKUP(Tabla_Asiento_2[[#This Row],[Cta]],PGCtotal[[Nivel 3]:[Subcuenta]],5,FALSE)),\"\",VLOOKUP(Tabla_Asiento_2[[#This Row],[Cta]],PGCtotal[[Nivel 3]:[Subcuenta]],5,FALSE))","v":""}]
[null,null,null,{"$f":"IF(ISERROR(VLOOKUP(Tabla_Asiento_2[[#This Row],[Cta]],PGCtotal[[Nivel 3]:[Subcuenta]],5,FALSE)),\"\",VLOOKUP(Tabla_Asiento_2[[#This Row],[Cta]],PGCtotal[[Nivel 3]:[Subcuenta]],5,FALSE))","v":""}]
[null,null,null,{"$f":"IF(ISERROR(VLOOKUP(Tabla_Asiento_2[[#This Row],[Cta]],PGCtotal[[Nivel 3]:[Subcuenta]],5,FALSE)),\"\",VLOOKUP(Tabla_Asiento_2[[#This Row],[Cta]],PGCtotal[[Nivel 3]:[Subcuenta]],5,FALSE))","v":""}]
[null,null,null,{"$f":"IF(ISERROR(VLOOKUP(Tabla_Asiento_2[[#This Row],[Cta]],PGCtotal[[Nivel 3]:[Subcuenta]],5,FALSE)),\"\",VLOOKUP(Tabla_Asiento_2[[#This Row],[Cta]],PGCtotal[[Nivel 3]:[Subcuenta]],5,FALSE))","v":""}]
[null,null,null,{"$f":"IF(ISERROR(VLOOKUP(Tabla_Asiento_2[[#This Row],[Cta]],PGCtotal[[Nivel 3]:[Subcuenta]],5,FALSE)),\"\",VLOOKUP(Tabla_Asiento_2[[#This Row],[Cta]],PGCtotal[[Nivel 3]:[Subcuenta]],5,FALSE))","v":""}]
[null,null,null,{"$f":"IF(ISERROR(VLOOKUP(Tabla_Asiento_2[[#This Row],[Cta]],PGCtotal[[Nivel 3]:[Subcuenta]],5,FALSE)),\"\",VLOOKUP(Tabla_Asiento_2[[#This Row],[Cta]],PGCtotal[[Nivel 3]:[Subcuenta]],5,FALSE))","v":""}]
[null,null,null,{"$f":"IF(ISERROR(VLOOKUP(Tabla_Asiento_2[[#This Row],[Cta]],PGCtotal[[Nivel 3]:[Subcuenta]],5,FALSE)),\"\",VLOOKUP(Tabla_Asiento_2[[#This Row],[Cta]],PGCtotal[[Nivel 3]:[Subcuenta]],5,FALSE))","v":""}]
[null,null,null,{"$f":"IF(ISERROR(VLOOKUP(Tabla_Asiento_2[[#This Row],[Cta]],PGCtotal[[Nivel 3]:[Subcuenta]],5,FALSE)),\"\",VLOOKUP(Tabla_Asiento_2[[#This Row],[Cta]],PGCtotal[[Nivel 3]:[Subcuenta]],5,FALSE))","v":""}]
[null,null,null,{"$f":"IF(ISERROR(VLOOKUP(Tabla_Asiento_2[[#This Row],[Cta]],PGCtotal[[Nivel 3]:[Subcuenta]],5,FALSE)),\"\",VLOOKUP(Tabla_Asiento_2[[#This Row],[Cta]],PGCtotal[[Nivel 3]:[Subcuenta]],5,FALSE))","v":""}]
[null,null,null,{"$f":"IF(ISERROR(VLOOKUP(Tabla_Asiento_2[[#This Row],[Cta]],PGCtotal[[Nivel 3]:[Subcuenta]],5,FALSE)),\"\",VLOOKUP(Tabla_Asiento_2[[#This Row],[Cta]],PGCtotal[[Nivel 3]:[Subcuenta]],5,FALSE))","v":""}]
[null,null,null,{"$f":"IF(ISERROR(VLOOKUP(Tabla_Asiento_2[[#This Row],[Cta]],PGCtotal[[Nivel 3]:[Subcuenta]],5,FALSE)),\"\",VLOOKUP(Tabla_Asiento_2[[#This Row],[Cta]],PGCtotal[[Nivel 3]:[Subcuenta]],5,FALSE))","v":""}]
[null,null,null,{"$f":"IF(ISERROR(VLOOKUP(Tabla_Asiento_2[[#This Row],[Cta]],PGCtotal[[Nivel 3]:[Subcuenta]],5,FALSE)),\"\",VLOOKUP(Tabla_Asiento_2[[#This Row],[Cta]],PGCtotal[[Nivel 3]:[Subcuenta]],5,FALSE))","v":""}]
[null,null,null,{"$f":"IF(ISERROR(VLOOKUP(Tabla_Asiento_2[[#This Row],[Cta]],PGCtotal[[Nivel 3]:[Subcuenta]],5,FALSE)),\"\",VLOOKUP(Tabla_Asiento_2[[#This Row],[Cta]],PGCtotal[[Nivel 3]:[Subcuenta]],5,FALSE))","v":""}]
[null,null,null,{"$f":"IF(ISERROR(VLOOKUP(Tabla_Asiento_2[[#This Row],[Cta]],PGCtotal[[Nivel 3]:[Subcuenta]],5,FALSE)),\"\",VLOOKUP(Tabla_Asiento_2[[#This Row],[Cta]],PGCtotal[[Nivel 3]:[Subcuenta]],5,FALSE))","v":""}]
[null,null,null,{"$f":"IF(ISERROR(VLOOKUP(Tabla_Asiento_2[[#This Row],[Cta]],PGCtotal[[Nivel 3]:[Subcuenta]],5,FALSE)),\"\",VLOOKUP(Tabla_Asiento_2[[#This Row],[Cta]],PGCtotal[[Nivel 3]:[Subcuenta]],5,FALSE))","v":""}]
[null,null,null,{"$f":"IF(ISERROR(VLOOKUP(Tabla_Asiento_2[[#This Row],[Cta]],PGCtotal[[Nivel 3]:[Subcuenta]],5,FALSE)),\"\",VLOOKUP(Tabla_Asiento_2[[#This Row],[Cta]],PGCtotal[[Nivel 3]:[Subcuenta]],5,FALSE))","v":""}]
[null,null,null,{"$f":"IF(ISERROR(VLOOKUP(Tabla_Asiento_2[[#This Row],[Cta]],PGCtotal[[Nivel 3]:[Subcuenta]],5,FALSE)),\"\",VLOOKUP(Tabla_Asiento_2[[#This Row],[Cta]],PGCtotal[[Nivel 3]:[Subcuenta]],5,FALSE))","v":""}]
[null,null,null,{"$f":"IF(ISERROR(VLOOKUP(Tabla_Asiento_2[[#This Row],[Cta]],PGCtotal[[Nivel 3]:[Subcuenta]],5,FALSE)),\"\",VLOOKUP(Tabla_Asiento_2[[#This Row],[Cta]],PGCtotal[[Nivel 3]:[Subcuenta]],5,FALSE))","v":""}]
[null,null,null,{"$f":"IF(ISERROR(VLOOKUP(Tabla_Asiento_2[[#This Row],[Cta]],PGCtotal[[Nivel 3]:[Subcuenta]],5,FALSE)),\"\",VLOOKUP(Tabla_Asiento_2[[#This Row],[Cta]],PGCtotal[[Nivel 3]:[Subcuenta]],5,FALSE))","v":""}]
[null,null,null,{"$f":"IF(ISERROR(VLOOKUP(Tabla_Asiento_2[[#This Row],[Cta]],PGCtotal[[Nivel 3]:[Subcuenta]],5,FALSE)),\"\",VLOOKUP(Tabla_Asiento_2[[#This Row],[Cta]],PGCtotal[[Nivel 3]:[Subcuenta]],5,FALSE))","v":""}]
[null,null,null,{"$f":"IF(ISERROR(VLOOKUP(Tabla_Asiento_2[[#This Row],[Cta]],PGCtotal[[Nivel 3]:[Subcuenta]],5,FALSE)),\"\",VLOOKUP(Tabla_Asiento_2[[#This Row],[Cta]],PGCtotal[[Nivel 3]:[Subcuenta]],5,FALSE))","v":""}]
[null,null,null,{"$f":"IF(ISERROR(VLOOKUP(Tabla_Asiento_2[[#This Row],[Cta]],PGCtotal[[Nivel 3]:[Subcuenta]],5,FALSE)),\"\",VLOOKUP(Tabla_Asiento_2[[#This Row],[Cta]],PGCtotal[[Nivel 3]:[Subcuenta]],5,FALSE))","v":""}]
[null,null,null,{"$f":"IF(ISERROR(VLOOKUP(Tabla_Asiento_2[[#This Row],[Cta]],PGCtotal[[Nivel 3]:[Subcuenta]],5,FALSE)),\"\",VLOOKUP(Tabla_Asiento_2[[#This Row],[Cta]],PGCtotal[[Nivel 3]:[Subcuenta]],5,FALSE))","v":""}]
[null,null,null,{"$f":"IF(ISERROR(VLOOKUP(Tabla_Asiento_2[[#This Row],[Cta]],PGCtotal[[Nivel 3]:[Subcuenta]],5,FALSE)),\"\",VLOOKUP(Tabla_Asiento_2[[#This Row],[Cta]],PGCtotal[[Nivel 3]:[Subcuenta]],5,FALSE))","v":""}]
[null,null,null,{"$f":"IF(ISERROR(VLOOKUP(Tabla_Asiento_2[[#This Row],[Cta]],PGCtotal[[Nivel 3]:[Subcuenta]],5,FALSE)),\"\",VLOOKUP(Tabla_Asiento_2[[#This Row],[Cta]],PGCtotal[[Nivel 3]:[Subcuenta]],5,FALSE))","v":""}]
[null,null,null,{"$f":"IF(ISERROR(VLOOKUP(Tabla_Asiento_2[[#This Row],[Cta]],PGCtotal[[Nivel 3]:[Subcuenta]],5,FALSE)),\"\",VLOOKUP(Tabla_Asiento_2[[#This Row],[Cta]],PGCtotal[[Nivel 3]:[Subcuenta]],5,FALSE))","v":""}]
[null,null,null,{"$f":"IF(ISERROR(VLOOKUP(Tabla_Asiento_2[[#This Row],[Cta]],PGCtotal[[Nivel 3]:[Subcuenta]],5,FALSE)),\"\",VLOOKUP(Tabla_Asiento_2[[#This Row],[Cta]],PGCtotal[[Nivel 3]:[Subcuenta]],5,FALSE))","v":""}]
[null,null,null,{"$f":"IF(ISERROR(VLOOKUP(Tabla_Asiento_2[[#This Row],[Cta]],PGCtotal[[Nivel 3]:[Subcuenta]],5,FALSE)),\"\",VLOOKUP(Tabla_Asiento_2[[#This Row],[Cta]],PGCtotal[[Nivel 3]:[Subcuenta]],5,FALSE))","v":""}]
[null,null,null,{"$f":"IF(ISERROR(VLOOKUP(Tabla_Asiento_2[[#This Row],[Cta]],PGCtotal[[Nivel 3]:[Subcuenta]],5,FALSE)),\"\",VLOOKUP(Tabla_Asiento_2[[#This Row],[Cta]],PGCtotal[[Nivel 3]:[Subcuenta]],5,FALSE))","v":""}]
[null,null,null,{"$f":"IF(ISERROR(VLOOKUP(Tabla_Asiento_2[[#This Row],[Cta]],PGCtotal[[Nivel 3]:[Subcuenta]],5,FALSE)),\"\",VLOOKUP(Tabla_Asiento_2[[#This Row],[Cta]],PGCtotal[[Nivel 3]:[Subcuenta]],5,FALSE))","v":""}]
[null,null,null,{"$f":"IF(ISERROR(VLOOKUP(Tabla_Asiento_2[[#This Row],[Cta]],PGCtotal[[Nivel 3]:[Subcuenta]],5,FALSE)),\"\",VLOOKUP(Tabla_Asiento_2[[#This Row],[Cta]],PGCtotal[[Nivel 3]:[Subcuenta]],5,FALSE))","v":""}]
[null,null,null,{"$f":"IF(ISERROR(VLOOKUP(Tabla_Asiento_2[[#This Row],[Cta]],PGCtotal[[Nivel 3]:[Subcuenta]],5,FALSE)),\"\",VLOOKUP(Tabla_Asiento_2[[#This Row],[Cta]],PGCtotal[[Nivel 3]:[Subcuenta]],5,FALSE))","v":""}]
[null,null,null,{"$f":"IF(ISERROR(VLOOKUP(Tabla_Asiento_2[[#This Row],[Cta]],PGCtotal[[Nivel 3]:[Subcuenta]],5,FALSE)),\"\",VLOOKUP(Tabla_Asiento_2[[#This Row],[Cta]],PGCtotal[[Nivel 3]:[Subcuenta]],5,FALSE))","v":""}]
[null,null,null,{"$f":"IF(ISERROR(VLOOKUP(Tabla_Asiento_2[[#This Row],[Cta]],PGCtotal[[Nivel 3]:[Subcuenta]],5,FALSE)),\"\",VLOOKUP(Tabla_Asiento_2[[#This Row],[Cta]],PGCtotal[[Nivel 3]:[Subcuenta]],5,FALSE))","v":""}]
[null,null,null,{"$f":"IF(ISERROR(VLOOKUP(Tabla_Asiento_2[[#This Row],[Cta]],PGCtotal[[Nivel 3]:[Subcuenta]],5,FALSE)),\"\",VLOOKUP(Tabla_Asiento_2[[#This Row],[Cta]],PGCtotal[[Nivel 3]:[Subcuenta]],5,FALSE))","v":""}]
[null,null,null,{"$f":"IF(ISERROR(VLOOKUP(Tabla_Asiento_2[[#This Row],[Cta]],PGCtotal[[Nivel 3]:[Subcuenta]],5,FALSE)),\"\",VLOOKUP(Tabla_Asiento_2[[#This Row],[Cta]],PGCtotal[[Nivel 3]:[Subcuenta]],5,FALSE))","v":""}]
[null,null,null,{"$f":"IF(ISERROR(VLOOKUP(Tabla_Asiento_2[[#This Row],[Cta]],PGCtotal[[Nivel 3]:[Subcuenta]],5,FALSE)),\"\",VLOOKUP(Tabla_Asiento_2[[#This Row],[Cta]],PGCtotal[[Nivel 3]:[Subcuenta]],5,FALSE))","v":""}]
[null,null,null,{"$f":"IF(ISERROR(VLOOKUP(Tabla_Asiento_2[[#This Row],[Cta]],PGCtotal[[Nivel 3]:[Subcuenta]],5,FALSE)),\"\",VLOOKUP(Tabla_Asiento_2[[#This Row],[Cta]],PGCtotal[[Nivel 3]:[Subcuenta]],5,FALSE))","v":""}]
[null,null,null,{"$f":"IF(ISERROR(VLOOKUP(Tabla_Asiento_2[[#This Row],[Cta]],PGCtotal[[Nivel 3]:[Subcuenta]],5,FALSE)),\"\",VLOOKUP(Tabla_Asiento_2[[#This Row],[Cta]],PGCtotal[[Nivel 3]:[Subcuenta]],5,FALSE))","v":""}]
[null,null,null,{"$f":"IF(ISERROR(VLOOKUP(Tabla_Asiento_2[[#This Row],[Cta]],PGCtotal[[Nivel 3]:[Subcuenta]],5,FALSE)),\"\",VLOOKUP(Tabla_Asiento_2[[#This Row],[Cta]],PGCtotal[[Nivel 3]:[Subcuenta]],5,FALSE))","v":""}]
[null,null,null,{"$f":"IF(ISERROR(VLOOKUP(Tabla_Asiento_2[[#This Row],[Cta]],PGCtotal[[Nivel 3]:[Subcuenta]],5,FALSE)),\"\",VLOOKUP(Tabla_Asiento_2[[#This Row],[Cta]],PGCtotal[[Nivel 3]:[Subcuenta]],5,FALSE))","v":""}]
[null,null,null,{"$f":"IF(ISERROR(VLOOKUP(Tabla_Asiento_2[[#This Row],[Cta]],PGCtotal[[Nivel 3]:[Subcuenta]],5,FALSE)),\"\",VLOOKUP(Tabla_Asiento_2[[#This Row],[Cta]],PGCtotal[[Nivel 3]:[Subcuenta]],5,FALSE))","v":""}]
[null,null,null,{"$f":"IF(ISERROR(VLOOKUP(Tabla_Asiento_2[[#This Row],[Cta]],PGCtotal[[Nivel 3]:[Subcuenta]],5,FALSE)),\"\",VLOOKUP(Tabla_Asiento_2[[#This Row],[Cta]],PGCtotal[[Nivel 3]:[Subcuenta]],5,FALSE))","v":""}]
[null,null,null,{"$f":"IF(ISERROR(VLOOKUP(Tabla_Asiento_2[[#This Row],[Cta]],PGCtotal[[Nivel 3]:[Subcuenta]],5,FALSE)),\"\",VLOOKUP(Tabla_Asiento_2[[#This Row],[Cta]],PGCtotal[[Nivel 3]:[Subcuenta]],5,FALSE))","v":""}]
[null,null,null,{"$f":"IF(ISERROR(VLOOKUP(Tabla_Asiento_2[[#This Row],[Cta]],PGCtotal[[Nivel 3]:[Subcuenta]],5,FALSE)),\"\",VLOOKUP(Tabla_Asiento_2[[#This Row],[Cta]],PGCtotal[[Nivel 3]:[Subcuenta]],5,FALSE))","v":""}]
[null,null,null,{"$f":"IF(ISERROR(VLOOKUP(Tabla_Asiento_2[[#This Row],[Cta]],PGCtotal[[Nivel 3]:[Subcuenta]],5,FALSE)),\"\",VLOOKUP(Tabla_Asiento_2[[#This Row],[Cta]],PGCtotal[[Nivel 3]:[Subcuenta]],5,FALSE))","v":""}]
[null,null,null,{"$f":"IF(ISERROR(VLOOKUP(Tabla_Asiento_2[[#This Row],[Cta]],PGCtotal[[Nivel 3]:[Subcuenta]],5,FALSE)),\"\",VLOOKUP(Tabla_Asiento_2[[#This Row],[Cta]],PGCtotal[[Nivel 3]:[Subcuenta]],5,FALSE))","v":""}]
[null,null,null,{"$f":"IF(ISERROR(VLOOKUP(Tabla_Asiento_2[[#This Row],[Cta]],PGCtotal[[Nivel 3]:[Subcuenta]],5,FALSE)),\"\",VLOOKUP(Tabla_Asiento_2[[#This Row],[Cta]],PGCtotal[[Nivel 3]:[Subcuenta]],5,FALSE))","v":""}]
[null,null,null,{"$f":"IF(ISERROR(VLOOKUP(Tabla_Asiento_2[[#This Row],[Cta]],PGCtotal[[Nivel 3]:[Subcuenta]],5,FALSE)),\"\",VLOOKUP(Tabla_Asiento_2[[#This Row],[Cta]],PGCtotal[[Nivel 3]:[Subcuenta]],5,FALSE))","v":""}]
[null,null,null,{"$f":"IF(ISERROR(VLOOKUP(Tabla_Asiento_2[[#This Row],[Cta]],PGCtotal[[Nivel 3]:[Subcuenta]],5,FALSE)),\"\",VLOOKUP(Tabla_Asiento_2[[#This Row],[Cta]],PGCtotal[[Nivel 3]:[Subcuenta]],5,FALSE))","v":""}]
[null,null,null,{"$f":"IF(ISERROR(VLOOKUP(Tabla_Asiento_2[[#This Row],[Cta]],PGCtotal[[Nivel 3]:[Subcuenta]],5,FALSE)),\"\",VLOOKUP(Tabla_Asiento_2[[#This Row],[Cta]],PGCtotal[[Nivel 3]:[Subcuenta]],5,FALSE))","v":""}]
[null,null,null,{"$f":"IF(ISERROR(VLOOKUP(Tabla_Asiento_2[[#This Row],[Cta]],PGCtotal[[Nivel 3]:[Subcuenta]],5,FALSE)),\"\",VLOOKUP(Tabla_Asiento_2[[#This Row],[Cta]],PGCtotal[[Nivel 3]:[Subcuenta]],5,FALSE))","v":""}]
[null,null,null,{"$f":"IF(ISERROR(VLOOKUP(Tabla_Asiento_2[[#This Row],[Cta]],PGCtotal[[Nivel 3]:[Subcuenta]],5,FALSE)),\"\",VLOOKUP(Tabla_Asiento_2[[#This Row],[Cta]],PGCtotal[[Nivel 3]:[Subcuenta]],5,FALSE))","v":""}]
[null,null,null,{"$f":"IF(ISERROR(VLOOKUP(Tabla_Asiento_2[[#This Row],[Cta]],PGCtotal[[Nivel 3]:[Subcuenta]],5,FALSE)),\"\",VLOOKUP(Tabla_Asiento_2[[#This Row],[Cta]],PGCtotal[[Nivel 3]:[Subcuenta]],5,FALSE))","v":""}]
[null,null,null,{"$f":"IF(ISERROR(VLOOKUP(Tabla_Asiento_2[[#This Row],[Cta]],PGCtotal[[Nivel 3]:[Subcuenta]],5,FALSE)),\"\",VLOOKUP(Tabla_Asiento_2[[#This Row],[Cta]],PGCtotal[[Nivel 3]:[Subcuenta]],5,FALSE))","v":""}]
[null,null,null,{"$f":"IF(ISERROR(VLOOKUP(Tabla_Asiento_2[[#This Row],[Cta]],PGCtotal[[Nivel 3]:[Subcuenta]],5,FALSE)),\"\",VLOOKUP(Tabla_Asiento_2[[#This Row],[Cta]],PGCtotal[[Nivel 3]:[Subcuenta]],5,FALSE))","v":""}]
[null,null,null,{"$f":"IF(ISERROR(VLOOKUP(Tabla_Asiento_2[[#This Row],[Cta]],PGCtotal[[Nivel 3]:[Subcuenta]],5,FALSE)),\"\",VLOOKUP(Tabla_Asiento_2[[#This Row],[Cta]],PGCtotal[[Nivel 3]:[Subcuenta]],5,FALSE))","v":""}]
[null,null,null,{"$f":"IF(ISERROR(VLOOKUP(Tabla_Asiento_2[[#This Row],[Cta]],PGCtotal[[Nivel 3]:[Subcuenta]],5,FALSE)),\"\",VLOOKUP(Tabla_Asiento_2[[#This Row],[Cta]],PGCtotal[[Nivel 3]:[Subcuenta]],5,FALSE))","v":""}]
[null,null,null,{"$f":"IF(ISERROR(VLOOKUP(Tabla_Asiento_2[[#This Row],[Cta]],PGCtotal[[Nivel 3]:[Subcuenta]],5,FALSE)),\"\",VLOOKUP(Tabla_Asiento_2[[#This Row],[Cta]],PGCtotal[[Nivel 3]:[Subcuenta]],5,FALSE))","v":""}]
[null,null,null,{"$f":"IF(ISERROR(VLOOKUP(Tabla_Asiento_2[[#This Row],[Cta]],PGCtotal[[Nivel 3]:[Subcuenta]],5,FALSE)),\"\",VLOOKUP(Tabla_Asiento_2[[#This Row],[Cta]],PGCtotal[[Nivel 3]:[Subcuenta]],5,FALSE))","v":""}]
[null,null,null,{"$f":"IF(ISERROR(VLOOKUP(Tabla_Asiento_2[[#This Row],[Cta]],PGCtotal[[Nivel 3]:[Subcuenta]],5,FALSE)),\"\",VLOOKUP(Tabla_Asiento_2[[#This Row],[Cta]],PGCtotal[[Nivel 3]:[Subcuenta]],5,FALSE))","v":""}]
[null,null,null,{"$f":"IF(ISERROR(VLOOKUP(Tabla_Asiento_2[[#This Row],[Cta]],PGCtotal[[Nivel 3]:[Subcuenta]],5,FALSE)),\"\",VLOOKUP(Tabla_Asiento_2[[#This Row],[Cta]],PGCtotal[[Nivel 3]:[Subcuenta]],5,FALSE))","v":""}]
[null,null,null,{"$f":"IF(ISERROR(VLOOKUP(Tabla_Asiento_2[[#This Row],[Cta]],PGCtotal[[Nivel 3]:[Subcuenta]],5,FALSE)),\"\",VLOOKUP(Tabla_Asiento_2[[#This Row],[Cta]],PGCtotal[[Nivel 3]:[Subcuenta]],5,FALSE))","v":""}]
[null,null,null,{"$f":"IF(ISERROR(VLOOKUP(Tabla_Asiento_2[[#This Row],[Cta]],PGCtotal[[Nivel 3]:[Subcuenta]],5,FALSE)),\"\",VLOOKUP(Tabla_Asiento_2[[#This Row],[Cta]],PGCtotal[[Nivel 3]:[Subcuenta]],5,FALSE))","v":""}]
[null,null,null,{"$f":"IF(ISERROR(VLOOKUP(Tabla_Asiento_2[[#This Row],[Cta]],PGCtotal[[Nivel 3]:[Subcuenta]],5,FALSE)),\"\",VLOOKUP(Tabla_Asiento_2[[#This Row],[Cta]],PGCtotal[[Nivel 3]:[Subcuenta]],5,FALSE))","v":""}]
[null,null,null,{"$f":"IF(ISERROR(VLOOKUP(Tabla_Asiento_2[[#This Row],[Cta]],PGCtotal[[Nivel 3]:[Subcuenta]],5,FALSE)),\"\",VLOOKUP(Tabla_Asiento_2[[#This Row],[Cta]],PGCtotal[[Nivel 3]:[Subcuenta]],5,FALSE))","v":""}]
[null,null,null,{"$f":"IF(ISERROR(VLOOKUP(Tabla_Asiento_2[[#This Row],[Cta]],PGCtotal[[Nivel 3]:[Subcuenta]],5,FALSE)),\"\",VLOOKUP(Tabla_Asiento_2[[#This Row],[Cta]],PGCtotal[[Nivel 3]:[Subcuenta]],5,FALSE))","v":""}]
[null,null,null,{"$f":"IF(ISERROR(VLOOKUP(Tabla_Asiento_2[[#This Row],[Cta]],PGCtotal[[Nivel 3]:[Subcuenta]],5,FALSE)),\"\",VLOOKUP(Tabla_Asiento_2[[#This Row],[Cta]],PGCtotal[[Nivel 3]:[Subcuenta]],5,FALSE))","v":""}]
[null,null,null,{"$f":"IF(ISERROR(VLOOKUP(Tabla_Asiento_2[[#This Row],[Cta]],PGCtotal[[Nivel 3]:[Subcuenta]],5,FALSE)),\"\",VLOOKUP(Tabla_Asiento_2[[#This Row],[Cta]],PGCtotal[[Nivel 3]:[Subcuenta]],5,FALSE))","v":""}]
[null,null,null,{"$f":"IF(ISERROR(VLOOKUP(Tabla_Asiento_2[[#This Row],[Cta]],PGCtotal[[Nivel 3]:[Subcuenta]],5,FALSE)),\"\",VLOOKUP(Tabla_Asiento_2[[#This Row],[Cta]],PGCtotal[[Nivel 3]:[Subcuenta]],5,FALSE))","v":""}]
[null,null,null,{"$f":"IF(ISERROR(VLOOKUP(Tabla_Asiento_2[[#This Row],[Cta]],PGCtotal[[Nivel 3]:[Subcuenta]],5,FALSE)),\"\",VLOOKUP(Tabla_Asiento_2[[#This Row],[Cta]],PGCtotal[[Nivel 3]:[Subcuenta]],5,FALSE))","v":""}]
[null,null,null,{"$f":"IF(ISERROR(VLOOKUP(Tabla_Asiento_2[[#This Row],[Cta]],PGCtotal[[Nivel 3]:[Subcuenta]],5,FALSE)),\"\",VLOOKUP(Tabla_Asiento_2[[#This Row],[Cta]],PGCtotal[[Nivel 3]:[Subcuenta]],5,FALSE))","v":""}]
[null,null,null,{"$f":"IF(ISERROR(VLOOKUP(Tabla_Asiento_2[[#This Row],[Cta]],PGCtotal[[Nivel 3]:[Subcuenta]],5,FALSE)),\"\",VLOOKUP(Tabla_Asiento_2[[#This Row],[Cta]],PGCtotal[[Nivel 3]:[Subcuenta]],5,FALSE))","v":""}]
[null,null,null,{"$f":"IF(ISERROR(VLOOKUP(Tabla_Asiento_2[[#This Row],[Cta]],PGCtotal[[Nivel 3]:[Subcuenta]],5,FALSE)),\"\",VLOOKUP(Tabla_Asiento_2[[#This Row],[Cta]],PGCtotal[[Nivel 3]:[Subcuenta]],5,FALSE))","v":""}]
[null,null,null,{"$f":"IF(ISERROR(VLOOKUP(Tabla_Asiento_2[[#This Row],[Cta]],PGCtotal[[Nivel 3]:[Subcuenta]],5,FALSE)),\"\",VLOOKUP(Tabla_Asiento_2[[#This Row],[Cta]],PGCtotal[[Nivel 3]:[Subcuenta]],5,FALSE))","v":""}]
[null,null,null,{"$f":"IF(ISERROR(VLOOKUP(Tabla_Asiento_2[[#This Row],[Cta]],PGCtotal[[Nivel 3]:[Subcuenta]],5,FALSE)),\"\",VLOOKUP(Tabla_Asiento_2[[#This Row],[Cta]],PGCtotal[[Nivel 3]:[Subcuenta]],5,FALSE))","v":""}]
[null,null,null,{"$f":"IF(ISERROR(VLOOKUP(Tabla_Asiento_2[[#This Row],[Cta]],PGCtotal[[Nivel 3]:[Subcuenta]],5,FALSE)),\"\",VLOOKUP(Tabla_Asiento_2[[#This Row],[Cta]],PGCtotal[[Nivel 3]:[Subcuenta]],5,FALSE))","v":""}]
[null,null,null,{"$f":"IF(ISERROR(VLOOKUP(Tabla_Asiento_2[[#This Row],[Cta]],PGCtotal[[Nivel 3]:[Subcuenta]],5,FALSE)),\"\",VLOOKUP(Tabla_Asiento_2[[#This Row],[Cta]],PGCtotal[[Nivel 3]:[Subcuenta]],5,FALSE))","v":""}]
[null,null,null,{"$f":"IF(ISERROR(VLOOKUP(Tabla_Asiento_2[[#This Row],[Cta]],PGCtotal[[Nivel 3]:[Subcuenta]],5,FALSE)),\"\",VLOOKUP(Tabla_Asiento_2[[#This Row],[Cta]],PGCtotal[[Nivel 3]:[Subcuenta]],5,FALSE))","v":""}]
[null,null,null,{"$f":"IF(ISERROR(VLOOKUP(Tabla_Asiento_2[[#This Row],[Cta]],PGCtotal[[Nivel 3]:[Subcuenta]],5,FALSE)),\"\",VLOOKUP(Tabla_Asiento_2[[#This Row],[Cta]],PGCtotal[[Nivel 3]:[Subcuenta]],5,FALSE))","v":""}]
[null,null,null,{"$f":"IF(ISERROR(VLOOKUP(Tabla_Asiento_2[[#This Row],[Cta]],PGCtotal[[Nivel 3]:[Subcuenta]],5,FALSE)),\"\",VLOOKUP(Tabla_Asiento_2[[#This Row],[Cta]],PGCtotal[[Nivel 3]:[Subcuenta]],5,FALSE))","v":""}]
[null,null,null,{"$f":"IF(ISERROR(VLOOKUP(Tabla_Asiento_2[[#This Row],[Cta]],PGCtotal[[Nivel 3]:[Subcuenta]],5,FALSE)),\"\",VLOOKUP(Tabla_Asiento_2[[#This Row],[Cta]],PGCtotal[[Nivel 3]:[Subcuenta]],5,FALSE))","v":""}]
[null,null,null,{"$f":"IF(ISERROR(VLOOKUP(Tabla_Asiento_2[[#This Row],[Cta]],PGCtotal[[Nivel 3]:[Subcuenta]],5,FALSE)),\"\",VLOOKUP(Tabla_Asiento_2[[#This Row],[Cta]],PGCtotal[[Nivel 3]:[Subcuenta]],5,FALSE))","v":""}]
[null,null,null,{"$f":"IF(ISERROR(VLOOKUP(Tabla_Asiento_2[[#This Row],[Cta]],PGCtotal[[Nivel 3]:[Subcuenta]],5,FALSE)),\"\",VLOOKUP(Tabla_Asiento_2[[#This Row],[Cta]],PGCtotal[[Nivel 3]:[Subcuenta]],5,FALSE))","v":""}]
[null,null,null,{"$f":"IF(ISERROR(VLOOKUP(Tabla_Asiento_2[[#This Row],[Cta]],PGCtotal[[Nivel 3]:[Subcuenta]],5,FALSE)),\"\",VLOOKUP(Tabla_Asiento_2[[#This Row],[Cta]],PGCtotal[[Nivel 3]:[Subcuenta]],5,FALSE))","v":""}]
[null,null,null,{"$f":"IF(ISERROR(VLOOKUP(Tabla_Asiento_2[[#This Row],[Cta]],PGCtotal[[Nivel 3]:[Subcuenta]],5,FALSE)),\"\",VLOOKUP(Tabla_Asiento_2[[#This Row],[Cta]],PGCtotal[[Nivel 3]:[Subcuenta]],5,FALSE))","v":""}]
[null,null,null,{"$f":"IF(ISERROR(VLOOKUP(Tabla_Asiento_2[[#This Row],[Cta]],PGCtotal[[Nivel 3]:[Subcuenta]],5,FALSE)),\"\",VLOOKUP(Tabla_Asiento_2[[#This Row],[Cta]],PGCtotal[[Nivel 3]:[Subcuenta]],5,FALSE))","v":""}]
[null,null,null,{"$f":"IF(ISERROR(VLOOKUP(Tabla_Asiento_2[[#This Row],[Cta]],PGCtotal[[Nivel 3]:[Subcuenta]],5,FALSE)),\"\",VLOOKUP(Tabla_Asiento_2[[#This Row],[Cta]],PGCtotal[[Nivel 3]:[Subcuenta]],5,FALSE))","v":""}]
[null,null,null,{"$f":"IF(ISERROR(VLOOKUP(Tabla_Asiento_2[[#This Row],[Cta]],PGCtotal[[Nivel 3]:[Subcuenta]],5,FALSE)),\"\",VLOOKUP(Tabla_Asiento_2[[#This Row],[Cta]],PGCtotal[[Nivel 3]:[Subcuenta]],5,FALSE))","v":""}]
[null,null,null,{"$f":"IF(ISERROR(VLOOKUP(Tabla_Asiento_2[[#This Row],[Cta]],PGCtotal[[Nivel 3]:[Subcuenta]],5,FALSE)),\"\",VLOOKUP(Tabla_Asiento_2[[#This Row],[Cta]],PGCtotal[[Nivel 3]:[Subcuenta]],5,FALSE))","v":""}]
[null,null,null,{"$f":"IF(ISERROR(VLOOKUP(Tabla_Asiento_2[[#This Row],[Cta]],PGCtotal[[Nivel 3]:[Subcuenta]],5,FALSE)),\"\",VLOOKUP(Tabla_Asiento_2[[#This Row],[Cta]],PGCtotal[[Nivel 3]:[Subcuenta]],5,FALSE))","v":""}]
[null,null,null,{"$f":"IF(ISERROR(VLOOKUP(Tabla_Asiento_2[[#This Row],[Cta]],PGCtotal[[Nivel 3]:[Subcuenta]],5,FALSE)),\"\",VLOOKUP(Tabla_Asiento_2[[#This Row],[Cta]],PGCtotal[[Nivel 3]:[Subcuenta]],5,FALSE))","v":""}]
[null,null,null,{"$f":"IF(ISERROR(VLOOKUP(Tabla_Asiento_2[[#This Row],[Cta]],PGCtotal[[Nivel 3]:[Subcuenta]],5,FALSE)),\"\",VLOOKUP(Tabla_Asiento_2[[#This Row],[Cta]],PGCtotal[[Nivel 3]:[Subcuenta]],5,FALSE))","v":""}]
[null,null,null,{"$f":"IF(ISERROR(VLOOKUP(Tabla_Asiento_2[[#This Row],[Cta]],PGCtotal[[Nivel 3]:[Subcuenta]],5,FALSE)),\"\",VLOOKUP(Tabla_Asiento_2[[#This Row],[Cta]],PGCtotal[[Nivel 3]:[Subcuenta]],5,FALSE))","v":""}]
[null,null,null,{"$f":"IF(ISERROR(VLOOKUP(Tabla_Asiento_2[[#This Row],[Cta]],PGCtotal[[Nivel 3]:[Subcuenta]],5,FALSE)),\"\",VLOOKUP(Tabla_Asiento_2[[#This Row],[Cta]],PGCtotal[[Nivel 3]:[Subcuenta]],5,FALSE))","v":""}]
[null,null,null,{"$f":"IF(ISERROR(VLOOKUP(Tabla_Asiento_2[[#This Row],[Cta]],PGCtotal[[Nivel 3]:[Subcuenta]],5,FALSE)),\"\",VLOOKUP(Tabla_Asiento_2[[#This Row],[Cta]],PGCtotal[[Nivel 3]:[Subcuenta]],5,FALSE))","v":""}]
[null,null,null,{"$f":"IF(ISERROR(VLOOKUP(Tabla_Asiento_2[[#This Row],[Cta]],PGCtotal[[Nivel 3]:[Subcuenta]],5,FALSE)),\"\",VLOOKUP(Tabla_Asiento_2[[#This Row],[Cta]],PGCtotal[[Nivel 3]:[Subcuenta]],5,FALSE))","v":""}]
[null,null,null,{"$f":"IF(ISERROR(VLOOKUP(Tabla_Asiento_2[[#This Row],[Cta]],PGCtotal[[Nivel 3]:[Subcuenta]],5,FALSE)),\"\",VLOOKUP(Tabla_Asiento_2[[#This Row],[Cta]],PGCtotal[[Nivel 3]:[Subcuenta]],5,FALSE))","v":""}]
[null,null,null,{"$f":"IF(ISERROR(VLOOKUP(Tabla_Asiento_2[[#This Row],[Cta]],PGCtotal[[Nivel 3]:[Subcuenta]],5,FALSE)),\"\",VLOOKUP(Tabla_Asiento_2[[#This Row],[Cta]],PGCtotal[[Nivel 3]:[Subcuenta]],5,FALSE))","v":""}]
[null,null,null,{"$f":"IF(ISERROR(VLOOKUP(Tabla_Asiento_2[[#This Row],[Cta]],PGCtotal[[Nivel 3]:[Subcuenta]],5,FALSE)),\"\",VLOOKUP(Tabla_Asiento_2[[#This Row],[Cta]],PGCtotal[[Nivel 3]:[Subcuenta]],5,FALSE))","v":""}]
[null,null,null,{"$f":"IF(ISERROR(VLOOKUP(Tabla_Asiento_2[[#This Row],[Cta]],PGCtotal[[Nivel 3]:[Subcuenta]],5,FALSE)),\"\",VLOOKUP(Tabla_Asiento_2[[#This Row],[Cta]],PGCtotal[[Nivel 3]:[Subcuenta]],5,FALSE))","v":""}]
[null,null,null,{"$f":"IF(ISERROR(VLOOKUP(Tabla_Asiento_2[[#This Row],[Cta]],PGCtotal[[Nivel 3]:[Subcuenta]],5,FALSE)),\"\",VLOOKUP(Tabla_Asiento_2[[#This Row],[Cta]],PGCtotal[[Nivel 3]:[Subcuenta]],5,FALSE))","v":""}]
[null,null,null,{"$f":"IF(ISERROR(VLOOKUP(Tabla_Asiento_2[[#This Row],[Cta]],PGCtotal[[Nivel 3]:[Subcuenta]],5,FALSE)),\"\",VLOOKUP(Tabla_Asiento_2[[#This Row],[Cta]],PGCtotal[[Nivel 3]:[Subcuenta]],5,FALSE))","v":""}]
[null,null,null,{"$f":"IF(ISERROR(VLOOKUP(Tabla_Asiento_2[[#This Row],[Cta]],PGCtotal[[Nivel 3]:[Subcuenta]],5,FALSE)),\"\",VLOOKUP(Tabla_Asiento_2[[#This Row],[Cta]],PGCtotal[[Nivel 3]:[Subcuenta]],5,FALSE))","v":""}]
[null,null,null,{"$f":"IF(ISERROR(VLOOKUP(Tabla_Asiento_2[[#This Row],[Cta]],PGCtotal[[Nivel 3]:[Subcuenta]],5,FALSE)),\"\",VLOOKUP(Tabla_Asiento_2[[#This Row],[Cta]],PGCtotal[[Nivel 3]:[Subcuenta]],5,FALSE))","v":""}]
[null,null,null,{"$f":"IF(ISERROR(VLOOKUP(Tabla_Asiento_2[[#This Row],[Cta]],PGCtotal[[Nivel 3]:[Subcuenta]],5,FALSE)),\"\",VLOOKUP(Tabla_Asiento_2[[#This Row],[Cta]],PGCtotal[[Nivel 3]:[Subcuenta]],5,FALSE))","v":""}]
[null,null,null,{"$f":"IF(ISERROR(VLOOKUP(Tabla_Asiento_2[[#This Row],[Cta]],PGCtotal[[Nivel 3]:[Subcuenta]],5,FALSE)),\"\",VLOOKUP(Tabla_Asiento_2[[#This Row],[Cta]],PGCtotal[[Nivel 3]:[Subcuenta]],5,FALSE))","v":""}]
[null,null,null,{"$f":"IF(ISERROR(VLOOKUP(Tabla_Asiento_2[[#This Row],[Cta]],PGCtotal[[Nivel 3]:[Subcuenta]],5,FALSE)),\"\",VLOOKUP(Tabla_Asiento_2[[#This Row],[Cta]],PGCtotal[[Nivel 3]:[Subcuenta]],5,FALSE))","v":""}]
[null,null,null,{"$f":"IF(ISERROR(VLOOKUP(Tabla_Asiento_2[[#This Row],[Cta]],PGCtotal[[Nivel 3]:[Subcuenta]],5,FALSE)),\"\",VLOOKUP(Tabla_Asiento_2[[#This Row],[Cta]],PGCtotal[[Nivel 3]:[Subcuenta]],5,FALSE))","v":""}]
[null,null,null,{"$f":"IF(ISERROR(VLOOKUP(Tabla_Asiento_2[[#This Row],[Cta]],PGCtotal[[Nivel 3]:[Subcuenta]],5,FALSE)),\"\",VLOOKUP(Tabla_Asiento_2[[#This Row],[Cta]],PGCtotal[[Nivel 3]:[Subcuenta]],5,FALSE))","v":""}]
[null,null,null,{"$f":"IF(ISERROR(VLOOKUP(Tabla_Asiento_2[[#This Row],[Cta]],PGCtotal[[Nivel 3]:[Subcuenta]],5,FALSE)),\"\",VLOOKUP(Tabla_Asiento_2[[#This Row],[Cta]],PGCtotal[[Nivel 3]:[Subcuenta]],5,FALSE))","v":""}]
[null,null,null,{"$f":"IF(ISERROR(VLOOKUP(Tabla_Asiento_2[[#This Row],[Cta]],PGCtotal[[Nivel 3]:[Subcuenta]],5,FALSE)),\"\",VLOOKUP(Tabla_Asiento_2[[#This Row],[Cta]],PGCtotal[[Nivel 3]:[Subcuenta]],5,FALSE))","v":""}]
[null,null,null,{"$f":"IF(ISERROR(VLOOKUP(Tabla_Asiento_2[[#This Row],[Cta]],PGCtotal[[Nivel 3]:[Subcuenta]],5,FALSE)),\"\",VLOOKUP(Tabla_Asiento_2[[#This Row],[Cta]],PGCtotal[[Nivel 3]:[Subcuenta]],5,FALSE))","v":""}]
[null,null,null,{"$f":"IF(ISERROR(VLOOKUP(Tabla_Asiento_2[[#This Row],[Cta]],PGCtotal[[Nivel 3]:[Subcuenta]],5,FALSE)),\"\",VLOOKUP(Tabla_Asiento_2[[#This Row],[Cta]],PGCtotal[[Nivel 3]:[Subcuenta]],5,FALSE))","v":""}]
[null,null,null,{"$f":"IF(ISERROR(VLOOKUP(Tabla_Asiento_2[[#This Row],[Cta]],PGCtotal[[Nivel 3]:[Subcuenta]],5,FALSE)),\"\",VLOOKUP(Tabla_Asiento_2[[#This Row],[Cta]],PGCtotal[[Nivel 3]:[Subcuenta]],5,FALSE))","v":""}]
[null,null,null,{"$f":"IF(ISERROR(VLOOKUP(Tabla_Asiento_2[[#This Row],[Cta]],PGCtotal[[Nivel 3]:[Subcuenta]],5,FALSE)),\"\",VLOOKUP(Tabla_Asiento_2[[#This Row],[Cta]],PGCtotal[[Nivel 3]:[Subcuenta]],5,FALSE))","v":""}]
[null,null,null,{"$f":"IF(ISERROR(VLOOKUP(Tabla_Asiento_2[[#This Row],[Cta]],PGCtotal[[Nivel 3]:[Subcuenta]],5,FALSE)),\"\",VLOOKUP(Tabla_Asiento_2[[#This Row],[Cta]],PGCtotal[[Nivel 3]:[Subcuenta]],5,FALSE))","v":""}]
[null,null,null,{"$f":"IF(ISERROR(VLOOKUP(Tabla_Asiento_2[[#This Row],[Cta]],PGCtotal[[Nivel 3]:[Subcuenta]],5,FALSE)),\"\",VLOOKUP(Tabla_Asiento_2[[#This Row],[Cta]],PGCtotal[[Nivel 3]:[Subcuenta]],5,FALSE))","v":""}]
[null,null,null,{"$f":"IF(ISERROR(VLOOKUP(Tabla_Asiento_2[[#This Row],[Cta]],PGCtotal[[Nivel 3]:[Subcuenta]],5,FALSE)),\"\",VLOOKUP(Tabla_Asiento_2[[#This Row],[Cta]],PGCtotal[[Nivel 3]:[Subcuenta]],5,FALSE))","v":""}]
[null,null,null,{"$f":"IF(ISERROR(VLOOKUP(Tabla_Asiento_2[[#This Row],[Cta]],PGCtotal[[Nivel 3]:[Subcuenta]],5,FALSE)),\"\",VLOOKUP(Tabla_Asiento_2[[#This Row],[Cta]],PGCtotal[[Nivel 3]:[Subcuenta]],5,FALSE))","v":""}]
[null,null,null,{"$f":"IF(ISERROR(VLOOKUP(Tabla_Asiento_2[[#This Row],[Cta]],PGCtotal[[Nivel 3]:[Subcuenta]],5,FALSE)),\"\",VLOOKUP(Tabla_Asiento_2[[#This Row],[Cta]],PGCtotal[[Nivel 3]:[Subcuenta]],5,FALSE))","v":""}]
[null,null,null,{"$f":"IF(ISERROR(VLOOKUP(Tabla_Asiento_2[[#This Row],[Cta]],PGCtotal[[Nivel 3]:[Subcuenta]],5,FALSE)),\"\",VLOOKUP(Tabla_Asiento_2[[#This Row],[Cta]],PGCtotal[[Nivel 3]:[Subcuenta]],5,FALSE))","v":""}]
[null,null,null,{"$f":"IF(ISERROR(VLOOKUP(Tabla_Asiento_2[[#This Row],[Cta]],PGCtotal[[Nivel 3]:[Subcuenta]],5,FALSE)),\"\",VLOOKUP(Tabla_Asiento_2[[#This Row],[Cta]],PGCtotal[[Nivel 3]:[Subcuenta]],5,FALSE))","v":""}]
[null,null,null,{"$f":"IF(ISERROR(VLOOKUP(Tabla_Asiento_2[[#This Row],[Cta]],PGCtotal[[Nivel 3]:[Subcuenta]],5,FALSE)),\"\",VLOOKUP(Tabla_Asiento_2[[#This Row],[Cta]],PGCtotal[[Nivel 3]:[Subcuenta]],5,FALSE))","v":""}]
[null,null,null,{"$f":"IF(ISERROR(VLOOKUP(Tabla_Asiento_2[[#This Row],[Cta]],PGCtotal[[Nivel 3]:[Subcuenta]],5,FALSE)),\"\",VLOOKUP(Tabla_Asiento_2[[#This Row],[Cta]],PGCtotal[[Nivel 3]:[Subcuenta]],5,FALSE))","v":""}]
[null,null,null,{"$f":"IF(ISERROR(VLOOKUP(Tabla_Asiento_2[[#This Row],[Cta]],PGCtotal[[Nivel 3]:[Subcuenta]],5,FALSE)),\"\",VLOOKUP(Tabla_Asiento_2[[#This Row],[Cta]],PGCtotal[[Nivel 3]:[Subcuenta]],5,FALSE))","v":""}]
[null,null,null,{"$f":"IF(ISERROR(VLOOKUP(Tabla_Asiento_2[[#This Row],[Cta]],PGCtotal[[Nivel 3]:[Subcuenta]],5,FALSE)),\"\",VLOOKUP(Tabla_Asiento_2[[#This Row],[Cta]],PGCtotal[[Nivel 3]:[Subcuenta]],5,FALSE))","v":""}]
[null,null,null,{"$f":"IF(ISERROR(VLOOKUP(Tabla_Asiento_2[[#This Row],[Cta]],PGCtotal[[Nivel 3]:[Subcuenta]],5,FALSE)),\"\",VLOOKUP(Tabla_Asiento_2[[#This Row],[Cta]],PGCtotal[[Nivel 3]:[Subcuenta]],5,FALSE))","v":""}]
[null,null,null,{"$f":"IF(ISERROR(VLOOKUP(Tabla_Asiento_2[[#This Row],[Cta]],PGCtotal[[Nivel 3]:[Subcuenta]],5,FALSE)),\"\",VLOOKUP(Tabla_Asiento_2[[#This Row],[Cta]],PGCtotal[[Nivel 3]:[Subcuenta]],5,FALSE))","v":""}]
[null,null,null,{"$f":"IF(ISERROR(VLOOKUP(Tabla_Asiento_2[[#This Row],[Cta]],PGCtotal[[Nivel 3]:[Subcuenta]],5,FALSE)),\"\",VLOOKUP(Tabla_Asiento_2[[#This Row],[Cta]],PGCtotal[[Nivel 3]:[Subcuenta]],5,FALSE))","v":""}]
[null,null,null,{"$f":"IF(ISERROR(VLOOKUP(Tabla_Asiento_2[[#This Row],[Cta]],PGCtotal[[Nivel 3]:[Subcuenta]],5,FALSE)),\"\",VLOOKUP(Tabla_Asiento_2[[#This Row],[Cta]],PGCtotal[[Nivel 3]:[Subcuenta]],5,FALSE))","v":""}]
[null,null,null,{"$f":"IF(ISERROR(VLOOKUP(Tabla_Asiento_2[[#This Row],[Cta]],PGCtotal[[Nivel 3]:[Subcuenta]],5,FALSE)),\"\",VLOOKUP(Tabla_Asiento_2[[#This Row],[Cta]],PGCtotal[[Nivel 3]:[Subcuenta]],5,FALSE))","v":""}]
[null,null,null,{"$f":"IF(ISERROR(VLOOKUP(Tabla_Asiento_2[[#This Row],[Cta]],PGCtotal[[Nivel 3]:[Subcuenta]],5,FALSE)),\"\",VLOOKUP(Tabla_Asiento_2[[#This Row],[Cta]],PGCtotal[[Nivel 3]:[Subcuenta]],5,FALSE))","v":""}]
[null,null,null,{"$f":"IF(ISERROR(VLOOKUP(Tabla_Asiento_2[[#This Row],[Cta]],PGCtotal[[Nivel 3]:[Subcuenta]],5,FALSE)),\"\",VLOOKUP(Tabla_Asiento_2[[#This Row],[Cta]],PGCtotal[[Nivel 3]:[Subcuenta]],5,FALSE))","v":""}]
[null,null,null,{"$f":"IF(ISERROR(VLOOKUP(Tabla_Asiento_2[[#This Row],[Cta]],PGCtotal[[Nivel 3]:[Subcuenta]],5,FALSE)),\"\",VLOOKUP(Tabla_Asiento_2[[#This Row],[Cta]],PGCtotal[[Nivel 3]:[Subcuenta]],5,FALSE))","v":""}]
[null,null,null,{"$f":"IF(ISERROR(VLOOKUP(Tabla_Asiento_2[[#This Row],[Cta]],PGCtotal[[Nivel 3]:[Subcuenta]],5,FALSE)),\"\",VLOOKUP(Tabla_Asiento_2[[#This Row],[Cta]],PGCtotal[[Nivel 3]:[Subcuenta]],5,FALSE))","v":""}]
[null,null,null,{"$f":"IF(ISERROR(VLOOKUP(Tabla_Asiento_2[[#This Row],[Cta]],PGCtotal[[Nivel 3]:[Subcuenta]],5,FALSE)),\"\",VLOOKUP(Tabla_Asiento_2[[#This Row],[Cta]],PGCtotal[[Nivel 3]:[Subcuenta]],5,FALSE))","v":""}]
[null,null,null,{"$f":"IF(ISERROR(VLOOKUP(Tabla_Asiento_2[[#This Row],[Cta]],PGCtotal[[Nivel 3]:[Subcuenta]],5,FALSE)),\"\",VLOOKUP(Tabla_Asiento_2[[#This Row],[Cta]],PGCtotal[[Nivel 3]:[Subcuenta]],5,FALSE))","v":""}]
[null,null,null,{"$f":"IF(ISERROR(VLOOKUP(Tabla_Asiento_2[[#This Row],[Cta]],PGCtotal[[Nivel 3]:[Subcuenta]],5,FALSE)),\"\",VLOOKUP(Tabla_Asiento_2[[#This Row],[Cta]],PGCtotal[[Nivel 3]:[Subcuenta]],5,FALSE))","v":""}]
[null,null,null,{"$f":"IF(ISERROR(VLOOKUP(Tabla_Asiento_2[[#This Row],[Cta]],PGCtotal[[Nivel 3]:[Subcuenta]],5,FALSE)),\"\",VLOOKUP(Tabla_Asiento_2[[#This Row],[Cta]],PGCtotal[[Nivel 3]:[Subcuenta]],5,FALSE))","v":""}]
[null,null,null,{"$f":"IF(ISERROR(VLOOKUP(Tabla_Asiento_2[[#This Row],[Cta]],PGCtotal[[Nivel 3]:[Subcuenta]],5,FALSE)),\"\",VLOOKUP(Tabla_Asiento_2[[#This Row],[Cta]],PGCtotal[[Nivel 3]:[Subcuenta]],5,FALSE))","v":""}]
[null,null,null,{"$f":"IF(ISERROR(VLOOKUP(Tabla_Asiento_2[[#This Row],[Cta]],PGCtotal[[Nivel 3]:[Subcuenta]],5,FALSE)),\"\",VLOOKUP(Tabla_Asiento_2[[#This Row],[Cta]],PGCtotal[[Nivel 3]:[Subcuenta]],5,FALSE))","v":""}]
[null,null,null,{"$f":"IF(ISERROR(VLOOKUP(Tabla_Asiento_2[[#This Row],[Cta]],PGCtotal[[Nivel 3]:[Subcuenta]],5,FALSE)),\"\",VLOOKUP(Tabla_Asiento_2[[#This Row],[Cta]],PGCtotal[[Nivel 3]:[Subcuenta]],5,FALSE))","v":""}]
[null,null,null,{"$f":"IF(ISERROR(VLOOKUP(Tabla_Asiento_2[[#This Row],[Cta]],PGCtotal[[Nivel 3]:[Subcuenta]],5,FALSE)),\"\",VLOOKUP(Tabla_Asiento_2[[#This Row],[Cta]],PGCtotal[[Nivel 3]:[Subcuenta]],5,FALSE))","v":""}]
[null,null,null,{"$f":"IF(ISERROR(VLOOKUP(Tabla_Asiento_2[[#This Row],[Cta]],PGCtotal[[Nivel 3]:[Subcuenta]],5,FALSE)),\"\",VLOOKUP(Tabla_Asiento_2[[#This Row],[Cta]],PGCtotal[[Nivel 3]:[Subcuenta]],5,FALSE))","v":""}]
[null,null,null,{"$f":"IF(ISERROR(VLOOKUP(Tabla_Asiento_2[[#This Row],[Cta]],PGCtotal[[Nivel 3]:[Subcuenta]],5,FALSE)),\"\",VLOOKUP(Tabla_Asiento_2[[#This Row],[Cta]],PGCtotal[[Nivel 3]:[Subcuenta]],5,FALSE))","v":""}]
[null,null,null,{"$f":"IF(ISERROR(VLOOKUP(Tabla_Asiento_2[[#This Row],[Cta]],PGCtotal[[Nivel 3]:[Subcuenta]],5,FALSE)),\"\",VLOOKUP(Tabla_Asiento_2[[#This Row],[Cta]],PGCtotal[[Nivel 3]:[Subcuenta]],5,FALSE))","v":""}]
[null,null,null,{"$f":"IF(ISERROR(VLOOKUP(Tabla_Asiento_2[[#This Row],[Cta]],PGCtotal[[Nivel 3]:[Subcuenta]],5,FALSE)),\"\",VLOOKUP(Tabla_Asiento_2[[#This Row],[Cta]],PGCtotal[[Nivel 3]:[Subcuenta]],5,FALSE))","v":""}]
[null,null,null,{"$f":"IF(ISERROR(VLOOKUP(Tabla_Asiento_2[[#This Row],[Cta]],PGCtotal[[Nivel 3]:[Subcuenta]],5,FALSE)),\"\",VLOOKUP(Tabla_Asiento_2[[#This Row],[Cta]],PGCtotal[[Nivel 3]:[Subcuenta]],5,FALSE))","v":""}]
[null,null,null,{"$f":"IF(ISERROR(VLOOKUP(Tabla_Asiento_2[[#This Row],[Cta]],PGCtotal[[Nivel 3]:[Subcuenta]],5,FALSE)),\"\",VLOOKUP(Tabla_Asiento_2[[#This Row],[Cta]],PGCtotal[[Nivel 3]:[Subcuenta]],5,FALSE))","v":""}]
[null,null,null,{"$f":"IF(ISERROR(VLOOKUP(Tabla_Asiento_2[[#This Row],[Cta]],PGCtotal[[Nivel 3]:[Subcuenta]],5,FALSE)),\"\",VLOOKUP(Tabla_Asiento_2[[#This Row],[Cta]],PGCtotal[[Nivel 3]:[Subcuenta]],5,FALSE))","v":""}]
[null,null,null,{"$f":"IF(ISERROR(VLOOKUP(Tabla_Asiento_2[[#This Row],[Cta]],PGCtotal[[Nivel 3]:[Subcuenta]],5,FALSE)),\"\",VLOOKUP(Tabla_Asiento_2[[#This Row],[Cta]],PGCtotal[[Nivel 3]:[Subcuenta]],5,FALSE))","v":""}]
[null,null,null,{"$f":"IF(ISERROR(VLOOKUP(Tabla_Asiento_2[[#This Row],[Cta]],PGCtotal[[Nivel 3]:[Subcuenta]],5,FALSE)),\"\",VLOOKUP(Tabla_Asiento_2[[#This Row],[Cta]],PGCtotal[[Nivel 3]:[Subcuenta]],5,FALSE))","v":""}]
[null,null,null,{"$f":"IF(ISERROR(VLOOKUP(Tabla_Asiento_2[[#This Row],[Cta]],PGCtotal[[Nivel 3]:[Subcuenta]],5,FALSE)),\"\",VLOOKUP(Tabla_Asiento_2[[#This Row],[Cta]],PGCtotal[[Nivel 3]:[Subcuenta]],5,FALSE))","v":""}]
[null,null,null,{"$f":"IF(ISERROR(VLOOKUP(Tabla_Asiento_2[[#This Row],[Cta]],PGCtotal[[Nivel 3]:[Subcuenta]],5,FALSE)),\"\",VLOOKUP(Tabla_Asiento_2[[#This Row],[Cta]],PGCtotal[[Nivel 3]:[Subcuenta]],5,FALSE))","v":""}]
[null,null,null,{"$f":"IF(ISERROR(VLOOKUP(Tabla_Asiento_2[[#This Row],[Cta]],PGCtotal[[Nivel 3]:[Subcuenta]],5,FALSE)),\"\",VLOOKUP(Tabla_Asiento_2[[#This Row],[Cta]],PGCtotal[[Nivel 3]:[Subcuenta]],5,FALSE))","v":""}]
[null,null,null,{"$f":"IF(ISERROR(VLOOKUP(Tabla_Asiento_2[[#This Row],[Cta]],PGCtotal[[Nivel 3]:[Subcuenta]],5,FALSE)),\"\",VLOOKUP(Tabla_Asiento_2[[#This Row],[Cta]],PGCtotal[[Nivel 3]:[Subcuenta]],5,FALSE))","v":""}]
[null,null,null,{"$f":"IF(ISERROR(VLOOKUP(Tabla_Asiento_2[[#This Row],[Cta]],PGCtotal[[Nivel 3]:[Subcuenta]],5,FALSE)),\"\",VLOOKUP(Tabla_Asiento_2[[#This Row],[Cta]],PGCtotal[[Nivel 3]:[Subcuenta]],5,FALSE))","v":""}]
[null,null,null,{"$f":"IF(ISERROR(VLOOKUP(Tabla_Asiento_2[[#This Row],[Cta]],PGCtotal[[Nivel 3]:[Subcuenta]],5,FALSE)),\"\",VLOOKUP(Tabla_Asiento_2[[#This Row],[Cta]],PGCtotal[[Nivel 3]:[Subcuenta]],5,FALSE))","v":""}]
[null,null,null,{"$f":"IF(ISERROR(VLOOKUP(Tabla_Asiento_2[[#This Row],[Cta]],PGCtotal[[Nivel 3]:[Subcuenta]],5,FALSE)),\"\",VLOOKUP(Tabla_Asiento_2[[#This Row],[Cta]],PGCtotal[[Nivel 3]:[Subcuenta]],5,FALSE))","v":""}]
[null,null,null,{"$f":"IF(ISERROR(VLOOKUP(Tabla_Asiento_2[[#This Row],[Cta]],PGCtotal[[Nivel 3]:[Subcuenta]],5,FALSE)),\"\",VLOOKUP(Tabla_Asiento_2[[#This Row],[Cta]],PGCtotal[[Nivel 3]:[Subcuenta]],5,FALSE))","v":""}]
[null,null,null,{"$f":"IF(ISERROR(VLOOKUP(Tabla_Asiento_2[[#This Row],[Cta]],PGCtotal[[Nivel 3]:[Subcuenta]],5,FALSE)),\"\",VLOOKUP(Tabla_Asiento_2[[#This Row],[Cta]],PGCtotal[[Nivel 3]:[Subcuenta]],5,FALSE))","v":""}]
[null,null,null,{"$f":"IF(ISERROR(VLOOKUP(Tabla_Asiento_2[[#This Row],[Cta]],PGCtotal[[Nivel 3]:[Subcuenta]],5,FALSE)),\"\",VLOOKUP(Tabla_Asiento_2[[#This Row],[Cta]],PGCtotal[[Nivel 3]:[Subcuenta]],5,FALSE))","v":""}]
[null,null,null,{"$f":"IF(ISERROR(VLOOKUP(Tabla_Asiento_2[[#This Row],[Cta]],PGCtotal[[Nivel 3]:[Subcuenta]],5,FALSE)),\"\",VLOOKUP(Tabla_Asiento_2[[#This Row],[Cta]],PGCtotal[[Nivel 3]:[Subcuenta]],5,FALSE))","v":""}]
[null,null,null,{"$f":"IF(ISERROR(VLOOKUP(Tabla_Asiento_2[[#This Row],[Cta]],PGCtotal[[Nivel 3]:[Subcuenta]],5,FALSE)),\"\",VLOOKUP(Tabla_Asiento_2[[#This Row],[Cta]],PGCtotal[[Nivel 3]:[Subcuenta]],5,FALSE))","v":""}]
[null,null,null,{"$f":"IF(ISERROR(VLOOKUP(Tabla_Asiento_2[[#This Row],[Cta]],PGCtotal[[Nivel 3]:[Subcuenta]],5,FALSE)),\"\",VLOOKUP(Tabla_Asiento_2[[#This Row],[Cta]],PGCtotal[[Nivel 3]:[Subcuenta]],5,FALSE))","v":""}]
[null,null,null,{"$f":"IF(ISERROR(VLOOKUP(Tabla_Asiento_2[[#This Row],[Cta]],PGCtotal[[Nivel 3]:[Subcuenta]],5,FALSE)),\"\",VLOOKUP(Tabla_Asiento_2[[#This Row],[Cta]],PGCtotal[[Nivel 3]:[Subcuenta]],5,FALSE))","v":""}]
[null,null,null,{"$f":"IF(ISERROR(VLOOKUP(Tabla_Asiento_2[[#This Row],[Cta]],PGCtotal[[Nivel 3]:[Subcuenta]],5,FALSE)),\"\",VLOOKUP(Tabla_Asiento_2[[#This Row],[Cta]],PGCtotal[[Nivel 3]:[Subcuenta]],5,FALSE))","v":""}]
[null,null,null,{"$f":"IF(ISERROR(VLOOKUP(Tabla_Asiento_2[[#This Row],[Cta]],PGCtotal[[Nivel 3]:[Subcuenta]],5,FALSE)),\"\",VLOOKUP(Tabla_Asiento_2[[#This Row],[Cta]],PGCtotal[[Nivel 3]:[Subcuenta]],5,FALSE))","v":""}]
[null,null,null,{"$f":"IF(ISERROR(VLOOKUP(Tabla_Asiento_2[[#This Row],[Cta]],PGCtotal[[Nivel 3]:[Subcuenta]],5,FALSE)),\"\",VLOOKUP(Tabla_Asiento_2[[#This Row],[Cta]],PGCtotal[[Nivel 3]:[Subcuenta]],5,FALSE))","v":""}]
[null,null,null,{"$f":"IF(ISERROR(VLOOKUP(Tabla_Asiento_2[[#This Row],[Cta]],PGCtotal[[Nivel 3]:[Subcuenta]],5,FALSE)),\"\",VLOOKUP(Tabla_Asiento_2[[#This Row],[Cta]],PGCtotal[[Nivel 3]:[Subcuenta]],5,FALSE))","v":""}]
[null,null,null,{"$f":"IF(ISERROR(VLOOKUP(Tabla_Asiento_2[[#This Row],[Cta]],PGCtotal[[Nivel 3]:[Subcuenta]],5,FALSE)),\"\",VLOOKUP(Tabla_Asiento_2[[#This Row],[Cta]],PGCtotal[[Nivel 3]:[Subcuenta]],5,FALSE))","v":""}]
[null,null,null,{"$f":"IF(ISERROR(VLOOKUP(Tabla_Asiento_2[[#This Row],[Cta]],PGCtotal[[Nivel 3]:[Subcuenta]],5,FALSE)),\"\",VLOOKUP(Tabla_Asiento_2[[#This Row],[Cta]],PGCtotal[[Nivel 3]:[Subcuenta]],5,FALSE))","v":""}]
[null,null,null,{"$f":"IF(ISERROR(VLOOKUP(Tabla_Asiento_2[[#This Row],[Cta]],PGCtotal[[Nivel 3]:[Subcuenta]],5,FALSE)),\"\",VLOOKUP(Tabla_Asiento_2[[#This Row],[Cta]],PGCtotal[[Nivel 3]:[Subcuenta]],5,FALSE))","v":""}]
[null,null,null,{"$f":"IF(ISERROR(VLOOKUP(Tabla_Asiento_2[[#This Row],[Cta]],PGCtotal[[Nivel 3]:[Subcuenta]],5,FALSE)),\"\",VLOOKUP(Tabla_Asiento_2[[#This Row],[Cta]],PGCtotal[[Nivel 3]:[Subcuenta]],5,FALSE))","v":""}]
[null,null,null,{"$f":"IF(ISERROR(VLOOKUP(Tabla_Asiento_2[[#This Row],[Cta]],PGCtotal[[Nivel 3]:[Subcuenta]],5,FALSE)),\"\",VLOOKUP(Tabla_Asiento_2[[#This Row],[Cta]],PGCtotal[[Nivel 3]:[Subcuenta]],5,FALSE))","v":""}]
[null,null,null,{"$f":"IF(ISERROR(VLOOKUP(Tabla_Asiento_2[[#This Row],[Cta]],PGCtotal[[Nivel 3]:[Subcuenta]],5,FALSE)),\"\",VLOOKUP(Tabla_Asiento_2[[#This Row],[Cta]],PGCtotal[[Nivel 3]:[Subcuenta]],5,FALSE))","v":""}]
[null,null,null,{"$f":"IF(ISERROR(VLOOKUP(Tabla_Asiento_2[[#This Row],[Cta]],PGCtotal[[Nivel 3]:[Subcuenta]],5,FALSE)),\"\",VLOOKUP(Tabla_Asiento_2[[#This Row],[Cta]],PGCtotal[[Nivel 3]:[Subcuenta]],5,FALSE))","v":""}]
[null,null,null,{"$f":"IF(ISERROR(VLOOKUP(Tabla_Asiento_2[[#This Row],[Cta]],PGCtotal[[Nivel 3]:[Subcuenta]],5,FALSE)),\"\",VLOOKUP(Tabla_Asiento_2[[#This Row],[Cta]],PGCtotal[[Nivel 3]:[Subcuenta]],5,FALSE))","v":""}]
[null,null,null,{"$f":"IF(ISERROR(VLOOKUP(Tabla_Asiento_2[[#This Row],[Cta]],PGCtotal[[Nivel 3]:[Subcuenta]],5,FALSE)),\"\",VLOOKUP(Tabla_Asiento_2[[#This Row],[Cta]],PGCtotal[[Nivel 3]:[Subcuenta]],5,FALSE))","v":""}]
[null,null,null,{"$f":"IF(ISERROR(VLOOKUP(Tabla_Asiento_2[[#This Row],[Cta]],PGCtotal[[Nivel 3]:[Subcuenta]],5,FALSE)),\"\",VLOOKUP(Tabla_Asiento_2[[#This Row],[Cta]],PGCtotal[[Nivel 3]:[Subcuenta]],5,FALSE))","v":""}]
[null,null,null,{"$f":"IF(ISERROR(VLOOKUP(Tabla_Asiento_2[[#This Row],[Cta]],PGCtotal[[Nivel 3]:[Subcuenta]],5,FALSE)),\"\",VLOOKUP(Tabla_Asiento_2[[#This Row],[Cta]],PGCtotal[[Nivel 3]:[Subcuenta]],5,FALSE))","v":""}]
[null,null,null,{"$f":"IF(ISERROR(VLOOKUP(Tabla_Asiento_2[[#This Row],[Cta]],PGCtotal[[Nivel 3]:[Subcuenta]],5,FALSE)),\"\",VLOOKUP(Tabla_Asiento_2[[#This Row],[Cta]],PGCtotal[[Nivel 3]:[Subcuenta]],5,FALSE))","v":""}]
[null,null,null,{"$f":"IF(ISERROR(VLOOKUP(Tabla_Asiento_2[[#This Row],[Cta]],PGCtotal[[Nivel 3]:[Subcuenta]],5,FALSE)),\"\",VLOOKUP(Tabla_Asiento_2[[#This Row],[Cta]],PGCtotal[[Nivel 3]:[Subcuenta]],5,FALSE))","v":""}]
[null,null,null,{"$f":"IF(ISERROR(VLOOKUP(Tabla_Asiento_2[[#This Row],[Cta]],PGCtotal[[Nivel 3]:[Subcuenta]],5,FALSE)),\"\",VLOOKUP(Tabla_Asiento_2[[#This Row],[Cta]],PGCtotal[[Nivel 3]:[Subcuenta]],5,FALSE))","v":""}]
[null,null,null,{"$f":"IF(ISERROR(VLOOKUP(Tabla_Asiento_2[[#This Row],[Cta]],PGCtotal[[Nivel 3]:[Subcuenta]],5,FALSE)),\"\",VLOOKUP(Tabla_Asiento_2[[#This Row],[Cta]],PGCtotal[[Nivel 3]:[Subcuenta]],5,FALSE))","v":""}]
[null,null,null,{"$f":"IF(ISERROR(VLOOKUP(Tabla_Asiento_2[[#This Row],[Cta]],PGCtotal[[Nivel 3]:[Subcuenta]],5,FALSE)),\"\",VLOOKUP(Tabla_Asiento_2[[#This Row],[Cta]],PGCtotal[[Nivel 3]:[Subcuenta]],5,FALSE))","v":""}]
[null,null,null,{"$f":"IF(ISERROR(VLOOKUP(Tabla_Asiento_2[[#This Row],[Cta]],PGCtotal[[Nivel 3]:[Subcuenta]],5,FALSE)),\"\",VLOOKUP(Tabla_Asiento_2[[#This Row],[Cta]],PGCtotal[[Nivel 3]:[Subcuenta]],5,FALSE))","v":""}]
[null,null,null,{"$f":"IF(ISERROR(VLOOKUP(Tabla_Asiento_2[[#This Row],[Cta]],PGCtotal[[Nivel 3]:[Subcuenta]],5,FALSE)),\"\",VLOOKUP(Tabla_Asiento_2[[#This Row],[Cta]],PGCtotal[[Nivel 3]:[Subcuenta]],5,FALSE))","v":""}]
[null,null,null,{"$f":"IF(ISERROR(VLOOKUP(Tabla_Asiento_2[[#This Row],[Cta]],PGCtotal[[Nivel 3]:[Subcuenta]],5,FALSE)),\"\",VLOOKUP(Tabla_Asiento_2[[#This Row],[Cta]],PGCtotal[[Nivel 3]:[Subcuenta]],5,FALSE))","v":""}]
[null,null,null,{"$f":"IF(ISERROR(VLOOKUP(Tabla_Asiento_2[[#This Row],[Cta]],PGCtotal[[Nivel 3]:[Subcuenta]],5,FALSE)),\"\",VLOOKUP(Tabla_Asiento_2[[#This Row],[Cta]],PGCtotal[[Nivel 3]:[Subcuenta]],5,FALSE))","v":""}]
[null,null,null,{"$f":"IF(ISERROR(VLOOKUP(Tabla_Asiento_2[[#This Row],[Cta]],PGCtotal[[Nivel 3]:[Subcuenta]],5,FALSE)),\"\",VLOOKUP(Tabla_Asiento_2[[#This Row],[Cta]],PGCtotal[[Nivel 3]:[Subcuenta]],5,FALSE))","v":""}]
[null,null,null,{"$f":"IF(ISERROR(VLOOKUP(Tabla_Asiento_2[[#This Row],[Cta]],PGCtotal[[Nivel 3]:[Subcuenta]],5,FALSE)),\"\",VLOOKUP(Tabla_Asiento_2[[#This Row],[Cta]],PGCtotal[[Nivel 3]:[Subcuenta]],5,FALSE))","v":""}]
[null,null,null,{"$f":"IF(ISERROR(VLOOKUP(Tabla_Asiento_2[[#This Row],[Cta]],PGCtotal[[Nivel 3]:[Subcuenta]],5,FALSE)),\"\",VLOOKUP(Tabla_Asiento_2[[#This Row],[Cta]],PGCtotal[[Nivel 3]:[Subcuenta]],5,FALSE))","v":""}]
[null,null,null,{"$f":"IF(ISERROR(VLOOKUP(Tabla_Asiento_2[[#This Row],[Cta]],PGCtotal[[Nivel 3]:[Subcuenta]],5,FALSE)),\"\",VLOOKUP(Tabla_Asiento_2[[#This Row],[Cta]],PGCtotal[[Nivel 3]:[Subcuenta]],5,FALSE))","v":""}]
[null,null,null,{"$f":"IF(ISERROR(VLOOKUP(Tabla_Asiento_2[[#This Row],[Cta]],PGCtotal[[Nivel 3]:[Subcuenta]],5,FALSE)),\"\",VLOOKUP(Tabla_Asiento_2[[#This Row],[Cta]],PGCtotal[[Nivel 3]:[Subcuenta]],5,FALSE))","v":""}]
[null,null,null,{"$f":"IF(ISERROR(VLOOKUP(Tabla_Asiento_2[[#This Row],[Cta]],PGCtotal[[Nivel 3]:[Subcuenta]],5,FALSE)),\"\",VLOOKUP(Tabla_Asiento_2[[#This Row],[Cta]],PGCtotal[[Nivel 3]:[Subcuenta]],5,FALSE))","v":""}]
[null,null,null,{"$f":"IF(ISERROR(VLOOKUP(Tabla_Asiento_2[[#This Row],[Cta]],PGCtotal[[Nivel 3]:[Subcuenta]],5,FALSE)),\"\",VLOOKUP(Tabla_Asiento_2[[#This Row],[Cta]],PGCtotal[[Nivel 3]:[Subcuenta]],5,FALSE))","v":""}]
[null,null,null,{"$f":"IF(ISERROR(VLOOKUP(Tabla_Asiento_2[[#This Row],[Cta]],PGCtotal[[Nivel 3]:[Subcuenta]],5,FALSE)),\"\",VLOOKUP(Tabla_Asiento_2[[#This Row],[Cta]],PGCtotal[[Nivel 3]:[Subcuenta]],5,FALSE))","v":""}]
[null,null,null,{"$f":"IF(ISERROR(VLOOKUP(Tabla_Asiento_2[[#This Row],[Cta]],PGCtotal[[Nivel 3]:[Subcuenta]],5,FALSE)),\"\",VLOOKUP(Tabla_Asiento_2[[#This Row],[Cta]],PGCtotal[[Nivel 3]:[Subcuenta]],5,FALSE))","v":""}]
[null,null,null,{"$f":"IF(ISERROR(VLOOKUP(Tabla_Asiento_2[[#This Row],[Cta]],PGCtotal[[Nivel 3]:[Subcuenta]],5,FALSE)),\"\",VLOOKUP(Tabla_Asiento_2[[#This Row],[Cta]],PGCtotal[[Nivel 3]:[Subcuenta]],5,FALSE))","v":""}]
[null,null,null,{"$f":"IF(ISERROR(VLOOKUP(Tabla_Asiento_2[[#This Row],[Cta]],PGCtotal[[Nivel 3]:[Subcuenta]],5,FALSE)),\"\",VLOOKUP(Tabla_Asiento_2[[#This Row],[Cta]],PGCtotal[[Nivel 3]:[Subcuenta]],5,FALSE))","v":""}]
[null,null,null,{"$f":"IF(ISERROR(VLOOKUP(Tabla_Asiento_2[[#This Row],[Cta]],PGCtotal[[Nivel 3]:[Subcuenta]],5,FALSE)),\"\",VLOOKUP(Tabla_Asiento_2[[#This Row],[Cta]],PGCtotal[[Nivel 3]:[Subcuenta]],5,FALSE))","v":""}]
[null,null,null,{"$f":"IF(ISERROR(VLOOKUP(Tabla_Asiento_2[[#This Row],[Cta]],PGCtotal[[Nivel 3]:[Subcuenta]],5,FALSE)),\"\",VLOOKUP(Tabla_Asiento_2[[#This Row],[Cta]],PGCtotal[[Nivel 3]:[Subcuenta]],5,FALSE))","v":""}]
[null,null,null,{"$f":"IF(ISERROR(VLOOKUP(Tabla_Asiento_2[[#This Row],[Cta]],PGCtotal[[Nivel 3]:[Subcuenta]],5,FALSE)),\"\",VLOOKUP(Tabla_Asiento_2[[#This Row],[Cta]],PGCtotal[[Nivel 3]:[Subcuenta]],5,FALSE))","v":""}]
[null,null,null,{"$f":"IF(ISERROR(VLOOKUP(Tabla_Asiento_2[[#This Row],[Cta]],PGCtotal[[Nivel 3]:[Subcuenta]],5,FALSE)),\"\",VLOOKUP(Tabla_Asiento_2[[#This Row],[Cta]],PGCtotal[[Nivel 3]:[Subcuenta]],5,FALSE))","v":""}]
[null,null,null,{"$f":"IF(ISERROR(VLOOKUP(Tabla_Asiento_2[[#This Row],[Cta]],PGCtotal[[Nivel 3]:[Subcuenta]],5,FALSE)),\"\",VLOOKUP(Tabla_Asiento_2[[#This Row],[Cta]],PGCtotal[[Nivel 3]:[Subcuenta]],5,FALSE))","v":""}]
[null,null,null,{"$f":"IF(ISERROR(VLOOKUP(Tabla_Asiento_2[[#This Row],[Cta]],PGCtotal[[Nivel 3]:[Subcuenta]],5,FALSE)),\"\",VLOOKUP(Tabla_Asiento_2[[#This Row],[Cta]],PGCtotal[[Nivel 3]:[Subcuenta]],5,FALSE))","v":""}]
[null,null,null,{"$f":"IF(ISERROR(VLOOKUP(Tabla_Asiento_2[[#This Row],[Cta]],PGCtotal[[Nivel 3]:[Subcuenta]],5,FALSE)),\"\",VLOOKUP(Tabla_Asiento_2[[#This Row],[Cta]],PGCtotal[[Nivel 3]:[Subcuenta]],5,FALSE))","v":""}]
[null,null,null,{"$f":"IF(ISERROR(VLOOKUP(Tabla_Asiento_2[[#This Row],[Cta]],PGCtotal[[Nivel 3]:[Subcuenta]],5,FALSE)),\"\",VLOOKUP(Tabla_Asiento_2[[#This Row],[Cta]],PGCtotal[[Nivel 3]:[Subcuenta]],5,FALSE))","v":""}]
[null,null,null,{"$f":"IF(ISERROR(VLOOKUP(Tabla_Asiento_2[[#This Row],[Cta]],PGCtotal[[Nivel 3]:[Subcuenta]],5,FALSE)),\"\",VLOOKUP(Tabla_Asiento_2[[#This Row],[Cta]],PGCtotal[[Nivel 3]:[Subcuenta]],5,FALSE))","v":""}]
[null,null,null,{"$f":"IF(ISERROR(VLOOKUP(Tabla_Asiento_2[[#This Row],[Cta]],PGCtotal[[Nivel 3]:[Subcuenta]],5,FALSE)),\"\",VLOOKUP(Tabla_Asiento_2[[#This Row],[Cta]],PGCtotal[[Nivel 3]:[Subcuenta]],5,FALSE))","v":""}]
[null,null,null,{"$f":"IF(ISERROR(VLOOKUP(Tabla_Asiento_2[[#This Row],[Cta]],PGCtotal[[Nivel 3]:[Subcuenta]],5,FALSE)),\"\",VLOOKUP(Tabla_Asiento_2[[#This Row],[Cta]],PGCtotal[[Nivel 3]:[Subcuenta]],5,FALSE))","v":""}]
[null,null,null,{"$f":"IF(ISERROR(VLOOKUP(Tabla_Asiento_2[[#This Row],[Cta]],PGCtotal[[Nivel 3]:[Subcuenta]],5,FALSE)),\"\",VLOOKUP(Tabla_Asiento_2[[#This Row],[Cta]],PGCtotal[[Nivel 3]:[Subcuenta]],5,FALSE))","v":""}]
[null,null,null,{"$f":"IF(ISERROR(VLOOKUP(Tabla_Asiento_2[[#This Row],[Cta]],PGCtotal[[Nivel 3]:[Subcuenta]],5,FALSE)),\"\",VLOOKUP(Tabla_Asiento_2[[#This Row],[Cta]],PGCtotal[[Nivel 3]:[Subcuenta]],5,FALSE))","v":""}]
[null,null,null,{"$f":"IF(ISERROR(VLOOKUP(Tabla_Asiento_2[[#This Row],[Cta]],PGCtotal[[Nivel 3]:[Subcuenta]],5,FALSE)),\"\",VLOOKUP(Tabla_Asiento_2[[#This Row],[Cta]],PGCtotal[[Nivel 3]:[Subcuenta]],5,FALSE))","v":""}]
[null,null,null,{"$f":"IF(ISERROR(VLOOKUP(Tabla_Asiento_2[[#This Row],[Cta]],PGCtotal[[Nivel 3]:[Subcuenta]],5,FALSE)),\"\",VLOOKUP(Tabla_Asiento_2[[#This Row],[Cta]],PGCtotal[[Nivel 3]:[Subcuenta]],5,FALSE))","v":""}]
[null,null,null,{"$f":"IF(ISERROR(VLOOKUP(Tabla_Asiento_2[[#This Row],[Cta]],PGCtotal[[Nivel 3]:[Subcuenta]],5,FALSE)),\"\",VLOOKUP(Tabla_Asiento_2[[#This Row],[Cta]],PGCtotal[[Nivel 3]:[Subcuenta]],5,FALSE))","v":""}]
[null,null,null,{"$f":"IF(ISERROR(VLOOKUP(Tabla_Asiento_2[[#This Row],[Cta]],PGCtotal[[Nivel 3]:[Subcuenta]],5,FALSE)),\"\",VLOOKUP(Tabla_Asiento_2[[#This Row],[Cta]],PGCtotal[[Nivel 3]:[Subcuenta]],5,FALSE))","v":""}]
[null,null,null,{"$f":"IF(ISERROR(VLOOKUP(Tabla_Asiento_2[[#This Row],[Cta]],PGCtotal[[Nivel 3]:[Subcuenta]],5,FALSE)),\"\",VLOOKUP(Tabla_Asiento_2[[#This Row],[Cta]],PGCtotal[[Nivel 3]:[Subcuenta]],5,FALSE))","v":""}]
[null,null,null,{"$f":"IF(ISERROR(VLOOKUP(Tabla_Asiento_2[[#This Row],[Cta]],PGCtotal[[Nivel 3]:[Subcuenta]],5,FALSE)),\"\",VLOOKUP(Tabla_Asiento_2[[#This Row],[Cta]],PGCtotal[[Nivel 3]:[Subcuenta]],5,FALSE))","v":""}]
[null,null,null,{"$f":"IF(ISERROR(VLOOKUP(Tabla_Asiento_2[[#This Row],[Cta]],PGCtotal[[Nivel 3]:[Subcuenta]],5,FALSE)),\"\",VLOOKUP(Tabla_Asiento_2[[#This Row],[Cta]],PGCtotal[[Nivel 3]:[Subcuenta]],5,FALSE))","v":""}]
[null,null,null,{"$f":"IF(ISERROR(VLOOKUP(Tabla_Asiento_2[[#This Row],[Cta]],PGCtotal[[Nivel 3]:[Subcuenta]],5,FALSE)),\"\",VLOOKUP(Tabla_Asiento_2[[#This Row],[Cta]],PGCtotal[[Nivel 3]:[Subcuenta]],5,FALSE))","v":""}]
[null,null,null,{"$f":"IF(ISERROR(VLOOKUP(Tabla_Asiento_2[[#This Row],[Cta]],PGCtotal[[Nivel 3]:[Subcuenta]],5,FALSE)),\"\",VLOOKUP(Tabla_Asiento_2[[#This Row],[Cta]],PGCtotal[[Nivel 3]:[Subcuenta]],5,FALSE))","v":""}]
[null,null,null,{"$f":"IF(ISERROR(VLOOKUP(Tabla_Asiento_2[[#This Row],[Cta]],PGCtotal[[Nivel 3]:[Subcuenta]],5,FALSE)),\"\",VLOOKUP(Tabla_Asiento_2[[#This Row],[Cta]],PGCtotal[[Nivel 3]:[Subcuenta]],5,FALSE))","v":""}]
[null,null,null,{"$f":"IF(ISERROR(VLOOKUP(Tabla_Asiento_2[[#This Row],[Cta]],PGCtotal[[Nivel 3]:[Subcuenta]],5,FALSE)),\"\",VLOOKUP(Tabla_Asiento_2[[#This Row],[Cta]],PGCtotal[[Nivel 3]:[Subcuenta]],5,FALSE))","v":""}]
[null,null,null,{"$f":"IF(ISERROR(VLOOKUP(Tabla_Asiento_2[[#This Row],[Cta]],PGCtotal[[Nivel 3]:[Subcuenta]],5,FALSE)),\"\",VLOOKUP(Tabla_Asiento_2[[#This Row],[Cta]],PGCtotal[[Nivel 3]:[Subcuenta]],5,FALSE))","v":""}]
[null,null,null,{"$f":"IF(ISERROR(VLOOKUP(Tabla_Asiento_2[[#This Row],[Cta]],PGCtotal[[Nivel 3]:[Subcuenta]],5,FALSE)),\"\",VLOOKUP(Tabla_Asiento_2[[#This Row],[Cta]],PGCtotal[[Nivel 3]:[Subcuenta]],5,FALSE))","v":""}]
[null,null,null,{"$f":"IF(ISERROR(VLOOKUP(Tabla_Asiento_2[[#This Row],[Cta]],PGCtotal[[Nivel 3]:[Subcuenta]],5,FALSE)),\"\",VLOOKUP(Tabla_Asiento_2[[#This Row],[Cta]],PGCtotal[[Nivel 3]:[Subcuenta]],5,FALSE))","v":""}]
[null,null,null,{"$f":"IF(ISERROR(VLOOKUP(Tabla_Asiento_2[[#This Row],[Cta]],PGCtotal[[Nivel 3]:[Subcuenta]],5,FALSE)),\"\",VLOOKUP(Tabla_Asiento_2[[#This Row],[Cta]],PGCtotal[[Nivel 3]:[Subcuenta]],5,FALSE))","v":""}]
[null,null,null,{"$f":"IF(ISERROR(VLOOKUP(Tabla_Asiento_2[[#This Row],[Cta]],PGCtotal[[Nivel 3]:[Subcuenta]],5,FALSE)),\"\",VLOOKUP(Tabla_Asiento_2[[#This Row],[Cta]],PGCtotal[[Nivel 3]:[Subcuenta]],5,FALSE))","v":""}]
[null,null,null,{"$f":"IF(ISERROR(VLOOKUP(Tabla_Asiento_2[[#This Row],[Cta]],PGCtotal[[Nivel 3]:[Subcuenta]],5,FALSE)),\"\",VLOOKUP(Tabla_Asiento_2[[#This Row],[Cta]],PGCtotal[[Nivel 3]:[Subcuenta]],5,FALSE))","v":""}]
[null,null,null,{"$f":"IF(ISERROR(VLOOKUP(Tabla_Asiento_2[[#This Row],[Cta]],PGCtotal[[Nivel 3]:[Subcuenta]],5,FALSE)),\"\",VLOOKUP(Tabla_Asiento_2[[#This Row],[Cta]],PGCtotal[[Nivel 3]:[Subcuenta]],5,FALSE))","v":""}]
[null,null,null,{"$f":"IF(ISERROR(VLOOKUP(Tabla_Asiento_2[[#This Row],[Cta]],PGCtotal[[Nivel 3]:[Subcuenta]],5,FALSE)),\"\",VLOOKUP(Tabla_Asiento_2[[#This Row],[Cta]],PGCtotal[[Nivel 3]:[Subcuenta]],5,FALSE))","v":""}]
[null,null,null,{"$f":"IF(ISERROR(VLOOKUP(Tabla_Asiento_2[[#This Row],[Cta]],PGCtotal[[Nivel 3]:[Subcuenta]],5,FALSE)),\"\",VLOOKUP(Tabla_Asiento_2[[#This Row],[Cta]],PGCtotal[[Nivel 3]:[Subcuenta]],5,FALSE))","v":""}]
[null,null,null,{"$f":"IF(ISERROR(VLOOKUP(Tabla_Asiento_2[[#This Row],[Cta]],PGCtotal[[Nivel 3]:[Subcuenta]],5,FALSE)),\"\",VLOOKUP(Tabla_Asiento_2[[#This Row],[Cta]],PGCtotal[[Nivel 3]:[Subcuenta]],5,FALSE))","v":""}]
[null,null,null,{"$f":"IF(ISERROR(VLOOKUP(Tabla_Asiento_2[[#This Row],[Cta]],PGCtotal[[Nivel 3]:[Subcuenta]],5,FALSE)),\"\",VLOOKUP(Tabla_Asiento_2[[#This Row],[Cta]],PGCtotal[[Nivel 3]:[Subcuenta]],5,FALSE))","v":""}]
[null,null,null,{"$f":"IF(ISERROR(VLOOKUP(Tabla_Asiento_2[[#This Row],[Cta]],PGCtotal[[Nivel 3]:[Subcuenta]],5,FALSE)),\"\",VLOOKUP(Tabla_Asiento_2[[#This Row],[Cta]],PGCtotal[[Nivel 3]:[Subcuenta]],5,FALSE))","v":""}]
[null,null,null,{"$f":"IF(ISERROR(VLOOKUP(Tabla_Asiento_2[[#This Row],[Cta]],PGCtotal[[Nivel 3]:[Subcuenta]],5,FALSE)),\"\",VLOOKUP(Tabla_Asiento_2[[#This Row],[Cta]],PGCtotal[[Nivel 3]:[Subcuenta]],5,FALSE))","v":""}]
[null,null,null,{"$f":"IF(ISERROR(VLOOKUP(Tabla_Asiento_2[[#This Row],[Cta]],PGCtotal[[Nivel 3]:[Subcuenta]],5,FALSE)),\"\",VLOOKUP(Tabla_Asiento_2[[#This Row],[Cta]],PGCtotal[[Nivel 3]:[Subcuenta]],5,FALSE))","v":""}]
[null,null,null,{"$f":"IF(ISERROR(VLOOKUP(Tabla_Asiento_2[[#This Row],[Cta]],PGCtotal[[Nivel 3]:[Subcuenta]],5,FALSE)),\"\",VLOOKUP(Tabla_Asiento_2[[#This Row],[Cta]],PGCtotal[[Nivel 3]:[Subcuenta]],5,FALSE))","v":""}]
[null,null,null,{"$f":"IF(ISERROR(VLOOKUP(Tabla_Asiento_2[[#This Row],[Cta]],PGCtotal[[Nivel 3]:[Subcuenta]],5,FALSE)),\"\",VLOOKUP(Tabla_Asiento_2[[#This Row],[Cta]],PGCtotal[[Nivel 3]:[Subcuenta]],5,FALSE))","v":""}]
[null,null,null,{"$f":"IF(ISERROR(VLOOKUP(Tabla_Asiento_2[[#This Row],[Cta]],PGCtotal[[Nivel 3]:[Subcuenta]],5,FALSE)),\"\",VLOOKUP(Tabla_Asiento_2[[#This Row],[Cta]],PGCtotal[[Nivel 3]:[Subcuenta]],5,FALSE))","v":""}]
[null,null,null,{"$f":"IF(ISERROR(VLOOKUP(Tabla_Asiento_2[[#This Row],[Cta]],PGCtotal[[Nivel 3]:[Subcuenta]],5,FALSE)),\"\",VLOOKUP(Tabla_Asiento_2[[#This Row],[Cta]],PGCtotal[[Nivel 3]:[Subcuenta]],5,FALSE))","v":""}]
[null,null,null,{"$f":"IF(ISERROR(VLOOKUP(Tabla_Asiento_2[[#This Row],[Cta]],PGCtotal[[Nivel 3]:[Subcuenta]],5,FALSE)),\"\",VLOOKUP(Tabla_Asiento_2[[#This Row],[Cta]],PGCtotal[[Nivel 3]:[Subcuenta]],5,FALSE))","v":""}]
[null,null,null,{"$f":"IF(ISERROR(VLOOKUP(Tabla_Asiento_2[[#This Row],[Cta]],PGCtotal[[Nivel 3]:[Subcuenta]],5,FALSE)),\"\",VLOOKUP(Tabla_Asiento_2[[#This Row],[Cta]],PGCtotal[[Nivel 3]:[Subcuenta]],5,FALSE))","v":""}]
[null,null,null,{"$f":"IF(ISERROR(VLOOKUP(Tabla_Asiento_2[[#This Row],[Cta]],PGCtotal[[Nivel 3]:[Subcuenta]],5,FALSE)),\"\",VLOOKUP(Tabla_Asiento_2[[#This Row],[Cta]],PGCtotal[[Nivel 3]:[Subcuenta]],5,FALSE))","v":""}]
[null,null,null,{"$f":"IF(ISERROR(VLOOKUP(Tabla_Asiento_2[[#This Row],[Cta]],PGCtotal[[Nivel 3]:[Subcuenta]],5,FALSE)),\"\",VLOOKUP(Tabla_Asiento_2[[#This Row],[Cta]],PGCtotal[[Nivel 3]:[Subcuenta]],5,FALSE))","v":""}]
[null,null,null,{"$f":"IF(ISERROR(VLOOKUP(Tabla_Asiento_2[[#This Row],[Cta]],PGCtotal[[Nivel 3]:[Subcuenta]],5,FALSE)),\"\",VLOOKUP(Tabla_Asiento_2[[#This Row],[Cta]],PGCtotal[[Nivel 3]:[Subcuenta]],5,FALSE))","v":""}]
[null,null,null,{"$f":"IF(ISERROR(VLOOKUP(Tabla_Asiento_2[[#This Row],[Cta]],PGCtotal[[Nivel 3]:[Subcuenta]],5,FALSE)),\"\",VLOOKUP(Tabla_Asiento_2[[#This Row],[Cta]],PGCtotal[[Nivel 3]:[Subcuenta]],5,FALSE))","v":""}]
[null,null,null,{"$f":"IF(ISERROR(VLOOKUP(Tabla_Asiento_2[[#This Row],[Cta]],PGCtotal[[Nivel 3]:[Subcuenta]],5,FALSE)),\"\",VLOOKUP(Tabla_Asiento_2[[#This Row],[Cta]],PGCtotal[[Nivel 3]:[Subcuenta]],5,FALSE))","v":""}]
[null,null,null,{"$f":"IF(ISERROR(VLOOKUP(Tabla_Asiento_2[[#This Row],[Cta]],PGCtotal[[Nivel 3]:[Subcuenta]],5,FALSE)),\"\",VLOOKUP(Tabla_Asiento_2[[#This Row],[Cta]],PGCtotal[[Nivel 3]:[Subcuenta]],5,FALSE))","v":""}]
[null,null,null,{"$f":"IF(ISERROR(VLOOKUP(Tabla_Asiento_2[[#This Row],[Cta]],PGCtotal[[Nivel 3]:[Subcuenta]],5,FALSE)),\"\",VLOOKUP(Tabla_Asiento_2[[#This Row],[Cta]],PGCtotal[[Nivel 3]:[Subcuenta]],5,FALSE))","v":""}]
[null,null,null,{"$f":"IF(ISERROR(VLOOKUP(Tabla_Asiento_2[[#This Row],[Cta]],PGCtotal[[Nivel 3]:[Subcuenta]],5,FALSE)),\"\",VLOOKUP(Tabla_Asiento_2[[#This Row],[Cta]],PGCtotal[[Nivel 3]:[Subcuenta]],5,FALSE))","v":""}]
[null,null,null,{"$f":"IF(ISERROR(VLOOKUP(Tabla_Asiento_2[[#This Row],[Cta]],PGCtotal[[Nivel 3]:[Subcuenta]],5,FALSE)),\"\",VLOOKUP(Tabla_Asiento_2[[#This Row],[Cta]],PGCtotal[[Nivel 3]:[Subcuenta]],5,FALSE))","v":""}]
[null,null,null,{"$f":"IF(ISERROR(VLOOKUP(Tabla_Asiento_2[[#This Row],[Cta]],PGCtotal[[Nivel 3]:[Subcuenta]],5,FALSE)),\"\",VLOOKUP(Tabla_Asiento_2[[#This Row],[Cta]],PGCtotal[[Nivel 3]:[Subcuenta]],5,FALSE))","v":""}]
[null,null,null,{"$f":"IF(ISERROR(VLOOKUP(Tabla_Asiento_2[[#This Row],[Cta]],PGCtotal[[Nivel 3]:[Subcuenta]],5,FALSE)),\"\",VLOOKUP(Tabla_Asiento_2[[#This Row],[Cta]],PGCtotal[[Nivel 3]:[Subcuenta]],5,FALSE))","v":""}]
[null,null,null,{"$f":"IF(ISERROR(VLOOKUP(Tabla_Asiento_2[[#This Row],[Cta]],PGCtotal[[Nivel 3]:[Subcuenta]],5,FALSE)),\"\",VLOOKUP(Tabla_Asiento_2[[#This Row],[Cta]],PGCtotal[[Nivel 3]:[Subcuenta]],5,FALSE))","v":""}]
[null,null,null,{"$f":"IF(ISERROR(VLOOKUP(Tabla_Asiento_2[[#This Row],[Cta]],PGCtotal[[Nivel 3]:[Subcuenta]],5,FALSE)),\"\",VLOOKUP(Tabla_Asiento_2[[#This Row],[Cta]],PGCtotal[[Nivel 3]:[Subcuenta]],5,FALSE))","v":""}]
[null,null,null,{"$f":"IF(ISERROR(VLOOKUP(Tabla_Asiento_2[[#This Row],[Cta]],PGCtotal[[Nivel 3]:[Subcuenta]],5,FALSE)),\"\",VLOOKUP(Tabla_Asiento_2[[#This Row],[Cta]],PGCtotal[[Nivel 3]:[Subcuenta]],5,FALSE))","v":""}]
[null,null,null,{"$f":"IF(ISERROR(VLOOKUP(Tabla_Asiento_2[[#This Row],[Cta]],PGCtotal[[Nivel 3]:[Subcuenta]],5,FALSE)),\"\",VLOOKUP(Tabla_Asiento_2[[#This Row],[Cta]],PGCtotal[[Nivel 3]:[Subcuenta]],5,FALSE))","v":""}]
[null,null,null,{"$f":"IF(ISERROR(VLOOKUP(Tabla_Asiento_2[[#This Row],[Cta]],PGCtotal[[Nivel 3]:[Subcuenta]],5,FALSE)),\"\",VLOOKUP(Tabla_Asiento_2[[#This Row],[Cta]],PGCtotal[[Nivel 3]:[Subcuenta]],5,FALSE))","v":""}]
[null,null,null,{"$f":"IF(ISERROR(VLOOKUP(Tabla_Asiento_2[[#This Row],[Cta]],PGCtotal[[Nivel 3]:[Subcuenta]],5,FALSE)),\"\",VLOOKUP(Tabla_Asiento_2[[#This Row],[Cta]],PGCtotal[[Nivel 3]:[Subcuenta]],5,FALSE))","v":""}]
[null,null,null,{"$f":"IF(ISERROR(VLOOKUP(Tabla_Asiento_2[[#This Row],[Cta]],PGCtotal[[Nivel 3]:[Subcuenta]],5,FALSE)),\"\",VLOOKUP(Tabla_Asiento_2[[#This Row],[Cta]],PGCtotal[[Nivel 3]:[Subcuenta]],5,FALSE))","v":""}]
[null,null,null,{"$f":"IF(ISERROR(VLOOKUP(Tabla_Asiento_2[[#This Row],[Cta]],PGCtotal[[Nivel 3]:[Subcuenta]],5,FALSE)),\"\",VLOOKUP(Tabla_Asiento_2[[#This Row],[Cta]],PGCtotal[[Nivel 3]:[Subcuenta]],5,FALSE))","v":""}]
[null,null,null,{"$f":"IF(ISERROR(VLOOKUP(Tabla_Asiento_2[[#This Row],[Cta]],PGCtotal[[Nivel 3]:[Subcuenta]],5,FALSE)),\"\",VLOOKUP(Tabla_Asiento_2[[#This Row],[Cta]],PGCtotal[[Nivel 3]:[Subcuenta]],5,FALSE))","v":""}]
[null,null,null,{"$f":"IF(ISERROR(VLOOKUP(Tabla_Asiento_2[[#This Row],[Cta]],PGCtotal[[Nivel 3]:[Subcuenta]],5,FALSE)),\"\",VLOOKUP(Tabla_Asiento_2[[#This Row],[Cta]],PGCtotal[[Nivel 3]:[Subcuenta]],5,FALSE))","v":""}]
[null,null,null,{"$f":"IF(ISERROR(VLOOKUP(Tabla_Asiento_2[[#This Row],[Cta]],PGCtotal[[Nivel 3]:[Subcuenta]],5,FALSE)),\"\",VLOOKUP(Tabla_Asiento_2[[#This Row],[Cta]],PGCtotal[[Nivel 3]:[Subcuenta]],5,FALSE))","v":""}]
[null,null,null,{"$f":"IF(ISERROR(VLOOKUP(Tabla_Asiento_2[[#This Row],[Cta]],PGCtotal[[Nivel 3]:[Subcuenta]],5,FALSE)),\"\",VLOOKUP(Tabla_Asiento_2[[#This Row],[Cta]],PGCtotal[[Nivel 3]:[Subcuenta]],5,FALSE))","v":""}]
[null,null,null,{"$f":"IF(ISERROR(VLOOKUP(Tabla_Asiento_2[[#This Row],[Cta]],PGCtotal[[Nivel 3]:[Subcuenta]],5,FALSE)),\"\",VLOOKUP(Tabla_Asiento_2[[#This Row],[Cta]],PGCtotal[[Nivel 3]:[Subcuenta]],5,FALSE))","v":""}]
[null,null,null,{"$f":"IF(ISERROR(VLOOKUP(Tabla_Asiento_2[[#This Row],[Cta]],PGCtotal[[Nivel 3]:[Subcuenta]],5,FALSE)),\"\",VLOOKUP(Tabla_Asiento_2[[#This Row],[Cta]],PGCtotal[[Nivel 3]:[Subcuenta]],5,FALSE))","v":""}]
[null,null,null,{"$f":"IF(ISERROR(VLOOKUP(Tabla_Asiento_2[[#This Row],[Cta]],PGCtotal[[Nivel 3]:[Subcuenta]],5,FALSE)),\"\",VLOOKUP(Tabla_Asiento_2[[#This Row],[Cta]],PGCtotal[[Nivel 3]:[Subcuenta]],5,FALSE))","v":""}]
[null,null,null,{"$f":"IF(ISERROR(VLOOKUP(Tabla_Asiento_2[[#This Row],[Cta]],PGCtotal[[Nivel 3]:[Subcuenta]],5,FALSE)),\"\",VLOOKUP(Tabla_Asiento_2[[#This Row],[Cta]],PGCtotal[[Nivel 3]:[Subcuenta]],5,FALSE))","v":""}]
[null,null,null,{"$f":"IF(ISERROR(VLOOKUP(Tabla_Asiento_2[[#This Row],[Cta]],PGCtotal[[Nivel 3]:[Subcuenta]],5,FALSE)),\"\",VLOOKUP(Tabla_Asiento_2[[#This Row],[Cta]],PGCtotal[[Nivel 3]:[Subcuenta]],5,FALSE))","v":""}]
[null,null,null,{"$f":"IF(ISERROR(VLOOKUP(Tabla_Asiento_2[[#This Row],[Cta]],PGCtotal[[Nivel 3]:[Subcuenta]],5,FALSE)),\"\",VLOOKUP(Tabla_Asiento_2[[#This Row],[Cta]],PGCtotal[[Nivel 3]:[Subcuenta]],5,FALSE))","v":""}]
[null,null,null,{"$f":"IF(ISERROR(VLOOKUP(Tabla_Asiento_2[[#This Row],[Cta]],PGCtotal[[Nivel 3]:[Subcuenta]],5,FALSE)),\"\",VLOOKUP(Tabla_Asiento_2[[#This Row],[Cta]],PGCtotal[[Nivel 3]:[Subcuenta]],5,FALSE))","v":""}]
[null,null,null,{"$f":"IF(ISERROR(VLOOKUP(Tabla_Asiento_2[[#This Row],[Cta]],PGCtotal[[Nivel 3]:[Subcuenta]],5,FALSE)),\"\",VLOOKUP(Tabla_Asiento_2[[#This Row],[Cta]],PGCtotal[[Nivel 3]:[Subcuenta]],5,FALSE))","v":""}]
[null,null,null,{"$f":"IF(ISERROR(VLOOKUP(Tabla_Asiento_2[[#This Row],[Cta]],PGCtotal[[Nivel 3]:[Subcuenta]],5,FALSE)),\"\",VLOOKUP(Tabla_Asiento_2[[#This Row],[Cta]],PGCtotal[[Nivel 3]:[Subcuenta]],5,FALSE))","v":""}]
[null,null,null,{"$f":"IF(ISERROR(VLOOKUP(Tabla_Asiento_2[[#This Row],[Cta]],PGCtotal[[Nivel 3]:[Subcuenta]],5,FALSE)),\"\",VLOOKUP(Tabla_Asiento_2[[#This Row],[Cta]],PGCtotal[[Nivel 3]:[Subcuenta]],5,FALSE))","v":""}]
[null,null,null,{"$f":"IF(ISERROR(VLOOKUP(Tabla_Asiento_2[[#This Row],[Cta]],PGCtotal[[Nivel 3]:[Subcuenta]],5,FALSE)),\"\",VLOOKUP(Tabla_Asiento_2[[#This Row],[Cta]],PGCtotal[[Nivel 3]:[Subcuenta]],5,FALSE))","v":""}]
[null,null,null,{"$f":"IF(ISERROR(VLOOKUP(Tabla_Asiento_2[[#This Row],[Cta]],PGCtotal[[Nivel 3]:[Subcuenta]],5,FALSE)),\"\",VLOOKUP(Tabla_Asiento_2[[#This Row],[Cta]],PGCtotal[[Nivel 3]:[Subcuenta]],5,FALSE))","v":""}]
[null,null,null,{"$f":"IF(ISERROR(VLOOKUP(Tabla_Asiento_2[[#This Row],[Cta]],PGCtotal[[Nivel 3]:[Subcuenta]],5,FALSE)),\"\",VLOOKUP(Tabla_Asiento_2[[#This Row],[Cta]],PGCtotal[[Nivel 3]:[Subcuenta]],5,FALSE))","v":""}]
[null,null,null,{"$f":"IF(ISERROR(VLOOKUP(Tabla_Asiento_2[[#This Row],[Cta]],PGCtotal[[Nivel 3]:[Subcuenta]],5,FALSE)),\"\",VLOOKUP(Tabla_Asiento_2[[#This Row],[Cta]],PGCtotal[[Nivel 3]:[Subcuenta]],5,FALSE))","v":""}]
[null,null,null,{"$f":"IF(ISERROR(VLOOKUP(Tabla_Asiento_2[[#This Row],[Cta]],PGCtotal[[Nivel 3]:[Subcuenta]],5,FALSE)),\"\",VLOOKUP(Tabla_Asiento_2[[#This Row],[Cta]],PGCtotal[[Nivel 3]:[Subcuenta]],5,FALSE))","v":""}]
[null,null,null,{"$f":"IF(ISERROR(VLOOKUP(Tabla_Asiento_2[[#This Row],[Cta]],PGCtotal[[Nivel 3]:[Subcuenta]],5,FALSE)),\"\",VLOOKUP(Tabla_Asiento_2[[#This Row],[Cta]],PGCtotal[[Nivel 3]:[Subcuenta]],5,FALSE))","v":""}]
[null,null,null,{"$f":"IF(ISERROR(VLOOKUP(Tabla_Asiento_2[[#This Row],[Cta]],PGCtotal[[Nivel 3]:[Subcuenta]],5,FALSE)),\"\",VLOOKUP(Tabla_Asiento_2[[#This Row],[Cta]],PGCtotal[[Nivel 3]:[Subcuenta]],5,FALSE))","v":""}]
[null,null,null,{"$f":"IF(ISERROR(VLOOKUP(Tabla_Asiento_2[[#This Row],[Cta]],PGCtotal[[Nivel 3]:[Subcuenta]],5,FALSE)),\"\",VLOOKUP(Tabla_Asiento_2[[#This Row],[Cta]],PGCtotal[[Nivel 3]:[Subcuenta]],5,FALSE))","v":""}]
[null,null,null,{"$f":"IF(ISERROR(VLOOKUP(Tabla_Asiento_2[[#This Row],[Cta]],PGCtotal[[Nivel 3]:[Subcuenta]],5,FALSE)),\"\",VLOOKUP(Tabla_Asiento_2[[#This Row],[Cta]],PGCtotal[[Nivel 3]:[Subcuenta]],5,FALSE))","v":""}]
[null,null,null,{"$f":"IF(ISERROR(VLOOKUP(Tabla_Asiento_2[[#This Row],[Cta]],PGCtotal[[Nivel 3]:[Subcuenta]],5,FALSE)),\"\",VLOOKUP(Tabla_Asiento_2[[#This Row],[Cta]],PGCtotal[[Nivel 3]:[Subcuenta]],5,FALSE))","v":""}]
[null,null,null,{"$f":"IF(ISERROR(VLOOKUP(Tabla_Asiento_2[[#This Row],[Cta]],PGCtotal[[Nivel 3]:[Subcuenta]],5,FALSE)),\"\",VLOOKUP(Tabla_Asiento_2[[#This Row],[Cta]],PGCtotal[[Nivel 3]:[Subcuenta]],5,FALSE))","v":""}]
[null,null,null,{"$f":"IF(ISERROR(VLOOKUP(Tabla_Asiento_2[[#This Row],[Cta]],PGCtotal[[Nivel 3]:[Subcuenta]],5,FALSE)),\"\",VLOOKUP(Tabla_Asiento_2[[#This Row],[Cta]],PGCtotal[[Nivel 3]:[Subcuenta]],5,FALSE))","v":""}]
[null,null,null,{"$f":"IF(ISERROR(VLOOKUP(Tabla_Asiento_2[[#This Row],[Cta]],PGCtotal[[Nivel 3]:[Subcuenta]],5,FALSE)),\"\",VLOOKUP(Tabla_Asiento_2[[#This Row],[Cta]],PGCtotal[[Nivel 3]:[Subcuenta]],5,FALSE))","v":""}]
[null,null,null,{"$f":"IF(ISERROR(VLOOKUP(Tabla_Asiento_2[[#This Row],[Cta]],PGCtotal[[Nivel 3]:[Subcuenta]],5,FALSE)),\"\",VLOOKUP(Tabla_Asiento_2[[#This Row],[Cta]],PGCtotal[[Nivel 3]:[Subcuenta]],5,FALSE))","v":""}]
[null,null,null,{"$f":"IF(ISERROR(VLOOKUP(Tabla_Asiento_2[[#This Row],[Cta]],PGCtotal[[Nivel 3]:[Subcuenta]],5,FALSE)),\"\",VLOOKUP(Tabla_Asiento_2[[#This Row],[Cta]],PGCtotal[[Nivel 3]:[Subcuenta]],5,FALSE))","v":""}]
[null,null,null,{"$f":"IF(ISERROR(VLOOKUP(Tabla_Asiento_2[[#This Row],[Cta]],PGCtotal[[Nivel 3]:[Subcuenta]],5,FALSE)),\"\",VLOOKUP(Tabla_Asiento_2[[#This Row],[Cta]],PGCtotal[[Nivel 3]:[Subcuenta]],5,FALSE))","v":""}]
[null,null,null,{"$f":"IF(ISERROR(VLOOKUP(Tabla_Asiento_2[[#This Row],[Cta]],PGCtotal[[Nivel 3]:[Subcuenta]],5,FALSE)),\"\",VLOOKUP(Tabla_Asiento_2[[#This Row],[Cta]],PGCtotal[[Nivel 3]:[Subcuenta]],5,FALSE))","v":""}]
[null,null,null,{"$f":"IF(ISERROR(VLOOKUP(Tabla_Asiento_2[[#This Row],[Cta]],PGCtotal[[Nivel 3]:[Subcuenta]],5,FALSE)),\"\",VLOOKUP(Tabla_Asiento_2[[#This Row],[Cta]],PGCtotal[[Nivel 3]:[Subcuenta]],5,FALSE))","v":""}]
[null,null,null,{"$f":"IF(ISERROR(VLOOKUP(Tabla_Asiento_2[[#This Row],[Cta]],PGCtotal[[Nivel 3]:[Subcuenta]],5,FALSE)),\"\",VLOOKUP(Tabla_Asiento_2[[#This Row],[Cta]],PGCtotal[[Nivel 3]:[Subcuenta]],5,FALSE))","v":""}]
[null,null,null,{"$f":"IF(ISERROR(VLOOKUP(Tabla_Asiento_2[[#This Row],[Cta]],PGCtotal[[Nivel 3]:[Subcuenta]],5,FALSE)),\"\",VLOOKUP(Tabla_Asiento_2[[#This Row],[Cta]],PGCtotal[[Nivel 3]:[Subcuenta]],5,FALSE))","v":""}]
[null,null,null,{"$f":"IF(ISERROR(VLOOKUP(Tabla_Asiento_2[[#This Row],[Cta]],PGCtotal[[Nivel 3]:[Subcuenta]],5,FALSE)),\"\",VLOOKUP(Tabla_Asiento_2[[#This Row],[Cta]],PGCtotal[[Nivel 3]:[Subcuenta]],5,FALSE))","v":""}]
[null,null,null,{"$f":"IF(ISERROR(VLOOKUP(Tabla_Asiento_2[[#This Row],[Cta]],PGCtotal[[Nivel 3]:[Subcuenta]],5,FALSE)),\"\",VLOOKUP(Tabla_Asiento_2[[#This Row],[Cta]],PGCtotal[[Nivel 3]:[Subcuenta]],5,FALSE))","v":""}]
[null,null,null,{"$f":"IF(ISERROR(VLOOKUP(Tabla_Asiento_2[[#This Row],[Cta]],PGCtotal[[Nivel 3]:[Subcuenta]],5,FALSE)),\"\",VLOOKUP(Tabla_Asiento_2[[#This Row],[Cta]],PGCtotal[[Nivel 3]:[Subcuenta]],5,FALSE))","v":""}]
[null,null,null,{"$f":"IF(ISERROR(VLOOKUP(Tabla_Asiento_2[[#This Row],[Cta]],PGCtotal[[Nivel 3]:[Subcuenta]],5,FALSE)),\"\",VLOOKUP(Tabla_Asiento_2[[#This Row],[Cta]],PGCtotal[[Nivel 3]:[Subcuenta]],5,FALSE))","v":""}]
[null,null,null,{"$f":"IF(ISERROR(VLOOKUP(Tabla_Asiento_2[[#This Row],[Cta]],PGCtotal[[Nivel 3]:[Subcuenta]],5,FALSE)),\"\",VLOOKUP(Tabla_Asiento_2[[#This Row],[Cta]],PGCtotal[[Nivel 3]:[Subcuenta]],5,FALSE))","v":""}]
[null,null,null,{"$f":"IF(ISERROR(VLOOKUP(Tabla_Asiento_2[[#This Row],[Cta]],PGCtotal[[Nivel 3]:[Subcuenta]],5,FALSE)),\"\",VLOOKUP(Tabla_Asiento_2[[#This Row],[Cta]],PGCtotal[[Nivel 3]:[Subcuenta]],5,FALSE))","v":""}]
[null,null,null,{"$f":"IF(ISERROR(VLOOKUP(Tabla_Asiento_2[[#This Row],[Cta]],PGCtotal[[Nivel 3]:[Subcuenta]],5,FALSE)),\"\",VLOOKUP(Tabla_Asiento_2[[#This Row],[Cta]],PGCtotal[[Nivel 3]:[Subcuenta]],5,FALSE))","v":""}]
[null,null,null,{"$f":"IF(ISERROR(VLOOKUP(Tabla_Asiento_2[[#This Row],[Cta]],PGCtotal[[Nivel 3]:[Subcuenta]],5,FALSE)),\"\",VLOOKUP(Tabla_Asiento_2[[#This Row],[Cta]],PGCtotal[[Nivel 3]:[Subcuenta]],5,FALSE))","v":""}]
[null,null,null,{"$f":"IF(ISERROR(VLOOKUP(Tabla_Asiento_2[[#This Row],[Cta]],PGCtotal[[Nivel 3]:[Subcuenta]],5,FALSE)),\"\",VLOOKUP(Tabla_Asiento_2[[#This Row],[Cta]],PGCtotal[[Nivel 3]:[Subcuenta]],5,FALSE))","v":""}]
[null,null,null,{"$f":"IF(ISERROR(VLOOKUP(Tabla_Asiento_2[[#This Row],[Cta]],PGCtotal[[Nivel 3]:[Subcuenta]],5,FALSE)),\"\",VLOOKUP(Tabla_Asiento_2[[#This Row],[Cta]],PGCtotal[[Nivel 3]:[Subcuenta]],5,FALSE))","v":""}]
[null,null,null,{"$f":"IF(ISERROR(VLOOKUP(Tabla_Asiento_2[[#This Row],[Cta]],PGCtotal[[Nivel 3]:[Subcuenta]],5,FALSE)),\"\",VLOOKUP(Tabla_Asiento_2[[#This Row],[Cta]],PGCtotal[[Nivel 3]:[Subcuenta]],5,FALSE))","v":""}]
[null,null,null,{"$f":"IF(ISERROR(VLOOKUP(Tabla_Asiento_2[[#This Row],[Cta]],PGCtotal[[Nivel 3]:[Subcuenta]],5,FALSE)),\"\",VLOOKUP(Tabla_Asiento_2[[#This Row],[Cta]],PGCtotal[[Nivel 3]:[Subcuenta]],5,FALSE))","v":""}]
[null,null,null,{"$f":"IF(ISERROR(VLOOKUP(Tabla_Asiento_2[[#This Row],[Cta]],PGCtotal[[Nivel 3]:[Subcuenta]],5,FALSE)),\"\",VLOOKUP(Tabla_Asiento_2[[#This Row],[Cta]],PGCtotal[[Nivel 3]:[Subcuenta]],5,FALSE))","v":""}]
[null,null,null,{"$f":"IF(ISERROR(VLOOKUP(Tabla_Asiento_2[[#This Row],[Cta]],PGCtotal[[Nivel 3]:[Subcuenta]],5,FALSE)),\"\",VLOOKUP(Tabla_Asiento_2[[#This Row],[Cta]],PGCtotal[[Nivel 3]:[Subcuenta]],5,FALSE))","v":""}]
[null,null,null,{"$f":"IF(ISERROR(VLOOKUP(Tabla_Asiento_2[[#This Row],[Cta]],PGCtotal[[Nivel 3]:[Subcuenta]],5,FALSE)),\"\",VLOOKUP(Tabla_Asiento_2[[#This Row],[Cta]],PGCtotal[[Nivel 3]:[Subcuenta]],5,FALSE))","v":""}]
[null,null,null,{"$f":"IF(ISERROR(VLOOKUP(Tabla_Asiento_2[[#This Row],[Cta]],PGCtotal[[Nivel 3]:[Subcuenta]],5,FALSE)),\"\",VLOOKUP(Tabla_Asiento_2[[#This Row],[Cta]],PGCtotal[[Nivel 3]:[Subcuenta]],5,FALSE))","v":""}]
[null,null,null,{"$f":"IF(ISERROR(VLOOKUP(Tabla_Asiento_2[[#This Row],[Cta]],PGCtotal[[Nivel 3]:[Subcuenta]],5,FALSE)),\"\",VLOOKUP(Tabla_Asiento_2[[#This Row],[Cta]],PGCtotal[[Nivel 3]:[Subcuenta]],5,FALSE))","v":""}]
[null,null,null,{"$f":"IF(ISERROR(VLOOKUP(Tabla_Asiento_2[[#This Row],[Cta]],PGCtotal[[Nivel 3]:[Subcuenta]],5,FALSE)),\"\",VLOOKUP(Tabla_Asiento_2[[#This Row],[Cta]],PGCtotal[[Nivel 3]:[Subcuenta]],5,FALSE))","v":""}]
[null,null,null,{"$f":"IF(ISERROR(VLOOKUP(Tabla_Asiento_2[[#This Row],[Cta]],PGCtotal[[Nivel 3]:[Subcuenta]],5,FALSE)),\"\",VLOOKUP(Tabla_Asiento_2[[#This Row],[Cta]],PGCtotal[[Nivel 3]:[Subcuenta]],5,FALSE))","v":""}]
[null,null,null,{"$f":"IF(ISERROR(VLOOKUP(Tabla_Asiento_2[[#This Row],[Cta]],PGCtotal[[Nivel 3]:[Subcuenta]],5,FALSE)),\"\",VLOOKUP(Tabla_Asiento_2[[#This Row],[Cta]],PGCtotal[[Nivel 3]:[Subcuenta]],5,FALSE))","v":""}]
[null,null,null,{"$f":"IF(ISERROR(VLOOKUP(Tabla_Asiento_2[[#This Row],[Cta]],PGCtotal[[Nivel 3]:[Subcuenta]],5,FALSE)),\"\",VLOOKUP(Tabla_Asiento_2[[#This Row],[Cta]],PGCtotal[[Nivel 3]:[Subcuenta]],5,FALSE))","v":""}]
[null,null,null,{"$f":"IF(ISERROR(VLOOKUP(Tabla_Asiento_2[[#This Row],[Cta]],PGCtotal[[Nivel 3]:[Subcuenta]],5,FALSE)),\"\",VLOOKUP(Tabla_Asiento_2[[#This Row],[Cta]],PGCtotal[[Nivel 3]:[Subcuenta]],5,FALSE))","v":""}]
[null,null,null,{"$f":"IF(ISERROR(VLOOKUP(Tabla_Asiento_2[[#This Row],[Cta]],PGCtotal[[Nivel 3]:[Subcuenta]],5,FALSE)),\"\",VLOOKUP(Tabla_Asiento_2[[#This Row],[Cta]],PGCtotal[[Nivel 3]:[Subcuenta]],5,FALSE))","v":""}]
[null,null,null,{"$f":"IF(ISERROR(VLOOKUP(Tabla_Asiento_2[[#This Row],[Cta]],PGCtotal[[Nivel 3]:[Subcuenta]],5,FALSE)),\"\",VLOOKUP(Tabla_Asiento_2[[#This Row],[Cta]],PGCtotal[[Nivel 3]:[Subcuenta]],5,FALSE))","v":""}]
[null,null,null,{"$f":"IF(ISERROR(VLOOKUP(Tabla_Asiento_2[[#This Row],[Cta]],PGCtotal[[Nivel 3]:[Subcuenta]],5,FALSE)),\"\",VLOOKUP(Tabla_Asiento_2[[#This Row],[Cta]],PGCtotal[[Nivel 3]:[Subcuenta]],5,FALSE))","v":""}]
[null,null,null,{"$f":"IF(ISERROR(VLOOKUP(Tabla_Asiento_2[[#This Row],[Cta]],PGCtotal[[Nivel 3]:[Subcuenta]],5,FALSE)),\"\",VLOOKUP(Tabla_Asiento_2[[#This Row],[Cta]],PGCtotal[[Nivel 3]:[Subcuenta]],5,FALSE))","v":""}]
[null,null,null,{"$f":"IF(ISERROR(VLOOKUP(Tabla_Asiento_2[[#This Row],[Cta]],PGCtotal[[Nivel 3]:[Subcuenta]],5,FALSE)),\"\",VLOOKUP(Tabla_Asiento_2[[#This Row],[Cta]],PGCtotal[[Nivel 3]:[Subcuenta]],5,FALSE))","v":""}]
[null,null,null,{"$f":"IF(ISERROR(VLOOKUP(Tabla_Asiento_2[[#This Row],[Cta]],PGCtotal[[Nivel 3]:[Subcuenta]],5,FALSE)),\"\",VLOOKUP(Tabla_Asiento_2[[#This Row],[Cta]],PGCtotal[[Nivel 3]:[Subcuenta]],5,FALSE))","v":""}]
[null,null,null,{"$f":"IF(ISERROR(VLOOKUP(Tabla_Asiento_2[[#This Row],[Cta]],PGCtotal[[Nivel 3]:[Subcuenta]],5,FALSE)),\"\",VLOOKUP(Tabla_Asiento_2[[#This Row],[Cta]],PGCtotal[[Nivel 3]:[Subcuenta]],5,FALSE))","v":""}]
[null,null,null,{"$f":"IF(ISERROR(VLOOKUP(Tabla_Asiento_2[[#This Row],[Cta]],PGCtotal[[Nivel 3]:[Subcuenta]],5,FALSE)),\"\",VLOOKUP(Tabla_Asiento_2[[#This Row],[Cta]],PGCtotal[[Nivel 3]:[Subcuenta]],5,FALSE))","v":""}]
[null,null,null,{"$f":"IF(ISERROR(VLOOKUP(Tabla_Asiento_2[[#This Row],[Cta]],PGCtotal[[Nivel 3]:[Subcuenta]],5,FALSE)),\"\",VLOOKUP(Tabla_Asiento_2[[#This Row],[Cta]],PGCtotal[[Nivel 3]:[Subcuenta]],5,FALSE))","v":""}]
[null,null,null,{"$f":"IF(ISERROR(VLOOKUP(Tabla_Asiento_2[[#This Row],[Cta]],PGCtotal[[Nivel 3]:[Subcuenta]],5,FALSE)),\"\",VLOOKUP(Tabla_Asiento_2[[#This Row],[Cta]],PGCtotal[[Nivel 3]:[Subcuenta]],5,FALSE))","v":""}]
[null,null,null,{"$f":"IF(ISERROR(VLOOKUP(Tabla_Asiento_2[[#This Row],[Cta]],PGCtotal[[Nivel 3]:[Subcuenta]],5,FALSE)),\"\",VLOOKUP(Tabla_Asiento_2[[#This Row],[Cta]],PGCtotal[[Nivel 3]:[Subcuenta]],5,FALSE))","v":""}]
[null,null,null,{"$f":"IF(ISERROR(VLOOKUP(Tabla_Asiento_2[[#This Row],[Cta]],PGCtotal[[Nivel 3]:[Subcuenta]],5,FALSE)),\"\",VLOOKUP(Tabla_Asiento_2[[#This Row],[Cta]],PGCtotal[[Nivel 3]:[Subcuenta]],5,FALSE))","v":""}]
[null,null,null,{"$f":"IF(ISERROR(VLOOKUP(Tabla_Asiento_2[[#This Row],[Cta]],PGCtotal[[Nivel 3]:[Subcuenta]],5,FALSE)),\"\",VLOOKUP(Tabla_Asiento_2[[#This Row],[Cta]],PGCtotal[[Nivel 3]:[Subcuenta]],5,FALSE))","v":""}]
[null,null,null,{"$f":"IF(ISERROR(VLOOKUP(Tabla_Asiento_2[[#This Row],[Cta]],PGCtotal[[Nivel 3]:[Subcuenta]],5,FALSE)),\"\",VLOOKUP(Tabla_Asiento_2[[#This Row],[Cta]],PGCtotal[[Nivel 3]:[Subcuenta]],5,FALSE))","v":""}]
[null,null,null,{"$f":"IF(ISERROR(VLOOKUP(Tabla_Asiento_2[[#This Row],[Cta]],PGCtotal[[Nivel 3]:[Subcuenta]],5,FALSE)),\"\",VLOOKUP(Tabla_Asiento_2[[#This Row],[Cta]],PGCtotal[[Nivel 3]:[Subcuenta]],5,FALSE))","v":""}]
[null,null,null,{"$f":"IF(ISERROR(VLOOKUP(Tabla_Asiento_2[[#This Row],[Cta]],PGCtotal[[Nivel 3]:[Subcuenta]],5,FALSE)),\"\",VLOOKUP(Tabla_Asiento_2[[#This Row],[Cta]],PGCtotal[[Nivel 3]:[Subcuenta]],5,FALSE))","v":""}]
[null,null,null,{"$f":"IF(ISERROR(VLOOKUP(Tabla_Asiento_2[[#This Row],[Cta]],PGCtotal[[Nivel 3]:[Subcuenta]],5,FALSE)),\"\",VLOOKUP(Tabla_Asiento_2[[#This Row],[Cta]],PGCtotal[[Nivel 3]:[Subcuenta]],5,FALSE))","v":""}]
[null,null,null,{"$f":"IF(ISERROR(VLOOKUP(Tabla_Asiento_2[[#This Row],[Cta]],PGCtotal[[Nivel 3]:[Subcuenta]],5,FALSE)),\"\",VLOOKUP(Tabla_Asiento_2[[#This Row],[Cta]],PGCtotal[[Nivel 3]:[Subcuenta]],5,FALSE))","v":""}]
[null,null,null,{"$f":"IF(ISERROR(VLOOKUP(Tabla_Asiento_2[[#This Row],[Cta]],PGCtotal[[Nivel 3]:[Subcuenta]],5,FALSE)),\"\",VLOOKUP(Tabla_Asiento_2[[#This Row],[Cta]],PGCtotal[[Nivel 3]:[Subcuenta]],5,FALSE))","v":""}]
[null,null,null,{"$f":"IF(ISERROR(VLOOKUP(Tabla_Asiento_2[[#This Row],[Cta]],PGCtotal[[Nivel 3]:[Subcuenta]],5,FALSE)),\"\",VLOOKUP(Tabla_Asiento_2[[#This Row],[Cta]],PGCtotal[[Nivel 3]:[Subcuenta]],5,FALSE))","v":""}]
[null,null,null,{"$f":"IF(ISERROR(VLOOKUP(Tabla_Asiento_2[[#This Row],[Cta]],PGCtotal[[Nivel 3]:[Subcuenta]],5,FALSE)),\"\",VLOOKUP(Tabla_Asiento_2[[#This Row],[Cta]],PGCtotal[[Nivel 3]:[Subcuenta]],5,FALSE))","v":""}]
[null,null,null,{"$f":"IF(ISERROR(VLOOKUP(Tabla_Asiento_2[[#This Row],[Cta]],PGCtotal[[Nivel 3]:[Subcuenta]],5,FALSE)),\"\",VLOOKUP(Tabla_Asiento_2[[#This Row],[Cta]],PGCtotal[[Nivel 3]:[Subcuenta]],5,FALSE))","v":""}]
[null,null,null,{"$f":"IF(ISERROR(VLOOKUP(Tabla_Asiento_2[[#This Row],[Cta]],PGCtotal[[Nivel 3]:[Subcuenta]],5,FALSE)),\"\",VLOOKUP(Tabla_Asiento_2[[#This Row],[Cta]],PGCtotal[[Nivel 3]:[Subcuenta]],5,FALSE))","v":""}]
[null,null,null,{"$f":"IF(ISERROR(VLOOKUP(Tabla_Asiento_2[[#This Row],[Cta]],PGCtotal[[Nivel 3]:[Subcuenta]],5,FALSE)),\"\",VLOOKUP(Tabla_Asiento_2[[#This Row],[Cta]],PGCtotal[[Nivel 3]:[Subcuenta]],5,FALSE))","v":""}]
[null,null,null,{"$f":"IF(ISERROR(VLOOKUP(Tabla_Asiento_2[[#This Row],[Cta]],PGCtotal[[Nivel 3]:[Subcuenta]],5,FALSE)),\"\",VLOOKUP(Tabla_Asiento_2[[#This Row],[Cta]],PGCtotal[[Nivel 3]:[Subcuenta]],5,FALSE))","v":""}]
[null,null,null,{"$f":"IF(ISERROR(VLOOKUP(Tabla_Asiento_2[[#This Row],[Cta]],PGCtotal[[Nivel 3]:[Subcuenta]],5,FALSE)),\"\",VLOOKUP(Tabla_Asiento_2[[#This Row],[Cta]],PGCtotal[[Nivel 3]:[Subcuenta]],5,FALSE))","v":""}]
[null,null,null,{"$f":"IF(ISERROR(VLOOKUP(Tabla_Asiento_2[[#This Row],[Cta]],PGCtotal[[Nivel 3]:[Subcuenta]],5,FALSE)),\"\",VLOOKUP(Tabla_Asiento_2[[#This Row],[Cta]],PGCtotal[[Nivel 3]:[Subcuenta]],5,FALSE))","v":""}]
[null,null,null,{"$f":"IF(ISERROR(VLOOKUP(Tabla_Asiento_2[[#This Row],[Cta]],PGCtotal[[Nivel 3]:[Subcuenta]],5,FALSE)),\"\",VLOOKUP(Tabla_Asiento_2[[#This Row],[Cta]],PGCtotal[[Nivel 3]:[Subcuenta]],5,FALSE))","v":""}]
[null,null,null,{"$f":"IF(ISERROR(VLOOKUP(Tabla_Asiento_2[[#This Row],[Cta]],PGCtotal[[Nivel 3]:[Subcuenta]],5,FALSE)),\"\",VLOOKUP(Tabla_Asiento_2[[#This Row],[Cta]],PGCtotal[[Nivel 3]:[Subcuenta]],5,FALSE))","v":""}]
[null,null,null,{"$f":"IF(ISERROR(VLOOKUP(Tabla_Asiento_2[[#This Row],[Cta]],PGCtotal[[Nivel 3]:[Subcuenta]],5,FALSE)),\"\",VLOOKUP(Tabla_Asiento_2[[#This Row],[Cta]],PGCtotal[[Nivel 3]:[Subcuenta]],5,FALSE))","v":""}]
[null,null,null,{"$f":"IF(ISERROR(VLOOKUP(Tabla_Asiento_2[[#This Row],[Cta]],PGCtotal[[Nivel 3]:[Subcuenta]],5,FALSE)),\"\",VLOOKUP(Tabla_Asiento_2[[#This Row],[Cta]],PGCtotal[[Nivel 3]:[Subcuenta]],5,FALSE))","v":""}]
[null,null,null,{"$f":"IF(ISERROR(VLOOKUP(Tabla_Asiento_2[[#This Row],[Cta]],PGCtotal[[Nivel 3]:[Subcuenta]],5,FALSE)),\"\",VLOOKUP(Tabla_Asiento_2[[#This Row],[Cta]],PGCtotal[[Nivel 3]:[Subcuenta]],5,FALSE))","v":""}]
[null,null,null,{"$f":"IF(ISERROR(VLOOKUP(Tabla_Asiento_2[[#This Row],[Cta]],PGCtotal[[Nivel 3]:[Subcuenta]],5,FALSE)),\"\",VLOOKUP(Tabla_Asiento_2[[#This Row],[Cta]],PGCtotal[[Nivel 3]:[Subcuenta]],5,FALSE))","v":""}]
[null,null,null,{"$f":"IF(ISERROR(VLOOKUP(Tabla_Asiento_2[[#This Row],[Cta]],PGCtotal[[Nivel 3]:[Subcuenta]],5,FALSE)),\"\",VLOOKUP(Tabla_Asiento_2[[#This Row],[Cta]],PGCtotal[[Nivel 3]:[Subcuenta]],5,FALSE))","v":""}]
[null,null,null,{"$f":"IF(ISERROR(VLOOKUP(Tabla_Asiento_2[[#This Row],[Cta]],PGCtotal[[Nivel 3]:[Subcuenta]],5,FALSE)),\"\",VLOOKUP(Tabla_Asiento_2[[#This Row],[Cta]],PGCtotal[[Nivel 3]:[Subcuenta]],5,FALSE))","v":""}]
[null,null,null,{"$f":"IF(ISERROR(VLOOKUP(Tabla_Asiento_2[[#This Row],[Cta]],PGCtotal[[Nivel 3]:[Subcuenta]],5,FALSE)),\"\",VLOOKUP(Tabla_Asiento_2[[#This Row],[Cta]],PGCtotal[[Nivel 3]:[Subcuenta]],5,FALSE))","v":""}]
[null,null,null,{"$f":"IF(ISERROR(VLOOKUP(Tabla_Asiento_2[[#This Row],[Cta]],PGCtotal[[Nivel 3]:[Subcuenta]],5,FALSE)),\"\",VLOOKUP(Tabla_Asiento_2[[#This Row],[Cta]],PGCtotal[[Nivel 3]:[Subcuenta]],5,FALSE))","v":""}]
[null,null,null,{"$f":"IF(ISERROR(VLOOKUP(Tabla_Asiento_2[[#This Row],[Cta]],PGCtotal[[Nivel 3]:[Subcuenta]],5,FALSE)),\"\",VLOOKUP(Tabla_Asiento_2[[#This Row],[Cta]],PGCtotal[[Nivel 3]:[Subcuenta]],5,FALSE))","v":""}]
[null,null,null,{"$f":"IF(ISERROR(VLOOKUP(Tabla_Asiento_2[[#This Row],[Cta]],PGCtotal[[Nivel 3]:[Subcuenta]],5,FALSE)),\"\",VLOOKUP(Tabla_Asiento_2[[#This Row],[Cta]],PGCtotal[[Nivel 3]:[Subcuenta]],5,FALSE))","v":""}]
[null,null,null,{"$f":"IF(ISERROR(VLOOKUP(Tabla_Asiento_2[[#This Row],[Cta]],PGCtotal[[Nivel 3]:[Subcuenta]],5,FALSE)),\"\",VLOOKUP(Tabla_Asiento_2[[#This Row],[Cta]],PGCtotal[[Nivel 3]:[Subcuenta]],5,FALSE))","v":""}]
[null,null,null,{"$f":"IF(ISERROR(VLOOKUP(Tabla_Asiento_2[[#This Row],[Cta]],PGCtotal[[Nivel 3]:[Subcuenta]],5,FALSE)),\"\",VLOOKUP(Tabla_Asiento_2[[#This Row],[Cta]],PGCtotal[[Nivel 3]:[Subcuenta]],5,FALSE))","v":""}]
[null,null,null,{"$f":"IF(ISERROR(VLOOKUP(Tabla_Asiento_2[[#This Row],[Cta]],PGCtotal[[Nivel 3]:[Subcuenta]],5,FALSE)),\"\",VLOOKUP(Tabla_Asiento_2[[#This Row],[Cta]],PGCtotal[[Nivel 3]:[Subcuenta]],5,FALSE))","v":""}]
[null,null,null,{"$f":"IF(ISERROR(VLOOKUP(Tabla_Asiento_2[[#This Row],[Cta]],PGCtotal[[Nivel 3]:[Subcuenta]],5,FALSE)),\"\",VLOOKUP(Tabla_Asiento_2[[#This Row],[Cta]],PGCtotal[[Nivel 3]:[Subcuenta]],5,FALSE))","v":""}]
[null,null,null,{"$f":"IF(ISERROR(VLOOKUP(Tabla_Asiento_2[[#This Row],[Cta]],PGCtotal[[Nivel 3]:[Subcuenta]],5,FALSE)),\"\",VLOOKUP(Tabla_Asiento_2[[#This Row],[Cta]],PGCtotal[[Nivel 3]:[Subcuenta]],5,FALSE))","v":""}]
[null,null,null,{"$f":"IF(ISERROR(VLOOKUP(Tabla_Asiento_2[[#This Row],[Cta]],PGCtotal[[Nivel 3]:[Subcuenta]],5,FALSE)),\"\",VLOOKUP(Tabla_Asiento_2[[#This Row],[Cta]],PGCtotal[[Nivel 3]:[Subcuenta]],5,FALSE))","v":""}]
[null,null,null,{"$f":"IF(ISERROR(VLOOKUP(Tabla_Asiento_2[[#This Row],[Cta]],PGCtotal[[Nivel 3]:[Subcuenta]],5,FALSE)),\"\",VLOOKUP(Tabla_Asiento_2[[#This Row],[Cta]],PGCtotal[[Nivel 3]:[Subcuenta]],5,FALSE))","v":""}]
[null,null,null,{"$f":"IF(ISERROR(VLOOKUP(Tabla_Asiento_2[[#This Row],[Cta]],PGCtotal[[Nivel 3]:[Subcuenta]],5,FALSE)),\"\",VLOOKUP(Tabla_Asiento_2[[#This Row],[Cta]],PGCtotal[[Nivel 3]:[Subcuenta]],5,FALSE))","v":""}]
[null,null,null,{"$f":"IF(ISERROR(VLOOKUP(Tabla_Asiento_2[[#This Row],[Cta]],PGCtotal[[Nivel 3]:[Subcuenta]],5,FALSE)),\"\",VLOOKUP(Tabla_Asiento_2[[#This Row],[Cta]],PGCtotal[[Nivel 3]:[Subcuenta]],5,FALSE))","v":""}]
[null,null,null,{"$f":"IF(ISERROR(VLOOKUP(Tabla_Asiento_2[[#This Row],[Cta]],PGCtotal[[Nivel 3]:[Subcuenta]],5,FALSE)),\"\",VLOOKUP(Tabla_Asiento_2[[#This Row],[Cta]],PGCtotal[[Nivel 3]:[Subcuenta]],5,FALSE))","v":""}]
[null,null,null,{"$f":"IF(ISERROR(VLOOKUP(Tabla_Asiento_2[[#This Row],[Cta]],PGCtotal[[Nivel 3]:[Subcuenta]],5,FALSE)),\"\",VLOOKUP(Tabla_Asiento_2[[#This Row],[Cta]],PGCtotal[[Nivel 3]:[Subcuenta]],5,FALSE))","v":""}]
[null,null,null,{"$f":"IF(ISERROR(VLOOKUP(Tabla_Asiento_2[[#This Row],[Cta]],PGCtotal[[Nivel 3]:[Subcuenta]],5,FALSE)),\"\",VLOOKUP(Tabla_Asiento_2[[#This Row],[Cta]],PGCtotal[[Nivel 3]:[Subcuenta]],5,FALSE))","v":""}]
[null,null,null,{"$f":"IF(ISERROR(VLOOKUP(Tabla_Asiento_2[[#This Row],[Cta]],PGCtotal[[Nivel 3]:[Subcuenta]],5,FALSE)),\"\",VLOOKUP(Tabla_Asiento_2[[#This Row],[Cta]],PGCtotal[[Nivel 3]:[Subcuenta]],5,FALSE))","v":""}]
[null,null,null,{"$f":"IF(ISERROR(VLOOKUP(Tabla_Asiento_2[[#This Row],[Cta]],PGCtotal[[Nivel 3]:[Subcuenta]],5,FALSE)),\"\",VLOOKUP(Tabla_Asiento_2[[#This Row],[Cta]],PGCtotal[[Nivel 3]:[Subcuenta]],5,FALSE))","v":""}]
[null,null,null,{"$f":"IF(ISERROR(VLOOKUP(Tabla_Asiento_2[[#This Row],[Cta]],PGCtotal[[Nivel 3]:[Subcuenta]],5,FALSE)),\"\",VLOOKUP(Tabla_Asiento_2[[#This Row],[Cta]],PGCtotal[[Nivel 3]:[Subcuenta]],5,FALSE))","v":""}]
[null,null,null,{"$f":"IF(ISERROR(VLOOKUP(Tabla_Asiento_2[[#This Row],[Cta]],PGCtotal[[Nivel 3]:[Subcuenta]],5,FALSE)),\"\",VLOOKUP(Tabla_Asiento_2[[#This Row],[Cta]],PGCtotal[[Nivel 3]:[Subcuenta]],5,FALSE))","v":""}]
[null,null,null,{"$f":"IF(ISERROR(VLOOKUP(Tabla_Asiento_2[[#This Row],[Cta]],PGCtotal[[Nivel 3]:[Subcuenta]],5,FALSE)),\"\",VLOOKUP(Tabla_Asiento_2[[#This Row],[Cta]],PGCtotal[[Nivel 3]:[Subcuenta]],5,FALSE))","v":""}]
[null,null,null,{"$f":"IF(ISERROR(VLOOKUP(Tabla_Asiento_2[[#This Row],[Cta]],PGCtotal[[Nivel 3]:[Subcuenta]],5,FALSE)),\"\",VLOOKUP(Tabla_Asiento_2[[#This Row],[Cta]],PGCtotal[[Nivel 3]:[Subcuenta]],5,FALSE))","v":""}]
[null,null,null,{"$f":"IF(ISERROR(VLOOKUP(Tabla_Asiento_2[[#This Row],[Cta]],PGCtotal[[Nivel 3]:[Subcuenta]],5,FALSE)),\"\",VLOOKUP(Tabla_Asiento_2[[#This Row],[Cta]],PGCtotal[[Nivel 3]:[Subcuenta]],5,FALSE))","v":""}]
[null,null,null,{"$f":"IF(ISERROR(VLOOKUP(Tabla_Asiento_2[[#This Row],[Cta]],PGCtotal[[Nivel 3]:[Subcuenta]],5,FALSE)),\"\",VLOOKUP(Tabla_Asiento_2[[#This Row],[Cta]],PGCtotal[[Nivel 3]:[Subcuenta]],5,FALSE))","v":""}]
[null,null,null,{"$f":"IF(ISERROR(VLOOKUP(Tabla_Asiento_2[[#This Row],[Cta]],PGCtotal[[Nivel 3]:[Subcuenta]],5,FALSE)),\"\",VLOOKUP(Tabla_Asiento_2[[#This Row],[Cta]],PGCtotal[[Nivel 3]:[Subcuenta]],5,FALSE))","v":""}]
[null,null,null,{"$f":"IF(ISERROR(VLOOKUP(Tabla_Asiento_2[[#This Row],[Cta]],PGCtotal[[Nivel 3]:[Subcuenta]],5,FALSE)),\"\",VLOOKUP(Tabla_Asiento_2[[#This Row],[Cta]],PGCtotal[[Nivel 3]:[Subcuenta]],5,FALSE))","v":""}]
[null,null,null,{"$f":"IF(ISERROR(VLOOKUP(Tabla_Asiento_2[[#This Row],[Cta]],PGCtotal[[Nivel 3]:[Subcuenta]],5,FALSE)),\"\",VLOOKUP(Tabla_Asiento_2[[#This Row],[Cta]],PGCtotal[[Nivel 3]:[Subcuenta]],5,FALSE))","v":""}]
[null,null,null,{"$f":"IF(ISERROR(VLOOKUP(Tabla_Asiento_2[[#This Row],[Cta]],PGCtotal[[Nivel 3]:[Subcuenta]],5,FALSE)),\"\",VLOOKUP(Tabla_Asiento_2[[#This Row],[Cta]],PGCtotal[[Nivel 3]:[Subcuenta]],5,FALSE))","v":""}]
[null,null,null,{"$f":"IF(ISERROR(VLOOKUP(Tabla_Asiento_2[[#This Row],[Cta]],PGCtotal[[Nivel 3]:[Subcuenta]],5,FALSE)),\"\",VLOOKUP(Tabla_Asiento_2[[#This Row],[Cta]],PGCtotal[[Nivel 3]:[Subcuenta]],5,FALSE))","v":""}]
[null,null,null,{"$f":"IF(ISERROR(VLOOKUP(Tabla_Asiento_2[[#This Row],[Cta]],PGCtotal[[Nivel 3]:[Subcuenta]],5,FALSE)),\"\",VLOOKUP(Tabla_Asiento_2[[#This Row],[Cta]],PGCtotal[[Nivel 3]:[Subcuenta]],5,FALSE))","v":""}]
[null,null,null,{"$f":"IF(ISERROR(VLOOKUP(Tabla_Asiento_2[[#This Row],[Cta]],PGCtotal[[Nivel 3]:[Subcuenta]],5,FALSE)),\"\",VLOOKUP(Tabla_Asiento_2[[#This Row],[Cta]],PGCtotal[[Nivel 3]:[Subcuenta]],5,FALSE))","v":""}]
[null,null,null,{"$f":"IF(ISERROR(VLOOKUP(Tabla_Asiento_2[[#This Row],[Cta]],PGCtotal[[Nivel 3]:[Subcuenta]],5,FALSE)),\"\",VLOOKUP(Tabla_Asiento_2[[#This Row],[Cta]],PGCtotal[[Nivel 3]:[Subcuenta]],5,FALSE))","v":""}]
[null,null,null,{"$f":"IF(ISERROR(VLOOKUP(Tabla_Asiento_2[[#This Row],[Cta]],PGCtotal[[Nivel 3]:[Subcuenta]],5,FALSE)),\"\",VLOOKUP(Tabla_Asiento_2[[#This Row],[Cta]],PGCtotal[[Nivel 3]:[Subcuenta]],5,FALSE))","v":""}]
[null,null,null,{"$f":"IF(ISERROR(VLOOKUP(Tabla_Asiento_2[[#This Row],[Cta]],PGCtotal[[Nivel 3]:[Subcuenta]],5,FALSE)),\"\",VLOOKUP(Tabla_Asiento_2[[#This Row],[Cta]],PGCtotal[[Nivel 3]:[Subcuenta]],5,FALSE))","v":""}]
[null,null,null,{"$f":"IF(ISERROR(VLOOKUP(Tabla_Asiento_2[[#This Row],[Cta]],PGCtotal[[Nivel 3]:[Subcuenta]],5,FALSE)),\"\",VLOOKUP(Tabla_Asiento_2[[#This Row],[Cta]],PGCtotal[[Nivel 3]:[Subcuenta]],5,FALSE))","v":""}]
[null,null,null,{"$f":"IF(ISERROR(VLOOKUP(Tabla_Asiento_2[[#This Row],[Cta]],PGCtotal[[Nivel 3]:[Subcuenta]],5,FALSE)),\"\",VLOOKUP(Tabla_Asiento_2[[#This Row],[Cta]],PGCtotal[[Nivel 3]:[Subcuenta]],5,FALSE))","v":""}]
[null,null,null,{"$f":"IF(ISERROR(VLOOKUP(Tabla_Asiento_2[[#This Row],[Cta]],PGCtotal[[Nivel 3]:[Subcuenta]],5,FALSE)),\"\",VLOOKUP(Tabla_Asiento_2[[#This Row],[Cta]],PGCtotal[[Nivel 3]:[Subcuenta]],5,FALSE))","v":""}]
[null,null,null,{"$f":"IF(ISERROR(VLOOKUP(Tabla_Asiento_2[[#This Row],[Cta]],PGCtotal[[Nivel 3]:[Subcuenta]],5,FALSE)),\"\",VLOOKUP(Tabla_Asiento_2[[#This Row],[Cta]],PGCtotal[[Nivel 3]:[Subcuenta]],5,FALSE))","v":""}]
[null,null,null,{"$f":"IF(ISERROR(VLOOKUP(Tabla_Asiento_2[[#This Row],[Cta]],PGCtotal[[Nivel 3]:[Subcuenta]],5,FALSE)),\"\",VLOOKUP(Tabla_Asiento_2[[#This Row],[Cta]],PGCtotal[[Nivel 3]:[Subcuenta]],5,FALSE))","v":""}]
[null,null,null,{"$f":"IF(ISERROR(VLOOKUP(Tabla_Asiento_2[[#This Row],[Cta]],PGCtotal[[Nivel 3]:[Subcuenta]],5,FALSE)),\"\",VLOOKUP(Tabla_Asiento_2[[#This Row],[Cta]],PGCtotal[[Nivel 3]:[Subcuenta]],5,FALSE))","v":""}]
[null,null,null,{"$f":"IF(ISERROR(VLOOKUP(Tabla_Asiento_2[[#This Row],[Cta]],PGCtotal[[Nivel 3]:[Subcuenta]],5,FALSE)),\"\",VLOOKUP(Tabla_Asiento_2[[#This Row],[Cta]],PGCtotal[[Nivel 3]:[Subcuenta]],5,FALSE))","v":""}]
[null,null,null,{"$f":"IF(ISERROR(VLOOKUP(Tabla_Asiento_2[[#This Row],[Cta]],PGCtotal[[Nivel 3]:[Subcuenta]],5,FALSE)),\"\",VLOOKUP(Tabla_Asiento_2[[#This Row],[Cta]],PGCtotal[[Nivel 3]:[Subcuenta]],5,FALSE))","v":""}]
[null,null,null,{"$f":"IF(ISERROR(VLOOKUP(Tabla_Asiento_2[[#This Row],[Cta]],PGCtotal[[Nivel 3]:[Subcuenta]],5,FALSE)),\"\",VLOOKUP(Tabla_Asiento_2[[#This Row],[Cta]],PGCtotal[[Nivel 3]:[Subcuenta]],5,FALSE))","v":""}]
[null,null,null,{"$f":"IF(ISERROR(VLOOKUP(Tabla_Asiento_2[[#This Row],[Cta]],PGCtotal[[Nivel 3]:[Subcuenta]],5,FALSE)),\"\",VLOOKUP(Tabla_Asiento_2[[#This Row],[Cta]],PGCtotal[[Nivel 3]:[Subcuenta]],5,FALSE))","v":""}]
[null,null,null,{"$f":"IF(ISERROR(VLOOKUP(Tabla_Asiento_2[[#This Row],[Cta]],PGCtotal[[Nivel 3]:[Subcuenta]],5,FALSE)),\"\",VLOOKUP(Tabla_Asiento_2[[#This Row],[Cta]],PGCtotal[[Nivel 3]:[Subcuenta]],5,FALSE))","v":""}]
[null,null,null,{"$f":"IF(ISERROR(VLOOKUP(Tabla_Asiento_2[[#This Row],[Cta]],PGCtotal[[Nivel 3]:[Subcuenta]],5,FALSE)),\"\",VLOOKUP(Tabla_Asiento_2[[#This Row],[Cta]],PGCtotal[[Nivel 3]:[Subcuenta]],5,FALSE))","v":""}]
[null,null,null,{"$f":"IF(ISERROR(VLOOKUP(Tabla_Asiento_2[[#This Row],[Cta]],PGCtotal[[Nivel 3]:[Subcuenta]],5,FALSE)),\"\",VLOOKUP(Tabla_Asiento_2[[#This Row],[Cta]],PGCtotal[[Nivel 3]:[Subcuenta]],5,FALSE))","v":""}]
[null,null,null,{"$f":"IF(ISERROR(VLOOKUP(Tabla_Asiento_2[[#This Row],[Cta]],PGCtotal[[Nivel 3]:[Subcuenta]],5,FALSE)),\"\",VLOOKUP(Tabla_Asiento_2[[#This Row],[Cta]],PGCtotal[[Nivel 3]:[Subcuenta]],5,FALSE))","v":""}]
[null,null,null,{"$f":"IF(ISERROR(VLOOKUP(Tabla_Asiento_2[[#This Row],[Cta]],PGCtotal[[Nivel 3]:[Subcuenta]],5,FALSE)),\"\",VLOOKUP(Tabla_Asiento_2[[#This Row],[Cta]],PGCtotal[[Nivel 3]:[Subcuenta]],5,FALSE))","v":""}]
[null,null,null,{"$f":"IF(ISERROR(VLOOKUP(Tabla_Asiento_2[[#This Row],[Cta]],PGCtotal[[Nivel 3]:[Subcuenta]],5,FALSE)),\"\",VLOOKUP(Tabla_Asiento_2[[#This Row],[Cta]],PGCtotal[[Nivel 3]:[Subcuenta]],5,FALSE))","v":""}]
[null,null,null,{"$f":"IF(ISERROR(VLOOKUP(Tabla_Asiento_2[[#This Row],[Cta]],PGCtotal[[Nivel 3]:[Subcuenta]],5,FALSE)),\"\",VLOOKUP(Tabla_Asiento_2[[#This Row],[Cta]],PGCtotal[[Nivel 3]:[Subcuenta]],5,FALSE))","v":""}]
[null,null,null,{"$f":"IF(ISERROR(VLOOKUP(Tabla_Asiento_2[[#This Row],[Cta]],PGCtotal[[Nivel 3]:[Subcuenta]],5,FALSE)),\"\",VLOOKUP(Tabla_Asiento_2[[#This Row],[Cta]],PGCtotal[[Nivel 3]:[Subcuenta]],5,FALSE))","v":""}]
[null,null,null,{"$f":"IF(ISERROR(VLOOKUP(Tabla_Asiento_2[[#This Row],[Cta]],PGCtotal[[Nivel 3]:[Subcuenta]],5,FALSE)),\"\",VLOOKUP(Tabla_Asiento_2[[#This Row],[Cta]],PGCtotal[[Nivel 3]:[Subcuenta]],5,FALSE))","v":""}]
[null,null,null,{"$f":"IF(ISERROR(VLOOKUP(Tabla_Asiento_2[[#This Row],[Cta]],PGCtotal[[Nivel 3]:[Subcuenta]],5,FALSE)),\"\",VLOOKUP(Tabla_Asiento_2[[#This Row],[Cta]],PGCtotal[[Nivel 3]:[Subcuenta]],5,FALSE))","v":""}]
[null,null,null,{"$f":"IF(ISERROR(VLOOKUP(Tabla_Asiento_2[[#This Row],[Cta]],PGCtotal[[Nivel 3]:[Subcuenta]],5,FALSE)),\"\",VLOOKUP(Tabla_Asiento_2[[#This Row],[Cta]],PGCtotal[[Nivel 3]:[Subcuenta]],5,FALSE))","v":""}]
[null,null,null,{"$f":"IF(ISERROR(VLOOKUP(Tabla_Asiento_2[[#This Row],[Cta]],PGCtotal[[Nivel 3]:[Subcuenta]],5,FALSE)),\"\",VLOOKUP(Tabla_Asiento_2[[#This Row],[Cta]],PGCtotal[[Nivel 3]:[Subcuenta]],5,FALSE))","v":""}]
[null,null,null,{"$f":"IF(ISERROR(VLOOKUP(Tabla_Asiento_2[[#This Row],[Cta]],PGCtotal[[Nivel 3]:[Subcuenta]],5,FALSE)),\"\",VLOOKUP(Tabla_Asiento_2[[#This Row],[Cta]],PGCtotal[[Nivel 3]:[Subcuenta]],5,FALSE))","v":""}]
[null,null,null,{"$f":"IF(ISERROR(VLOOKUP(Tabla_Asiento_2[[#This Row],[Cta]],PGCtotal[[Nivel 3]:[Subcuenta]],5,FALSE)),\"\",VLOOKUP(Tabla_Asiento_2[[#This Row],[Cta]],PGCtotal[[Nivel 3]:[Subcuenta]],5,FALSE))","v":""}]
[null,null,null,{"$f":"IF(ISERROR(VLOOKUP(Tabla_Asiento_2[[#This Row],[Cta]],PGCtotal[[Nivel 3]:[Subcuenta]],5,FALSE)),\"\",VLOOKUP(Tabla_Asiento_2[[#This Row],[Cta]],PGCtotal[[Nivel 3]:[Subcuenta]],5,FALSE))","v":""}]
[null,null,null,{"$f":"IF(ISERROR(VLOOKUP(Tabla_Asiento_2[[#This Row],[Cta]],PGCtotal[[Nivel 3]:[Subcuenta]],5,FALSE)),\"\",VLOOKUP(Tabla_Asiento_2[[#This Row],[Cta]],PGCtotal[[Nivel 3]:[Subcuenta]],5,FALSE))","v":""}]
[null,null,null,{"$f":"IF(ISERROR(VLOOKUP(Tabla_Asiento_2[[#This Row],[Cta]],PGCtotal[[Nivel 3]:[Subcuenta]],5,FALSE)),\"\",VLOOKUP(Tabla_Asiento_2[[#This Row],[Cta]],PGCtotal[[Nivel 3]:[Subcuenta]],5,FALSE))","v":""}]
[null,null,null,{"$f":"IF(ISERROR(VLOOKUP(Tabla_Asiento_2[[#This Row],[Cta]],PGCtotal[[Nivel 3]:[Subcuenta]],5,FALSE)),\"\",VLOOKUP(Tabla_Asiento_2[[#This Row],[Cta]],PGCtotal[[Nivel 3]:[Subcuenta]],5,FALSE))","v":""}]
[null,null,null,{"$f":"IF(ISERROR(VLOOKUP(Tabla_Asiento_2[[#This Row],[Cta]],PGCtotal[[Nivel 3]:[Subcuenta]],5,FALSE)),\"\",VLOOKUP(Tabla_Asiento_2[[#This Row],[Cta]],PGCtotal[[Nivel 3]:[Subcuenta]],5,FALSE))","v":""}]
[null,null,null,{"$f":"IF(ISERROR(VLOOKUP(Tabla_Asiento_2[[#This Row],[Cta]],PGCtotal[[Nivel 3]:[Subcuenta]],5,FALSE)),\"\",VLOOKUP(Tabla_Asiento_2[[#This Row],[Cta]],PGCtotal[[Nivel 3]:[Subcuenta]],5,FALSE))","v":""}]
[null,null,null,{"$f":"IF(ISERROR(VLOOKUP(Tabla_Asiento_2[[#This Row],[Cta]],PGCtotal[[Nivel 3]:[Subcuenta]],5,FALSE)),\"\",VLOOKUP(Tabla_Asiento_2[[#This Row],[Cta]],PGCtotal[[Nivel 3]:[Subcuenta]],5,FALSE))","v":""}]
[null,null,null,{"$f":"IF(ISERROR(VLOOKUP(Tabla_Asiento_2[[#This Row],[Cta]],PGCtotal[[Nivel 3]:[Subcuenta]],5,FALSE)),\"\",VLOOKUP(Tabla_Asiento_2[[#This Row],[Cta]],PGCtotal[[Nivel 3]:[Subcuenta]],5,FALSE))","v":""}]
[null,null,null,{"$f":"IF(ISERROR(VLOOKUP(Tabla_Asiento_2[[#This Row],[Cta]],PGCtotal[[Nivel 3]:[Subcuenta]],5,FALSE)),\"\",VLOOKUP(Tabla_Asiento_2[[#This Row],[Cta]],PGCtotal[[Nivel 3]:[Subcuenta]],5,FALSE))","v":""}]
[null,null,null,{"$f":"IF(ISERROR(VLOOKUP(Tabla_Asiento_2[[#This Row],[Cta]],PGCtotal[[Nivel 3]:[Subcuenta]],5,FALSE)),\"\",VLOOKUP(Tabla_Asiento_2[[#This Row],[Cta]],PGCtotal[[Nivel 3]:[Subcuenta]],5,FALSE))","v":""}]
[null,null,null,{"$f":"IF(ISERROR(VLOOKUP(Tabla_Asiento_2[[#This Row],[Cta]],PGCtotal[[Nivel 3]:[Subcuenta]],5,FALSE)),\"\",VLOOKUP(Tabla_Asiento_2[[#This Row],[Cta]],PGCtotal[[Nivel 3]:[Subcuenta]],5,FALSE))","v":""}]
[null,null,null,{"$f":"IF(ISERROR(VLOOKUP(Tabla_Asiento_2[[#This Row],[Cta]],PGCtotal[[Nivel 3]:[Subcuenta]],5,FALSE)),\"\",VLOOKUP(Tabla_Asiento_2[[#This Row],[Cta]],PGCtotal[[Nivel 3]:[Subcuenta]],5,FALSE))","v":""}]
[null,null,null,{"$f":"IF(ISERROR(VLOOKUP(Tabla_Asiento_2[[#This Row],[Cta]],PGCtotal[[Nivel 3]:[Subcuenta]],5,FALSE)),\"\",VLOOKUP(Tabla_Asiento_2[[#This Row],[Cta]],PGCtotal[[Nivel 3]:[Subcuenta]],5,FALSE))","v":""}]
[null,null,null,{"$f":"IF(ISERROR(VLOOKUP(Tabla_Asiento_2[[#This Row],[Cta]],PGCtotal[[Nivel 3]:[Subcuenta]],5,FALSE)),\"\",VLOOKUP(Tabla_Asiento_2[[#This Row],[Cta]],PGCtotal[[Nivel 3]:[Subcuenta]],5,FALSE))","v":""}]
[null,null,null,{"$f":"IF(ISERROR(VLOOKUP(Tabla_Asiento_2[[#This Row],[Cta]],PGCtotal[[Nivel 3]:[Subcuenta]],5,FALSE)),\"\",VLOOKUP(Tabla_Asiento_2[[#This Row],[Cta]],PGCtotal[[Nivel 3]:[Subcuenta]],5,FALSE))","v":""}]
[null,null,null,{"$f":"IF(ISERROR(VLOOKUP(Tabla_Asiento_2[[#This Row],[Cta]],PGCtotal[[Nivel 3]:[Subcuenta]],5,FALSE)),\"\",VLOOKUP(Tabla_Asiento_2[[#This Row],[Cta]],PGCtotal[[Nivel 3]:[Subcuenta]],5,FALSE))","v":""}]
[null,null,null,{"$f":"IF(ISERROR(VLOOKUP(Tabla_Asiento_2[[#This Row],[Cta]],PGCtotal[[Nivel 3]:[Subcuenta]],5,FALSE)),\"\",VLOOKUP(Tabla_Asiento_2[[#This Row],[Cta]],PGCtotal[[Nivel 3]:[Subcuenta]],5,FALSE))","v":""}]
[null,null,null,{"$f":"IF(ISERROR(VLOOKUP(Tabla_Asiento_2[[#This Row],[Cta]],PGCtotal[[Nivel 3]:[Subcuenta]],5,FALSE)),\"\",VLOOKUP(Tabla_Asiento_2[[#This Row],[Cta]],PGCtotal[[Nivel 3]:[Subcuenta]],5,FALSE))","v":""}]
[null,null,null,{"$f":"IF(ISERROR(VLOOKUP(Tabla_Asiento_2[[#This Row],[Cta]],PGCtotal[[Nivel 3]:[Subcuenta]],5,FALSE)),\"\",VLOOKUP(Tabla_Asiento_2[[#This Row],[Cta]],PGCtotal[[Nivel 3]:[Subcuenta]],5,FALSE))","v":""}]
[null,null,null,{"$f":"IF(ISERROR(VLOOKUP(Tabla_Asiento_2[[#This Row],[Cta]],PGCtotal[[Nivel 3]:[Subcuenta]],5,FALSE)),\"\",VLOOKUP(Tabla_Asiento_2[[#This Row],[Cta]],PGCtotal[[Nivel 3]:[Subcuenta]],5,FALSE))","v":""}]
[null,null,null,{"$f":"IF(ISERROR(VLOOKUP(Tabla_Asiento_2[[#This Row],[Cta]],PGCtotal[[Nivel 3]:[Subcuenta]],5,FALSE)),\"\",VLOOKUP(Tabla_Asiento_2[[#This Row],[Cta]],PGCtotal[[Nivel 3]:[Subcuenta]],5,FALSE))","v":""}]
[null,null,null,{"$f":"IF(ISERROR(VLOOKUP(Tabla_Asiento_2[[#This Row],[Cta]],PGCtotal[[Nivel 3]:[Subcuenta]],5,FALSE)),\"\",VLOOKUP(Tabla_Asiento_2[[#This Row],[Cta]],PGCtotal[[Nivel 3]:[Subcuenta]],5,FALSE))","v":""}]
[null,null,null,{"$f":"IF(ISERROR(VLOOKUP(Tabla_Asiento_2[[#This Row],[Cta]],PGCtotal[[Nivel 3]:[Subcuenta]],5,FALSE)),\"\",VLOOKUP(Tabla_Asiento_2[[#This Row],[Cta]],PGCtotal[[Nivel 3]:[Subcuenta]],5,FALSE))","v":""}]
[null,null,null,{"$f":"IF(ISERROR(VLOOKUP(Tabla_Asiento_2[[#This Row],[Cta]],PGCtotal[[Nivel 3]:[Subcuenta]],5,FALSE)),\"\",VLOOKUP(Tabla_Asiento_2[[#This Row],[Cta]],PGCtotal[[Nivel 3]:[Subcuenta]],5,FALSE))","v":""}]
[null,null,null,{"$f":"IF(ISERROR(VLOOKUP(Tabla_Asiento_2[[#This Row],[Cta]],PGCtotal[[Nivel 3]:[Subcuenta]],5,FALSE)),\"\",VLOOKUP(Tabla_Asiento_2[[#This Row],[Cta]],PGCtotal[[Nivel 3]:[Subcuenta]],5,FALSE))","v":""}]
[null,null,null,{"$f":"IF(ISERROR(VLOOKUP(Tabla_Asiento_2[[#This Row],[Cta]],PGCtotal[[Nivel 3]:[Subcuenta]],5,FALSE)),\"\",VLOOKUP(Tabla_Asiento_2[[#This Row],[Cta]],PGCtotal[[Nivel 3]:[Subcuenta]],5,FALSE))","v":""}]
[null,null,null,{"$f":"IF(ISERROR(VLOOKUP(Tabla_Asiento_2[[#This Row],[Cta]],PGCtotal[[Nivel 3]:[Subcuenta]],5,FALSE)),\"\",VLOOKUP(Tabla_Asiento_2[[#This Row],[Cta]],PGCtotal[[Nivel 3]:[Subcuenta]],5,FALSE))","v":""}]
[null,null,null,{"$f":"IF(ISERROR(VLOOKUP(Tabla_Asiento_2[[#This Row],[Cta]],PGCtotal[[Nivel 3]:[Subcuenta]],5,FALSE)),\"\",VLOOKUP(Tabla_Asiento_2[[#This Row],[Cta]],PGCtotal[[Nivel 3]:[Subcuenta]],5,FALSE))","v":""}]
[null,null,null,{"$f":"IF(ISERROR(VLOOKUP(Tabla_Asiento_2[[#This Row],[Cta]],PGCtotal[[Nivel 3]:[Subcuenta]],5,FALSE)),\"\",VLOOKUP(Tabla_Asiento_2[[#This Row],[Cta]],PGCtotal[[Nivel 3]:[Subcuenta]],5,FALSE))","v":""}]
[null,null,null,{"$f":"IF(ISERROR(VLOOKUP(Tabla_Asiento_2[[#This Row],[Cta]],PGCtotal[[Nivel 3]:[Subcuenta]],5,FALSE)),\"\",VLOOKUP(Tabla_Asiento_2[[#This Row],[Cta]],PGCtotal[[Nivel 3]:[Subcuenta]],5,FALSE))","v":""}]
[null,null,null,{"$f":"IF(ISERROR(VLOOKUP(Tabla_Asiento_2[[#This Row],[Cta]],PGCtotal[[Nivel 3]:[Subcuenta]],5,FALSE)),\"\",VLOOKUP(Tabla_Asiento_2[[#This Row],[Cta]],PGCtotal[[Nivel 3]:[Subcuenta]],5,FALSE))","v":""}]
[null,null,null,{"$f":"IF(ISERROR(VLOOKUP(Tabla_Asiento_2[[#This Row],[Cta]],PGCtotal[[Nivel 3]:[Subcuenta]],5,FALSE)),\"\",VLOOKUP(Tabla_Asiento_2[[#This Row],[Cta]],PGCtotal[[Nivel 3]:[Subcuenta]],5,FALSE))","v":""}]
[null,null,null,{"$f":"IF(ISERROR(VLOOKUP(Tabla_Asiento_2[[#This Row],[Cta]],PGCtotal[[Nivel 3]:[Subcuenta]],5,FALSE)),\"\",VLOOKUP(Tabla_Asiento_2[[#This Row],[Cta]],PGCtotal[[Nivel 3]:[Subcuenta]],5,FALSE))","v":""}]
[null,null,null,{"$f":"IF(ISERROR(VLOOKUP(Tabla_Asiento_2[[#This Row],[Cta]],PGCtotal[[Nivel 3]:[Subcuenta]],5,FALSE)),\"\",VLOOKUP(Tabla_Asiento_2[[#This Row],[Cta]],PGCtotal[[Nivel 3]:[Subcuenta]],5,FALSE))","v":""}]
[null,null,null,{"$f":"IF(ISERROR(VLOOKUP(Tabla_Asiento_2[[#This Row],[Cta]],PGCtotal[[Nivel 3]:[Subcuenta]],5,FALSE)),\"\",VLOOKUP(Tabla_Asiento_2[[#This Row],[Cta]],PGCtotal[[Nivel 3]:[Subcuenta]],5,FALSE))","v":""}]
[null,null,null,{"$f":"IF(ISERROR(VLOOKUP(Tabla_Asiento_2[[#This Row],[Cta]],PGCtotal[[Nivel 3]:[Subcuenta]],5,FALSE)),\"\",VLOOKUP(Tabla_Asiento_2[[#This Row],[Cta]],PGCtotal[[Nivel 3]:[Subcuenta]],5,FALSE))","v":""}]
[null,null,null,{"$f":"IF(ISERROR(VLOOKUP(Tabla_Asiento_2[[#This Row],[Cta]],PGCtotal[[Nivel 3]:[Subcuenta]],5,FALSE)),\"\",VLOOKUP(Tabla_Asiento_2[[#This Row],[Cta]],PGCtotal[[Nivel 3]:[Subcuenta]],5,FALSE))","v":""}]
[null,null,null,{"$f":"IF(ISERROR(VLOOKUP(Tabla_Asiento_2[[#This Row],[Cta]],PGCtotal[[Nivel 3]:[Subcuenta]],5,FALSE)),\"\",VLOOKUP(Tabla_Asiento_2[[#This Row],[Cta]],PGCtotal[[Nivel 3]:[Subcuenta]],5,FALSE))","v":""}]
[null,null,null,{"$f":"IF(ISERROR(VLOOKUP(Tabla_Asiento_2[[#This Row],[Cta]],PGCtotal[[Nivel 3]:[Subcuenta]],5,FALSE)),\"\",VLOOKUP(Tabla_Asiento_2[[#This Row],[Cta]],PGCtotal[[Nivel 3]:[Subcuenta]],5,FALSE))","v":""}]
[null,null,null,{"$f":"IF(ISERROR(VLOOKUP(Tabla_Asiento_2[[#This Row],[Cta]],PGCtotal[[Nivel 3]:[Subcuenta]],5,FALSE)),\"\",VLOOKUP(Tabla_Asiento_2[[#This Row],[Cta]],PGCtotal[[Nivel 3]:[Subcuenta]],5,FALSE))","v":""}]
[null,null,null,{"$f":"IF(ISERROR(VLOOKUP(Tabla_Asiento_2[[#This Row],[Cta]],PGCtotal[[Nivel 3]:[Subcuenta]],5,FALSE)),\"\",VLOOKUP(Tabla_Asiento_2[[#This Row],[Cta]],PGCtotal[[Nivel 3]:[Subcuenta]],5,FALSE))","v":""}]
[null,null,null,{"$f":"IF(ISERROR(VLOOKUP(Tabla_Asiento_2[[#This Row],[Cta]],PGCtotal[[Nivel 3]:[Subcuenta]],5,FALSE)),\"\",VLOOKUP(Tabla_Asiento_2[[#This Row],[Cta]],PGCtotal[[Nivel 3]:[Subcuenta]],5,FALSE))","v":""}]
[null,null,null,{"$f":"IF(ISERROR(VLOOKUP(Tabla_Asiento_2[[#This Row],[Cta]],PGCtotal[[Nivel 3]:[Subcuenta]],5,FALSE)),\"\",VLOOKUP(Tabla_Asiento_2[[#This Row],[Cta]],PGCtotal[[Nivel 3]:[Subcuenta]],5,FALSE))","v":""}]
[null,null,null,{"$f":"IF(ISERROR(VLOOKUP(Tabla_Asiento_2[[#This Row],[Cta]],PGCtotal[[Nivel 3]:[Subcuenta]],5,FALSE)),\"\",VLOOKUP(Tabla_Asiento_2[[#This Row],[Cta]],PGCtotal[[Nivel 3]:[Subcuenta]],5,FALSE))","v":""}]
[null,null,null,{"$f":"IF(ISERROR(VLOOKUP(Tabla_Asiento_2[[#This Row],[Cta]],PGCtotal[[Nivel 3]:[Subcuenta]],5,FALSE)),\"\",VLOOKUP(Tabla_Asiento_2[[#This Row],[Cta]],PGCtotal[[Nivel 3]:[Subcuenta]],5,FALSE))","v":""}]
[null,null,null,{"$f":"IF(ISERROR(VLOOKUP(Tabla_Asiento_2[[#This Row],[Cta]],PGCtotal[[Nivel 3]:[Subcuenta]],5,FALSE)),\"\",VLOOKUP(Tabla_Asiento_2[[#This Row],[Cta]],PGCtotal[[Nivel 3]:[Subcuenta]],5,FALSE))","v":""}]
[null,null,null,{"$f":"IF(ISERROR(VLOOKUP(Tabla_Asiento_2[[#This Row],[Cta]],PGCtotal[[Nivel 3]:[Subcuenta]],5,FALSE)),\"\",VLOOKUP(Tabla_Asiento_2[[#This Row],[Cta]],PGCtotal[[Nivel 3]:[Subcuenta]],5,FALSE))","v":""}]
[null,null,null,{"$f":"IF(ISERROR(VLOOKUP(Tabla_Asiento_2[[#This Row],[Cta]],PGCtotal[[Nivel 3]:[Subcuenta]],5,FALSE)),\"\",VLOOKUP(Tabla_Asiento_2[[#This Row],[Cta]],PGCtotal[[Nivel 3]:[Subcuenta]],5,FALSE))","v":""}]
[null,null,null,{"$f":"IF(ISERROR(VLOOKUP(Tabla_Asiento_2[[#This Row],[Cta]],PGCtotal[[Nivel 3]:[Subcuenta]],5,FALSE)),\"\",VLOOKUP(Tabla_Asiento_2[[#This Row],[Cta]],PGCtotal[[Nivel 3]:[Subcuenta]],5,FALSE))","v":""}]
[null,null,null,{"$f":"IF(ISERROR(VLOOKUP(Tabla_Asiento_2[[#This Row],[Cta]],PGCtotal[[Nivel 3]:[Subcuenta]],5,FALSE)),\"\",VLOOKUP(Tabla_Asiento_2[[#This Row],[Cta]],PGCtotal[[Nivel 3]:[Subcuenta]],5,FALSE))","v":""}]
[null,null,null,{"$f":"IF(ISERROR(VLOOKUP(Tabla_Asiento_2[[#This Row],[Cta]],PGCtotal[[Nivel 3]:[Subcuenta]],5,FALSE)),\"\",VLOOKUP(Tabla_Asiento_2[[#This Row],[Cta]],PGCtotal[[Nivel 3]:[Subcuenta]],5,FALSE))","v":""}]

{"sheet":"Mayores","index":3,"n_rows":29,"n_cols":11,"rows_kept":29,"cut":false,"hidden":false,"merged":[[1,8,1,9]]}
["Cuentas de Mayor"]
[null,"Actualizar Mayores"]
[]
[null,"Nº Asiento","(Todas)",null,null,null,null,null,"Nº Asiento","(Todas)"]
[]
[null,"Importes","D/H",null,null,null,null,null,"Importes","D/H"]
[null,"Cuentas","D","H","Saldo",null,null,null,"Cuentas","D","H"]
[null,"0-0",0,null,0,null,null,null,"0-0",0]
[null,"1000-Capital social",null,12000,-12000,null,null,null,"1000-Capital social",null,12000]
[null,"2160-Mobiliario",600,null,600,null,null,null,"2160-Mobiliario",600]
[null,"2180-Elementos de transporte",4000,4000,0,null,null,null,"2180-Elementos de transporte",4000,4000]
[null,"3000-Mercaderías A",1500,null,1500,null,null,null,"3000-Mercaderías A",1500]
[null,"4000-Proveedores",null,5000,-5000,null,null,null,"4000-Proveedores",null,5000]
[null,"4110-Acreedores, efectos comerciales a pagar",null,3600,-3600,null,null,null,"4110-Acreedores, efectos comerciales a pagar",null,3600]
[null,"4300-Clientes",1500,1500,0,null,null,null,"4300-Clientes",1500,1500]
[null,"4310-Clientes, efectos comerciales a cobrar",3500,null,3500,null,null,null,"4310-Clientes, efectos comerciales a cobrar",3500]
[null,"5700-Caja, euros",13500,11800,1700,null,null,null,"5700-Caja, euros",13500,11800]
[null,"5720-Bancos e instituciones de crédito c/c vista, euros",9500,1450,8050,null,null,null,"5720-Bancos e instituciones de crédito c/c vista, euros",9500,1450]
[null,"6000-Compras de mercaderías",5000,null,5000,null,null,null,"6000-Compras de mercaderías",5000]
[null,"6100-Variación de existencias de mercaderías",null,1500,-1500,null,null,null,"6100-Variación de existencias de mercaderías",null,1500]
[null,"6210-Arrendamientos y cánones",750,null,750,null,null,null,"6210-Arrendamientos y cánones",750]
[null,"6230-Servicios de profesionales independientes",100,null,100,null,null,null,"6230-Servicios de profesionales independientes",100]
[null,"6280-Suministros",100,null,100,null,null,null,"6280-Suministros",100]
[null,"6310-Otros tributos",350,null,350,null,null,null,"6310-Otros tributos",350]
[null,"6400-Sueldos y salarios",1000,null,1000,null,null,null,"6400-Sueldos y salarios",1000]
[null,"6420-Seguridad Social a cargo de la empresa",450,null,450,null,null,null,"6420-Seguridad Social a cargo de la empresa",450]
[null,"6710-Pérdidas procedentes del inmovilizado material",4000,null,4000,null,null,null,"6710-Pérdidas procedentes del inmovilizado material",4000]
[null,"7000-Ventas de mercaderías",null,5000,-5000,null,null,null,"7000-Ventas de mercaderías",null,5000]
[null,"Total general",45850,45850,0,null,null,null,"Total general",45850,45850]

{"sheet":"PyG","index":4,"n_rows":25,"n_cols":8,"rows_kept":25,"cut":false,"hidden":false,"merged":[[0,0,0,7],[1,0,1,2],[1,3,2,6],[2,0,2,2],[3,0,3,2],[3,3,3,6],[4,0,4,2],[4,3,4,6],[5,0,5,2],[5,3,5,6],[6,0,6,2],[6,3,6,6],[7,0,7,2],[7,3,7,6],[8,0,8,2],[8,3,8,6],[9,0,9,2],[9,3,9,6],[10,0,10,2],[10,3,10,6],[11,0,11,2],[11,3,11,6],[12,0,12,2],[12,3,12,6],[13,0,13,2],[13,3,13,6],[14,0,14,2],[14,3,14,6],[15,0,15,2],[15,3,15,6],[16,0,16,2],[16,3,16,6],[17,0,17,2],[17,3,17,6],[18,0,18,2],[18,3,18,6],[19,0,19,2],[19,3,19,6],[20,0,20,2],[20,3,20,6],[21,0,21,2],[21,3,21,6],[22,0,22,2],[22,3,22,6],[23,0,23,2],[23,3,23,6],[24,0,24,7]]}
["Perdidas y Ganancias Abreviada"]
["CUENTAS",null,null,null,null,null,null,"(Debe) Haber"]
[null,null,null,null,null,null,null,"Ejercicio"]
["700,701,702,703,704, 705,(706),(708),(709)",null,null,"1. Importe neto de la cifra de negocios",null,null,null,{"$f":"SUMIF(Tabla5[Grupo Abreviado],\"=PYG1\",Tabla5[Saldo])","v":5000}]
["(6930), 71*,7930",null,null,"2. Variación de existencias de productos terminados y en curso de fabricación",null,null,null,{"$f":"SUMIF(Tabla5[Grupo Abreviado],\"=PYG2\",Tabla5[Saldo])","v":0}]
[73,null,null,"3. Trabajos realizados por la empresa para su activo",null,null,null,{"$f":"SUMIF(Tabla5[Grupo Abreviado],\"=PYG3\",Tabla5[Saldo])","v":0}]
["(600),(601),(602),606,(607),608,609,61*,  (6931),(6932),(6933),7931,7932,7933",null,null,"4. Aprovisionamientos",null,null,null,{"$f":"SUMIF(Tabla5[Grupo Abreviado],\"=PYG4\",Tabla5[Saldo])","v":3500}]
["740,747,75",null,null,"5. Otros ingresos de explotación",null,null,null,{"$f":"SUMIF(Tabla5[Grupo Abreviado],\"=PYG5\",Tabla5[Saldo])","v":0}]
["(64),7950,7957",null,null,"6. Gastos de personal",null,null,null,{"$f":"SUMIF(Tabla5[Grupo Abreviado],\"=PYG6\",Tabla5[Saldo])","v":1450}]
["(62),(631),(634),636,639,(65),(694),(695),794, 7954",null,null,"7. Otros gastos de explotación",null,null,null,{"$f":"SUMIF(Tabla5[Grupo Abreviado],\"=PYG7\",Tabla5[Saldo])","v":1300}]
["(68)",null,null,"8. Amortización de Inmovilizado",null,null,null,{"$f":"SUMIF(Tabla5[Grupo Abreviado],\"=PYG8\",Tabla5[Saldo])","v":0}]
[746,null,null,"9. Imputación de subvenciones de inmovilizado financiero y otras",null,null,null,{"$f":"SUMIF(Tabla5[Grupo Abreviado],\"=PYG9\",Tabla5[Saldo])","v":0}]
["7951,7952,7955,7956",null,null,"10. Exceso de provisión",null,null,null,{"$f":"SUMIF(Tabla5[Grupo Abreviado],\"=PYG10\",Tabla5[Saldo])","v":0}]
["(670),(671),(672),(690),(691),(692),770,   771,772,790,791,792",null,null,"11. Deterioro y resultados por enajenación de inmovilizado",null,null,null,{"$f":"SUMIF(Tabla5[Grupo Abreviado],\"=PYG11\",Tabla5[Saldo])","v":4000}]
[null,null,null,"A) RESULTADO DE EXPLOTACIÓN",null,null,null,{"$f":"H4+H5+H6-H7+H8-H9-H10-H11+H12+H13-H14","v":-5250}]
["760,761,762,767,769",null,null,"12. Ingresos financieros",null,null,null,{"$f":"SUMIF(Tabla5[Grupo Abreviado],\"=PYG12\",Tabla5[Saldo])","v":0}]
["(660),(661),(662),(664),(665),(669)",null,null,"13. Gastos financieros",null,null,null,{"$f":"SUMIF(Tabla5[Grupo Abreviado],\"=PYG13\",Tabla5[Saldo])","v":0}]
["(663),763",null,null,"14. Variación de valor razonable en instrumentos financieros",null,null,null,{"$f":"SUMIF(Tabla5[Grupo Abreviado],\"=PYG14\",Tabla5[Saldo])","v":0}]
["(668),768",null,null,"15. Diferencias de cambio",null,null,null,{"$f":"SUMIF(Tabla5[Grupo Abreviado],\"=PYG15\",Tabla5[Saldo])","v":0}]
["(666),(667),(673),(675),(696),(697),(698),    (699),766,773,775,796,797,798,799",null,null,"16. Deterioro y resultados por enajenaciones de instrumentos financieros",null,null,null,{"$f":"SUMIF(Tabla5[Grupo Abreviado],\"=PYG16\",Tabla5[Saldo])","v":0}]
[null,null,null,"B) RESULTADO FINANCIERO",null,null,null,{"$f":"H16-H17-H18-H19-H20","v":0}]
[null,null,null,"C) RESULTADO ANTES DE IMPUESTOS",null,null,null,{"$f":"H15-H21","v":-5250}]
["(6300)*,6301*,(633),638",null,null,"17.Impuestos sobre sociedades",null,null,null,{"$f":"SUMIF(Tabla5[Grupo Abreviado],\"=PYG17\",Tabla5[Saldo])","v":0}]
[null,null,null,"D) RESULTADO DEL EJERCICIO",null,null,null,{"$f":"H22+H23","v":-5250}]
["* Su signo puede ser positivo o negativo"]

{"sheet":"Balance","index":5,"n_rows":39,"n_cols":18,"rows_kept":39,"cut":false,"hidden":false,"merged":[[4,0,4,2],[4,3,4,5],[5,0,5,2],[5,3,5,5],[6,0,6,2],[6,3,6,5],[0,0,0,6],[1,0,1,2],[1,3,1,5],[2,0,2,2],[2,3,2,5],[3,0,3,2],[3,3,3,5],[11,0,11,2],[11,3,11,5],[12,0,12,2],[12,3,12,5],[7,0,7,2],[7,3,7,5],[8,0,8,2],[8,3,8,5],[9,0,9,2],[9,3,9,5],[19,0,19,2],[19,3,19,5],[20,0,20,2],[20,3,20,5],[0,11,0,17],[1,11,1,13],[1,14,1,16],[2,11,2,13],[2,14,2,16],[3,11,3,13],[16,0,16,2],[16,3,16,5],[17,0,17,2],[17,3,17,5],[18,0,18,2],[18,3,18,5],[13,0,13,2],[13,3,13,5],[14,0,14,2],[14,3,14,5],[15,0,15,2],[15,3,15,5],[10,0,10,2],[10,3,10,5],[7,11,7,13],[7,14,7,16],[8,11,8,13],[8,14,8,16],[9,11,9,13],[9,14,9,16],[3,14,3,16],[4,11,4,13],[4,14,4,16],[5,11,5,13],[5,14,5,16],[6,11,6,13],[6,14,6,16],[13,11,13,13],[13,14,13,16],[14,11,14,13],[14,14,14,16],[15,11,15,13],[15,14,15,16],[10,11,10,13],[10,14,10,16],[11,11,11,13],[11,14,11,16],[12,11,12,13],[12,14,12,16],[19,11,19,13],[19,14,19,16],[20,11,20,13],[20,14,20,16],[21,11,21,13],[21,14,21,16],[16,11,16,13],[16,14,16,16],[17,11,17,13],[17,14,17,16],[18,11,18,13],[18,14,18,16],[25,11,25,13],[25,14,25,16],[26,11,26,13],[26,14,26,16],[27,11,27,13],[27,14,27,16],[22,11,22,13],[22,14,22,16],[23,11,23,13],[23,14,23,16],[24,11,24,13],[24,14,24,16],[31,11,31,13],[31,14,31,16],[32,11,32,13],[32,14,32,16],[33,11,33,13],[33,14,33,16],[28,11,28,13],[28,14,28,16],[29,11,29,13],[29,14,29,16],[30,11,30,13],[30,14,30,16],[37,11,37,13],[37,14,37,16],[38,11,38,13],[38,14,38,16],[34,11,34,13],[34,14,34,16],[35,11,35,13],[35,14,35,16],[36,11,36,13],[36,14,36,16]]}
["Balance Abreviado",null,null,null,null,null,null,null,null,null,null,"Balance Abreviado"]
["Nº de Cuentas",null,null,"ACTIVO",null,null,"Ejercicio",null,null,null,null,"Nº de Cuentas",null,null,"PATRIMONIO NETO Y PASIVO",null,null,"Ejercicio"]
[null,null,null,"A) ACTIVOS NO CORRIENTES",null,null,{"$f":"SUM(G4:G9)","v":600},null,null,null,null,null,null,null,"A) PATRIMONIO NETO ",null,null,{"$f":"R4+R16+R17","v":6750}]
["20,(280),(290)",null,null,"I. Inmovilizado Intangible",null,null,{"$f":"SUMIF(Tabla5[Grupo Abreviado],\"=AAI\",Tabla5[Saldo])","v":0},null,null,null,null,null,null,null,"A-1) Fondos propios",null,null,{"$f":"R5+R8+R9+R10+R11+R12+R13+R14+R15","v":6750}]
["21,(281),(291),23",null,null,"II. Inmovilizado material",null,null,{"$f":"SUMIF(Tabla5[Grupo Abreviado],\"=AAII\",Tabla5[Saldo])","v":600},null,null,null,null,null,null,null,"I. Capital",null,null,{"$f":"R6+R7","v":12000}]
["22,(282),(292)",null,null,"III. Inversiones immobiliarias",null,null,{"$f":"SUMIF(Tabla5[Grupo Abreviado],\"=AAIII\",Tabla5[Saldo])","v":0},null,null,null,null,"100,101,102",null,null,"1. Capital Escriturado",null,null,{"$f":"SUMIF(Tabla5[Grupo Abreviado],\"=PAI1\",Tabla5[Saldo])","v":12000}]
["2403,2404,2413,2414,2423,2424,(2493),(2494),(293),(2943),(2944), (2953), (2954)",null,null,"IV. Inversiones en empresas del grupo y asociadas a largo plazo",null,null,{"$f":"SUMIF(Tabla5[Grupo Abreviado],\"=AAIV\",Tabla5[Saldo])","v":0},null,null,null,null,"(1030), (1040)",null,null,"2. (Capital no exigido)",null,null,{"$f":"SUMIF(Tabla5[Grupo Abreviado],\"=PAI2\",Tabla5[Saldo])","v":0}]
["2405,2415,2425,(2495),250,251,252,253,254,255,257,258,(259), 26, (2945), (2955), (297), (298)",null,null,"V. Inversiones financieras a largo plazo",null,null,{"$f":"SUMIF(Tabla5[Grupo Abreviado],\"=AAV\",Tabla5[Saldo])","v":0},null,null,null,null,110,null,null,"II. Prima de emisión",null,null,{"$f":"SUMIF(Tabla5[Grupo Abreviado],\"=PAII\",Tabla5[Saldo])","v":0}]
[474,null,null,"VI. Activos por impuestos diferidos",null,null,{"$f":"SUMIF(Tabla5[Grupo Abreviado],\"=AAVI\",Tabla5[Saldo])","v":0},null,null,null,null,"112,113,114,115,119",null,null,"III. Reservas",null,null,{"$f":"SUMIF(Tabla5[Grupo Abreviado],\"=PAIII\",Tabla5[Saldo])","v":0}]
[null,null,null,"B) ACTIVOS CORRIENTES",null,null,{"$f":"G11+G12+G13+G17+G18+G19+G20","v":14750},null,null,null,null,"(108),(109)",null,null,"IV. (Acciones y participaciones en patrimonio propias)",null,null,{"$f":"SUMIF(Tabla5[Grupo Abreviado],\"=PAIV\",Tabla5[Saldo])","v":0}]
["580,581,582,583,584,(599)",null,null,"I. Activos no corrientes mantenidos para la venta",null,null,{"$f":"SUMIF(Tabla5[Grupo Abreviado],\"=ABI\",Tabla5[Saldo])","v":0},null,null,null,null,"120,(121)",null,null,"V. Resultado de ejercicios anteriores",null,null,{"$f":"SUMIF(Tabla5[Grupo Abreviado],\"=PAV\",Tabla5[Saldo])","v":0}]
["30,31,32,33,34,35,36,(39),407",null,null,"II. Existencias",null,null,{"$f":"SUMIF(Tabla5[Grupo Abreviado],\"=ABII\",Tabla5[Saldo])","v":1500},null,null,null,null,128,null,null,"VI. Otras aportaciones de socios",null,null,{"$f":"SUMIF(Tabla5[Grupo Abreviado],\"=PAVI\",Tabla5[Saldo])","v":0}]
[null,null,null,"III. Deudores comerciales y otras cuentas a cobrar",null,null,{"$f":"SUM(G14:G16)","v":3500},null,null,null,null,129,null,null,"VII. Resultados del ejercicio",null,null,{"$f":"IF('Sumas y Saldos'!F22>0,'Sumas y Saldos'!F22,IF('Sumas y Saldos'!F22<0,'Sumas y Saldos'!F22,PyG!H24))","v":-5250}]
["430,431,432,433,434,435,436, (437),(490),(493)",null,null,"1. Clientes por ventas y prestaciones de servicios",null,null,{"$f":"SUMIF(Tabla5[Grupo Abreviado],\"=ABIII1\",Tabla5[Saldo])","v":3500},null,null,null,null,-557,null,null,"VIII. (Dividendos a cuenta)",null,null,{"$f":"SUMIF(Tabla5[Grupo Abreviado],\"=PAVIII\",Tabla5[Saldo])","v":0}]
[5580,null,null,"2. Accionistas (socios) por desembolso exigidos",null,null,{"$f":"SUMIF(Tabla5[Grupo Abreviado],\"=ABIII2\",Tabla5[Saldo])","v":0},null,null,null,null,111,null,null,"IX. Otros instrumentos de patrimonio neto",null,null,{"$f":"SUMIF(Tabla5[Grupo Abreviado],\"=PAIX\",Tabla5[Saldo])","v":0}]
["44,460,470,471,472,5531,5533,544",null,null,"3. Otros deudores",null,null,{"$f":"SUMIF(Tabla5[Grupo Abreviado],\"=ABIII3\",Tabla5[Saldo])","v":0},null,null,null,null,"133,1340,137",null,null,"A-2) Ajustes por cambios de valor",null,null,{"$f":"SUMIF(Tabla5[Grupo Abreviado],\"=PA2\",Tabla5[Saldo])","v":0}]
["5303,5304,5313,5314,5323,  5324,5333,5334, 5343, 5344,5353, 5354,(5393),(5394),5523,5524,(593),  (5943),(5944),(5953),(5954)",null,null,"IV. Inversiones en empresas del grupo y asociadas a corto plazo",null,null,{"$f":"SUMIF(Tabla5[Grupo Abreviado],\"=ABIV\",Tabla5[Saldo])","v":0},null,null,null,null,"130,131,132",null,null,"A-3) Subvenciones, donaciones y legados recibidos",null,null,{"$f":"SUMIF(Tabla5[Grupo Abreviado],\"=PA3\",Tabla5[Saldo])","v":0}]
["5305,5315,5325,5335, 5345,5355,(5395),540,541,542,543,545,546,547,548,(549),551, 5525, 5590,5593,565,566,(5945),(5955),(597), (598)",null,null,"V. Inversiones financieras a corto plazo",null,null,{"$f":"SUMIF(Tabla5[Grupo Abreviado],\"=ABV\",Tabla5[Saldo])","v":0},null,null,null,null,null,null,null,"B) PASIVO NO CORRIENTE",null,null,{"$f":"R19+R20+R24+R25+R26","v":0}]
["480, 567",null,null,"VI. Periodificaciones a corto plazo",null,null,{"$f":"SUMIF(Tabla5[Grupo Abreviado],\"=ABVI\",Tabla5[Saldo])","v":0},null,null,null,null,14,null,null,"I. Provisiones a largo plazo",null,null,{"$f":"SUMIF(Tabla5[Grupo Abreviado],\"=PBI\",Tabla5[Saldo])","v":0}]
[57,null,null,"VII. Efectivos y otros activos liquidos equivalentes",null,null,{"$f":"SUMIF(Tabla5[Grupo Abreviado],\"=ABVII\",Tabla5[Saldo])","v":9750},null,null,null,null,null,null,null,"II. Deudas a largo plazo",null,null,{"$f":"SUM(R21:R23)","v":0}]
[null,null,null,"TOTAL DE ACTIVO",null,null,{"$f":"G10+G3","v":15350},null,null,null,null,"1605, 170",null,null,"1. Deudas con entidades de créditos",null,null,{"$f":"SUMIF(Tabla5[Grupo Abreviado],\"=PBII1\",Tabla5[Saldo])","v":0}]
[null,null,null,null,null,null,null,null,null,null,null,1625.174,null,null,"2. Acreedores por arrendamientos financieros",null,null,{"$f":"SUMIF(Tabla5[Grupo Abreviado],\"=PBII2\",Tabla5[Saldo])","v":0}]
[null,null,null,null,null,null,null,null,null,null,null,"1615,1635,171,172,173,175,176,177,178 179,180,185,189",null,null,"3. Otras deudas a largo plazo",null,null,{"$f":"SUMIF(Tabla5[Grupo Abreviado],\"=PBII3\",Tabla5[Saldo])","v":0}]
[null,null,null,null,null,null,null,null,null,null,null,"1603,1604,1613,1614,1623,1624,1633,  1634",null,null,"III. Deudas con empresas del grupo y asociadas a largo plazo",null,null,{"$f":"SUMIF(Tabla5[Grupo Abreviado],\"=PBIII\",Tabla5[Saldo])","v":0}]
[null,null,null,null,null,null,null,null,null,null,null,479,null,null,"IV. Pasivos por impuestos diferidos",null,null,{"$f":"SUMIF(Tabla5[Grupo Abreviado],\"=PBIV\",Tabla5[Saldo])","v":0}]
[null,null,null,null,null,null,null,null,null,null,null,181,null,null,"V. Periodificaciones a largo plazo",null,null,{"$f":"SUMIF(Tabla5[Grupo Abreviado],\"=PBV\",Tabla5[Saldo])","v":0}]
[null,null,null,null,null,null,null,null,null,null,null,null,null,null,"C) PASIVO CORRIENTE",null,null,{"$f":"R28+R29+R30+R34+R35+R38","v":8600}]
[null,null,null,null,null,null,null,null,null,null,null,"585,586,587,588,589",null,null,"I. Pasivos vinculados con activos no corrientes mantenidos para la venta",null,null,{"$f":"SUMIF(Tabla5[Grupo Abreviado],\"=PCI\",Tabla5[Saldo])","v":0}]
[null,null,null,null,null,null,null,null,null,null,null,"499, 529",null,null,"II. Provisiones a corto plazo",null,null,{"$f":"SUMIF(Tabla5[Grupo Abreviado],\"=PCII\",Tabla5[Saldo])","v":0}]
[null,null,null,null,null,null,null,null,null,null,null,null,null,null,"III. Deudas a corto plazo",null,null,{"$f":"R31+R32+R33","v":0}]
[null,null,null,null,null,null,null,null,null,null,null,"5105,520,527",null,null,"1. Deudas con entidades de créditos",null,null,{"$f":"SUMIF(Tabla5[Grupo Abreviado],\"=PCIII1\",Tabla5[Saldo])","v":0}]
[null,null,null,null,null,null,null,null,null,null,null,5125.5240000000003,null,null,"2. Acreedores por arrendamientos financieros",null,null,{"$f":"SUMIF(Tabla5[Grupo Abreviado],\"=PCIII2\",Tabla5[Saldo])","v":0}]
[null,null,null,null,null,null,null,null,null,null,null,"(1034),(1044),(190),(192),194,500,501  505,506,509,5115, 5135,5145, 521,522,523,525,526,528,551,5525,    5530,55532, 555,5565,5595,5598,560,561,569,",null,null,"3. Otras deudas a corto plazo",null,null,{"$f":"SUMIF(Tabla5[Grupo Abreviado],\"=PCIII3\",Tabla5[Saldo])","v":0}]
[null,null,null,null,null,null,null,null,null,null,null,"5103,5104,5113,5114,5123,5124,5133,    5134,5143,5144,5523,5524,5563,5564",null,null,"IV. Deudas con empresas del grupo y asociadas a corto plazo",null,null,{"$f":"SUMIF(Tabla5[Grupo Abreviado],\"=PCIV\",Tabla5[Saldo])","v":0}]
[null,null,null,null,null,null,null,null,null,null,null,null,null,null,"V. Acreedores comerciales y otras cuentas a pagar",null,null,{"$f":"R36+R37","v":8600}]
[null,null,null,null,null,null,null,null,null,null,null,"400,401,403,404,405,(406)",null,null,"1. Proveedores",null,null,{"$f":"SUMIF(Tabla5[Grupo Abreviado],\"=PCV1\",Tabla5[Saldo])","v":5000}]
[null,null,null,null,null,null,null,null,null,null,null,"41,438,465,466,475,476,477",null,null,"2. Otros acreedores",null,null,{"$f":"SUMIF(Tabla5[Grupo Abreviado],\"=PCV2\",Tabla5[Saldo])","v":3600}]
[null,null,null,null,null,null,null,null,null,null,null,"485, 568",null,null,"VI. Periodificación a corto plazo",null,null,{"$f":"SUMIF(Tabla5[Grupo Abreviado],\"=PCVI\",Tabla5[Saldo])","v":0}]
[null,null,null,null,null,null,null,null,null,null,null,null,null,null,"TOTAL PATRIMONIO NETO Y PASIVO",null,null,{"$f":"R27+R18+R3","v":15350}]

{"sheet":"Flujos de Tesoreria","index":6,"n_rows":1366,"n_cols":6,"rows_kept":1366,"cut":false,"hidden":false,"merged":[[3,1,5,7],[9,1,9,4],[10,4,11,4]]}
[null,null,null,"Actualizar Tabla de Tesoreria"]
[]
[]
[null,"Estudio de los Movimientos de Tesoreria"]
[]
[]
[null,"Total Movimientos:",null,{"$f":"COUNTIF($E$13:$E$1320,\"<>0\")","v":10}]
[null,"Total Fechas",null,{"$f":"COUNTA($B$13:$B$1368)-1","v":10}]
[null,"Cta","(Varios elementos)"]
[null,"Cuentas de Tesoreria (570-572)"]
[null,"T. Importe","Tipo",null,"Tesoreria"]
[null,"Fecha","D","H"]
[null,"2015-01-02",12000,null,{"$f":"IFERROR(GETPIVOTDATA(\"Importe\",$B$11,\"D/H\",\"D\",\"Fecha\",B13)-GETPIVOTDATA(\"Importe\",$B$11,\"D/H\",\"H\",\"Fecha\",B13),0)","v":12000}]
[null,"2015-01-10",9500,9500,{"$f":"IFERROR((GETPIVOTDATA(\"Importe\",$B$11,\"D/H\",\"D\",\"Fecha\",B14)-GETPIVOTDATA(\"Importe\",$B$11,\"D/H\",\"H\",\"Fecha\",B14)+E13),0)","v":12000}]
[null,"2015-03-07",null,1000,{"$f":"IFERROR((GETPIVOTDATA(\"Importe\",$B$11,\"D/H\",\"D\",\"Fecha\",B15)-GETPIVOTDATA(\"Importe\",$B$11,\"D/H\",\"H\",\"Fecha\",B15)+E14),0)","v":11000}]
[null,"2015-04-03",null,450,10550]
[null,"2015-05-25",null,600,9950]
[null,"2015-06-11",null,750,9200]
[null,"2015-06-20",null,500,8700]
[null,"2015-08-20",null,350,8350]
[null,"2015-10-25",null,100,8250]
[null,"2015-11-22",1500,null,9750]
[null,"Total general",23000,13250,0]
[null,null,null,null,0]
[null,null,null,null,0]
[null,null,null,null,0]
[null,null,null,null,0]
[null,null,null,null,0]
[null,null,null,null,0]
[null,null,null,null,0]
[null,null,null,null,0]
[null,null,null,null,0]
[null,null,null,null,0]
[null,null,null,null,0]
[null,null,null,null,0]
[null,null,null,null,0]
[null,null,null,null,0]
[null,null,null,null,0]
[null,null,null,null,0]
[null,null,null,null,0]
[null,null,null,null,0,{"$f":"IFERROR(G40+GETPIVOTDATA(\"Importe\",$B$11,\"D/H\",\"Saldo\",\"Fecha\",B41),\" \")","v":" "}]
[null,null,null,null,0,{"$f":"IFERROR(F41+GETPIVOTDATA(\"Importe\",$B$11,\"D/H\",\"Saldo\",\"Fecha\",B42),\" \")","v":" "}]
[null,null,null,null,0," "]
[null,null,null,null,0," "]
[null,null,null,null,0," "]
[null,null,null,null,0,{"$f":"IFERROR(#REF!+GETPIVOTDATA(\"Importe\",$B$11,\"D/H\",\"Saldo\",\"Fecha\",B46),\"\")","v":""}]
[null,null,null,null,0,{"$f":"IFERROR(F46+GETPIVOTDATA(\"Importe\",$B$11,\"D/H\",\"Saldo\",\"Fecha\",B47),\"\")","v":""}]
[null,null,null,null,0,""]
[null,null,null,null,0,""]
[null,null,null,null,0,""]
[null,null,null,null,0,""]
[null,null,null,null,0,""]
[null,null,null,null,0,""]
[null,null,null,null,0,""]
[null,null,null,null,0,""]
[null,null,null,null,0,""]
[null,null,null,null,0,""]
[null,null,null,null,0,""]
[null,null,null,null,0,""]
[null,null,null,null,0,""]
[null,null,null,null,0,""]
[null,null,null,null,0,""]
[null,null,null,null,0,""]
[null,null,null,null,0,""]
[null,null,null,null,0,""]
[null,null,null,null,0,""]
[null,null,null,null,0,""]
[null,null,null,null,0,""]
[null,null,null,null,0,""]
[null,null,null,null,0,""]
[null,null,null,null,0,""]
[null,null,null,null,0,""]
[null,null,null,null,0,""]
[null,null,null,null,0,""]
[null,null,null,null,0,""]
[null,null,null,null,0,""]
[null,null,null,null,0,""]
[null,null,null,null,0,""]
[null,null,null,null,{"$f":"IFERROR((GETPIVOTDATA(\"Importe\",$B$11,\"D/H\",\"D\",\"Fecha\",B79)-GETPIVOTDATA(\"Importe\",$B$11,\"D/H\",\"H\",\"Fecha\",B79)+E78),0)","v":0},""]
[null,null,null,null,0,""]
[null,null,null,null,0,""]
[null,null,null,null,0,""]
[null,null,null,null,0,""]
[null,null,null,null,0,""]
[null,null,null,null,0,""]
[null,null,null,null,0,""]
[null,null,null,null,0,{"$f":"IFERROR(F86+GETPIVOTDATA(\"Importe\",$B$11,\"D/H\",\"Saldo\",\"Fecha\",B87),\"\")","v":""}]
[null,null,null,null,0,""]
[null,null,null,null,0,""]
[null,null,null,null,0,""]
[null,null,null,null,0,""]
[null,null,null,null,0,""]
[null,null,null,null,0,""]
[null,null,null,null,0,""]
[null,null,null,null,0,""]
[null,null,null,null,0,""]
[null,null,null,null,0,""]
[null,null,null,null,0,""]
[null,null,null,null,{"$f":"IFERROR((GETPIVOTDATA(\"Importe\",$B$11,\"D/H\",\"D\",\"Fecha\",B99)-GETPIVOTDATA(\"Importe\",$B$11,\"D/H\",\"H\",\"Fecha\",B99)+E98),0)","v":0},""]
[null,null,null,null,0,""]
[null,null,null,null,0,""]
[null,null,null,null,0,""]
[null,null,null,null,0,""]
[null,null,null,null,0,""]
[null,null,null,null,0,""]
[null,null,null,null,0,""]
[null,null,null,null,0,""]
[null,null,null,null,0,""]
[null,null,null,null,0,""]
[null,null,null,null,0,""]
[null,null,null,null,0,""]
[null,null,null,null,0,""]
[null,null,null,null,0,""]
[null,null,null,null,0,""]
[null,null,null,null,0,""]
[null,null,null,null,0,""]
[null,null,null,null,0,""]
[null,null,null,null,0,""]
[null,null,null,null,0,""]
[null,null,null,null,0,""]
[null,null,null,null,0,""]
[null,null,null,null,0,""]
[null,null,null,null,0,""]
[null,null,null,null,0,""]
[null,null,null,null,0,""]
[null,null,null,null,0,""]
[null,null,null,null,0,""]
[null,null,null,null,0,""]
[null,null,null,null,0,""]
[null,null,null,null,0,""]
[null,null,null,null,0,""]
[null,null,null,null,0,""]
[null,null,null,null,0,""]
[null,null,null,null,0,""]
[null,null,null,null,0,""]
[null,null,null,null,{"$f":"IFERROR((GETPIVOTDATA(\"Importe\",$B$11,\"D/H\",\"D\",\"Fecha\",B136)-GETPIVOTDATA(\"Importe\",$B$11,\"D/H\",\"H\",\"Fecha\",B136)+E135),0)","v":0},""]
[null,null,null,null,0,""]
[null,null,null,null,0,""]
[null,null,null,null,0,""]
[null,null,null,null,0,""]
[null,null,null,null,0,""]
[null,null,null,null,0,""]
[null,null,null,null,0,""]
[null,null,null,null,0,""]
[null,null,null,null,0,""]
[null,null,null,null,0,""]
[null,null,null,null,0,""]
[null,null,null,null,0,""]
[null,null,null,null,0,""]
[null,null,null,null,0,""]
[null,null,null,null,0,{"$f":"IFERROR(F150+GETPIVOTDATA(\"Importe\",$B$11,\"D/H\",\"Saldo\",\"Fecha\",B151),\"\")","v":""}]
[null,null,null,null,0,""]
[null,null,null,null,0,""]
[null,null,null,null,0,""]
[null,null,null,null,0,""]
[null,null,null,null,0,""]
[null,null,null,null,0,""]
[null,null,null,null,0,""]
[null,null,null,null,0,""]
[null,null,null,null,0,""]
[null,null,null,null,0,""]
[null,null,null,null,0,""]
[null,null,null,null,0,""]
[null,null,null,null,0,""]
[null,null,null,null,0,""]
[null,null,null,null,0,""]
[null,null,null,null,0,""]
[null,null,null,null,0,""]
[null,null,null,null,0,""]
[null,null,null,null,0,""]
[null,null,null,null,0,""]
[null,null,null,null,0,""]
[null,null,null,null,0,""]
[null,null,null,null,0,""]
[null,null,null,null,0,""]
[null,null,null,null,0,""]
[null,null,null,null,0,""]
[null,null,null,null,0,""]
[null,null,null,null,0,""]
[null,null,null,null,0,""]
[null,null,null,null,0,""]
[null,null,null,null,0,""]
[null,null,null,null,0,""]
[null,null,null,null,0,""]
[null,null,null,null,0,""]
[null,null,null,null,0,""]
[null,null,null,null,0,""]
[null,null,null,null,0,""]
[null,null,null,null,0,""]
[null,null,null,null,0,""]
[null,null,null,null,0,""]
[null,null,null,null,0,""]
[null,null,null,null,0,""]
[null,null,null,null,0,""]
[null,null,null,null,0,""]
[null,null,null,null,0,""]
[null,null,null,null,0,""]
[null,null,null,null,0,""]
[null,null,null,null,0,""]
[null,null,null,null,{"$f":"IFERROR((GETPIVOTDATA(\"Importe\",$B$11,\"D/H\",\"D\",\"Fecha\",B200)-GETPIVOTDATA(\"Importe\",$B$11,\"D/H\",\"H\",\"Fecha\",B200)+E199),0)","v":0},""]
[null,null,null,null,0,""]
[null,null,null,null,0,""]
[null,null,null,null,0,""]
[null,null,null,null,0,""]
[null,null,null,null,0,""]
[null,null,null,null,0,""]
[null,null,null,null,0,""]
[null,null,null,null,0,""]
[null,null,null,null,0,""]
[null,null,null,null,0,""]
[null,null,null,null,0,""]
[null,null,null,null,0,""]
[null,null,null,null,0,""]
[null,null,null,null,0,""]
[null,null,null,null,0,{"$f":"IFERROR(F214+GETPIVOTDATA(\"Importe\",$B$11,\"D/H\",\"Saldo\",\"Fecha\",B215),\"\")","v":""}]
[null,null,null,null,0,""]
[null,null,null,null,0,""]
[null,null,null,null,0,""]
[null,null,null,null,0,""]
[null,null,null,null,0,""]
[null,null,null,null,0,""]
[null,null,null,null,0]
[null,null,null,null,0]
[null,null,null,null,0]
[null,null,null,null,0]
[null,null,null,null,0]
[null,null,null,null,0]
[null,null,null,null,0]
[null,null,null,null,0]
[null,null,null,null,0]
[null,null,null,null,0]
[null,null,null,null,0]
[null,null,null,null,0]
[null,null,null,null,0]
[null,null,null,null,0]
[null,null,null,null,0]
[null,null,null,null,0]
[null,null,null,null,0]
[null,null,null,null,0]
[null,null,null,null,0]
[null,null,null,null,0]
[null,null,null,null,0]
[null,null,null,null,0]
[null,null,null,null,0]
[null,null,null,null,0]
[null,null,null,null,0]
[null,null,null,null,0]
[null,null,null,null,0]
[null,null,null,null,0]
[null,null,null,null,0]
[null,null,null,null,0]
[null,null,null,null,0]
[null,null,null,null,0]
[null,null,null,null,0]
[null,null,null,null,0]
[null,null,null,null,0]
[null,null,null,null,0]
[null,null,null,null,0]
[null,null,null,null,0]
[null,null,null,null,0]
[null,null,null,null,0]
[null,null,null,null,0]
[null,null,null,null,0]
[null,null,null,null,{"$f":"IFERROR((GETPIVOTDATA(\"Importe\",$B$11,\"D/H\",\"D\",\"Fecha\",B264)-GETPIVOTDATA(\"Importe\",$B$11,\"D/H\",\"H\",\"Fecha\",B264)+E263),0)","v":0}]
[null,null,null,null,0]
[null,null,null,null,0]
[null,null,null,null,0]
[null,null,null,null,0]
[null,null,null,null,0]
[null,null,null,null,0]
[null,null,null,null,0]
[null,null,null,null,0]
[null,null,null,null,0]
[null,null,null,null,0]
[null,null,null,null,0]
[null,null,null,null,0]
[null,null,null,null,0]
[null,null,null,null,0]
[null,null,null,null,0]
[null,null,null,null,0]
[null,null,null,null,0]
[null,null,null,null,0]
[null,null,null,null,0]
[null,null,null,null,0]
[null,null,null,null,0]
[null,null,null,null,0]
[null,null,null,null,0]
[null,null,null,null,0]
[null,null,null,null,0]
[null,null,null,null,0]
[null,null,null,null,0]
[null,null,null,null,0]
[null,null,null,null,0]
[null,null,null,null,0]
[null,null,null,null,0]
[null,null,null,null,0]
[null,null,null,null,0]
[null,null,null,null,0]
[null,null,null,null,0]
[null,null,null,null,0]
[null,null,null,null,0]
[null,null,null,null,0]
[null,null,null,null,0]
[null,null,null,null,0]
[null,null,null,null,0]
[null,null,null,null,0]
[null,null,null,null,0]
[null,null,null,null,0]
[null,null,null,null,0]
[null,null,null,null,0]
[null,null,null,null,0]
[null,null,null,null,0]
[null,null,null,null,0]
[null,null,null,null,0]
[null,null,null,null,0]
[null,null,null,null,0]
[null,null,null,null,0]
[null,null,null,null,0]
[null,null,null,null,0]
[null,null,null,null,0]
[null,null,null,null,0]
[null,null,null,null,0]
[null,null,null,null,0]
[null,null,null,null,0]
[null,null,null,null,0]
[null,null,null,null,0]
[null,null,null,null,0]
[null,null,null,null,{"$f":"IFERROR((GETPIVOTDATA(\"Importe\",$B$11,\"D/H\",\"D\",\"Fecha\",B328)-GETPIVOTDATA(\"Importe\",$B$11,\"D/H\",\"H\",\"Fecha\",B328)+E327),0)","v":0}]
[null,null,null,null,0]
[null,null,null,null,0]
[null,null,null,null,0]
[null,null,null,null,0]
[null,null,null,null,0]
[null,null,null,null,0]
[null,null,null,null,0]
[null,null,null,null,0]
[null,null,null,null,0]
[null,null,null,null,0]
[null,null,null,null,0]
[null,null,null,null,0]
[null,null,null,null,0]
[null,null,null,null,0]
[null,null,null,null,0]
[null,null,null,null,0]
[null,null,null,null,0]
[null,null,null,null,0]
[null,null,null,null,0]
[null,null,null,null,0]
[null,null,null,null,0]
[null,null,null,null,0]
[null,null,null,null,0]
[null,null,null,null,0]
[null,null,null,null,0]
[null,null,null,null,0]
[null,null,null,null,0]
[null,null,null,null,0]
[null,null,null,null,0]
[null,null,null,null,0]
[null,null,null,null,0]
[null,null,null,null,0]
[null,null,null,null,0]
[null,null,null,null,0]
[null,null,null,null,0]
[null,null,null,null,0]
[null,null,null,null,0]
[null,null,null,null,0]
[null,null,null,null,0]
[null,null,null,null,0]
[null,null,null,null,0]
[null,null,null,null,0]
[null,null,null,null,0]
[null,null,null,null,0]
[null,null,null,null,0]
[null,null,null,null,0]
[null,null,null,null,0]
[null,null,null,null,0]
[null,null,null,null,0]
[null,null,null,null,0]
[null,null,null,null,0]
[null,null,null,null,0]
[null,null,null,null,0]
[null,null,null,null,0]
[null,null,null,null,0]
[null,null,null,null,0]
[null,null,null,null,0]
[null,null,null,null,0]
[null,null,null,null,0]
[null,null,null,null,0]
[null,null,null,null,0]
[null,null,null,null,0]
[null,null,null,null,0]
[null,null,null,null,{"$f":"IFERROR((GETPIVOTDATA(\"Importe\",$B$11,\"D/H\",\"D\",\"Fecha\",B392)-GETPIVOTDATA(\"Importe\",$B$11,\"D/H\",\"H\",\"Fecha\",B392)+E391),0)","v":0}]
[null,null,null,null,0]
[null,null,null,null,0]
[null,null,null,null,0]
[null,null,null,null,0]
[null,null,null,null,0]
[null,null,null,null,0]
[null,null,null,null,0]
[null,null,null,null,0]
[null,null,null,null,0]
[null,null,null,null,0]
[null,null,null,null,0]
[null,null,null,null,0]
[null,null,null,null,0]
[null,null,null,null,0]
[null,null,null,null,0]
[null,null,null,null,0]
[null,null,null,null,0]
[null,null,null,null,0]
[null,null,null,null,0]
[null,null,null,null,0]
[null,null,null,null,0]
[null,null,null,null,0]
[null,null,null,null,0]
[null,null,null,null,0]
[null,null,null,null,0]
[null,null,null,null,0]
[null,null,null,null,0]
[null,null,null,null,0]
[null,null,null,null,0]
[null,null,null,null,0]
[null,null,null,null,0]
[null,null,null,null,0]
[null,null,null,null,0]
[null,null,null,null,0]
[null,null,null,null,0]
[null,null,null,null,0]
[null,null,null,null,0]
[null,null,null,null,0]
[null,null,null,null,0]
[null,null,null,null,0]
[null,null,null,null,0]
[null,null,null,null,0]
[null,null,null,null,0]
[null,null,null,null,0]
[null,null,null,null,0]
[null,null,null,null,0]
[null,null,null,null,0]
[null,null,null,null,0]
[null,null,null,null,0]
[null,null,null,null,0]
[null,null,null,null,0]
[null,null,null,null,0]
[null,null,null,null,0]
[null,null,null,null,0]
[null,null,null,null,0]
[null,null,null,null,0]
[null,null,null,null,0]
[null,null,null,null,0]
[null,null,null,null,0]
[null,null,null,null,0]
[null,null,null,null,0]
[null,null,null,null,0]
[null,null,null,null,0]
[null,null,null,null,{"$f":"IFERROR((GETPIVOTDATA(\"Importe\",$B$11,\"D/H\",\"D\",\"Fecha\",B456)-GETPIVOTDATA(\"Importe\",$B$11,\"D/H\",\"H\",\"Fecha\",B456)+E455),0)","v":0}]
[null,null,null,null,0]
[null,null,null,null,0]
[null,null,null,null,0]
[null,null,null,null,0]
[null,null,null,null,0]
[null,null,null,null,0]
[null,null,null,null,0]
[null,null,null,null,0]
[null,null,null,null,0]
[null,null,null,null,0]
[null,null,null,null,0]
[null,null,null,null,0]
[null,null,null,null,0]
[null,null,null,null,0]
[null,null,null,null,0]
[null,null,null,null,0]
[null,null,null,null,0]
[null,null,null,null,0]
[null,null,null,null,0]
[null,null,null,null,0]
[null,null,null,null,0]
[null,null,null,null,0]
[null,null,null,null,0]
[null,null,null,null,0]
[null,null,null,null,0]
[null,null,null,null,0]
[null,null,null,null,0]
[null,null,null,null,0]
[null,null,null,null,0]
[null,null,null,null,0]
[null,null,null,null,0]
[null,null,null,null,0]
[null,null,null,null,0]
[null,null,null,null,0]
[null,null,null,null,0]
[null,null,null,null,0]
[null,null,null,null,0]
[null,null,null,null,0]
[null,null,null,null,0]
[null,null,null,null,0]
[null,null,null,null,0]
[null,null,null,null,0]
[null,null,null,null,0]
[null,null,null,null,0]
[null,null,null,null,0]
[null,null,null,null,0]
[null,null,null,null,0]
[null,null,null,null,0]
[null,null,null,null,0]
[null,null,null,null,0]
[null,null,null,null,0]
[null,null,null,null,0]
[null,null,null,null,0]
[null,null,null,null,0]
[null,null,null,null,0]
[null,null,null,null,0]
[null,null,null,null,0]
[null,null,null,null,0]
[null,null,null,null,0]
[null,null,null,null,0]
[null,null,null,null,0]
[null,null,null,null,0]
[null,null,null,null,0]
[null,null,null,null,{"$f":"IFERROR((GETPIVOTDATA(\"Importe\",$B$11,\"D/H\",\"D\",\"Fecha\",B520)-GETPIVOTDATA(\"Importe\",$B$11,\"D/H\",\"H\",\"Fecha\",B520)+E519),0)","v":0}]
[null,null,null,null,0]
[null,null,null,null,0]
[null,null,null,null,0]
[null,null,null,null,0]
[null,null,null,null,0]
[null,null,null,null,0]
[null,null,null,null,0]
[null,null,null,null,0]
[null,null,null,null,0]
[null,null,null,null,0]
[null,null,null,null,0]
[null,null,null,null,0]
[null,null,null,null,0]
[null,null,null,null,0]
[null,null,null,null,0]
[null,null,null,null,0]
[null,null,null,null,0]
[null,null,null,null,0]
[null,null,null,null,0]
[null,null,null,null,0]
[null,null,null,null,0]
[null,null,null,null,0]
[null,null,null,null,0]
[null,null,null,null,0]
[null,null,null,null,0]
[null,null,null,null,0]
[null,null,null,null,0]
[null,null,null,null,0]
[null,null,null,null,0]
[null,null,null,null,0]
[null,null,null,null,0]
[null,null,null,null,0]
[null,null,null,null,0]
[null,null,null,null,0]
[null,null,null,null,0]
[null,null,null,null,0]
[null,null,null,null,0]
[null,null,null,null,0]
[null,null,null,null,0]
[null,null,null,null,0]
[null,null,null,null,0]
[null,null,null,null,0]
[null,null,null,null,0]
[null,null,null,null,0]
[null,null,null,null,0]
[null,null,null,null,0]
[null,null,null,null,0]
[null,null,null,null,0]
[null,null,null,null,0]
[null,null,null,null,0]
[null,null,null,null,0]
[null,null,null,null,0]
[null,null,null,null,0]
[null,null,null,null,0]
[null,null,null,null,0]
[null,null,null,null,0]
[null,null,null,null,0]
[null,null,null,null,0]
[null,null,null,null,0]
[null,null,null,null,0]
[null,null,null,null,0]
[null,null,null,null,0]
[null,null,null,null,0]
[null,null,null,null,{"$f":"IFERROR((GETPIVOTDATA(\"Importe\",$B$11,\"D/H\",\"D\",\"Fecha\",B584)-GETPIVOTDATA(\"Importe\",$B$11,\"D/H\",\"H\",\"Fecha\",B584)+E583),0)","v":0}]
[null,null,null,null,0]
[null,null,null,null,0]
[null,null,null,null,0]
[null,null,null,null,0]
[null,null,null,null,0]
[null,null,null,null,0]
[null,null,null,null,0]
[null,null,null,null,0]
[null,null,null,null,0]
[null,null,null,null,0]
[null,null,null,null,0]
[null,null,null,null,0]
[null,null,null,null,0]
[null,null,null,null,0]
[null,null,null,null,0]
[null,null,null,null,0]
[null,null,null,null,0]
[null,null,null,null,0]
[null,null,null,null,0]
[null,null,null,null,0]
[null,null,null,null,0]
[null,null,null,null,0]
[null,null,null,null,0]
[null,null,null,null,0]
[null,null,null,null,0]
[null,null,null,null,0]
[null,null,null,null,0]
[null,null,null,null,0]
[null,null,null,null,0]
[null,null,null,null,0]
[null,null,null,null,0]
[null,null,null,null,0]
[null,null,null,null,0]
[null,null,null,null,0]
[null,null,null,null,0]
[null,null,null,null,0]
[null,null,null,null,0]
[null,null,null,null,0]
[null,null,null,null,0]
[null,null,null,null,0]
[null,null,null,null,0]
[null,null,null,null,0]
[null,null,null,null,0]
[null,null,null,null,0]
[null,null,null,null,0]
[null,null,null,null,0]
[null,null,null,null,0]
[null,null,null,null,0]
[null,null,null,null,0]
[null,null,null,null,0]
[null,null,null,null,0]
[null,null,null,null,0]
[null,null,null,null,0]
[null,null,null,null,0]
[null,null,null,null,0]
[null,null,null,null,0]
[null,null,null,null,0]
[null,null,null,null,0]
[null,null,null,null,0]
[null,null,null,null,0]
[null,null,null,null,0]
[null,null,null,null,0]
[null,null,null,null,0]
[null,null,null,null,{"$f":"IFERROR((GETPIVOTDATA(\"Importe\",$B$11,\"D/H\",\"D\",\"Fecha\",B648)-GETPIVOTDATA(\"Importe\",$B$11,\"D/H\",\"H\",\"Fecha\",B648)+E647),0)","v":0}]
[null,null,null,null,0]
[null,null,null,null,0]
[null,null,null,null,0]
[null,null,null,null,0]
[null,null,null,null,0]
[null,null,null,null,0]
[null,null,null,null,0]
[null,null,null,null,0]
[null,null,null,null,0]
[null,null,null,null,0]
[null,null,null,null,0]
[null,null,null,null,0]
[null,null,null,null,0]
[null,null,null,null,0]
[null,null,null,null,0]
[null,null,null,null,0]
[null,null,null,null,0]
[null,null,null,null,0]
[null,null,null,null,0]
[null,null,null,null,0]
[null,null,null,null,0]
[null,null,null,null,0]
[null,null,null,null,0]
[null,null,null,null,0]
[null,null,null,null,0]
[null,null,null,null,0]
[null,null,null,null,0]
[null,null,null,null,0]
[null,null,null,null,0]
[null,null,null,null,0]
[null,null,null,null,0]
[null,null,null,null,0]
[null,null,null,null,0]
[null,null,null,null,0]
[null,null,null,null,0]
[null,null,null,null,0]
[null,null,null,null,0]
[null,null,null,null,0]
[null,null,null,null,0]
[null,null,null,null,0]
[null,null,null,null,0]
[null,null,null,null,0]
[null,null,null,null,0]
[null,null,null,null,0]
[null,null,null,null,0]
[null,null,null,null,0]
[null,null,null,null,0]
[null,null,null,null,0]
[null,null,null,null,0]
[null,null,null,null,0]
[null,null,null,null,0]
[null,null,null,null,0]
[null,null,null,null,0]
[null,null,null,null,0]
[null,null,null,null,0]
[null,null,null,null,0]
[null,null,null,null,0]
[null,null,null,null,0]
[null,null,null,null,0]
[null,null,null,null,0]
[null,null,null,null,0]
[null,null,null,null,0]
[null,null,null,null,0]
[null,null,null,null,{"$f":"IFERROR((GETPIVOTDATA(\"Importe\",$B$11,\"D/H\",\"D\",\"Fecha\",B712)-GETPIVOTDATA(\"Importe\",$B$11,\"D/H\",\"H\",\"Fecha\",B712)+E711),0)","v":0}]
[null,null,null,null,0]
[null,null,null,null,0]
[null,null,null,null,0]
[null,null,null,null,0]
[null,null,null,null,0]
[null,null,null,null,0]
[null,null,null,null,0]
[null,null,null,null,0]
[null,null,null,null,0]
[null,null,null,null,0]
[null,null,null,null,0]
[null,null,null,null,0]
[null,null,null,null,0]
[null,null,null,null,0]
[null,null,null,null,0]
[null,null,null,null,0]
[null,null,null,null,0]
[null,null,null,null,0]
[null,null,null,null,0]
[null,null,null,null,0]
[null,null,null,null,0]
[null,null,null,null,0]
[null,null,null,null,0]
[null,null,null,null,0]
[null,null,null,null,0]
[null,null,null,null,0]
[null,null,null,null,0]
[null,null,null,null,0]
[null,null,null,null,0]
[null,null,null,null,0]
[null,null,null,null,0]
[null,null,null,null,0]
[null,null,null,null,0]
[null,null,null,null,0]
[null,null,null,null,0]
[null,null,null,null,0]
[null,null,null,null,0]
[null,null,null,null,0]
[null,null,null,null,0]
[null,null,null,null,0]
[null,null,null,null,0]
[null,null,null,null,0]
[null,null,null,null,0]
[null,null,null,null,0]
[null,null,null,null,0]
[null,null,null,null,0]
[null,null,null,null,0]
[null,null,null,null,0]
[null,null,null,null,0]
[null,null,null,null,0]
[null,null,null,null,0]
[null,null,null,null,0]
[null,null,null,null,0]
[null,null,null,null,0]
[null,null,null,null,0]
[null,null,null,null,0]
[null,null,null,null,0]
[null,null,null,null,0]
[null,null,null,null,0]
[null,null,null,null,0]
[null,null,null,null,0]
[null,null,null,null,0]
[null,null,null,null,0]
[null,null,null,null,{"$f":"IFERROR((GETPIVOTDATA(\"Importe\",$B$11,\"D/H\",\"D\",\"Fecha\",B776)-GETPIVOTDATA(\"Importe\",$B$11,\"D/H\",\"H\",\"Fecha\",B776)+E775),0)","v":0}]
[null,null,null,null,0]
[null,null,null,null,0]
[null,null,null,null,0]
[null,null,null,null,0]
[null,null,null,null,0]
[null,null,null,null,0]
[null,null,null,null,0]
[null,null,null,null,0]
[null,null,null,null,0]
[null,null,null,null,0]
[null,null,null,null,0]
[null,null,null,null,0]
[null,null,null,null,0]
[null,null,null,null,0]
[null,null,null,null,0]
[null,null,null,null,0]
[null,null,null,null,0]
[null,null,null,null,0]
[null,null,null,null,0]
[null,null,null,null,0]
[null,null,null,null,0]
[null,null,null,null,0]
[null,null,null,null,0]
[null,null,null,null,0]
[null,null,null,null,0]
[null,null,null,null,0]
[null,null,null,null,0]
[null,null,null,null,0]
[null,null,null,null,0]
[null,null,null,null,0]
[null,null,null,null,0]
[null,null,null,null,0]
[null,null,null,null,0]
[null,null,null,null,0]
[null,null,null,null,0]
[null,null,null,null,0]
[null,null,null,null,0]
[null,null,null,null,0]
[null,null,null,null,0]
[null,null,null,null,0]
[null,null,null,null,0]
[null,null,null,null,0]
[null,null,null,null,0]
[null,null,null,null,0]
[null,null,null,null,0]
[null,null,null,null,0]
[null,null,null,null,0]
[null,null,null,null,0]
[null,null,null,null,0]
[null,null,null,null,0]
[null,null,null,null,0]
[null,null,null,null,0]
[null,null,null,null,0]
[null,null,null,null,0]
[null,null,null,null,0]
[null,null,null,null,0]
[null,null,null,null,0]
[null,null,null,null,0]
[null,null,null,null,0]
[null,null,null,null,0]
[null,null,null,null,0]
[null,null,null,null,0]
[null,null,null,null,0]
[null,null,null,null,{"$f":"IFERROR((GETPIVOTDATA(\"Importe\",$B$11,\"D/H\",\"D\",\"Fecha\",B840)-GETPIVOTDATA(\"Importe\",$B$11,\"D/H\",\"H\",\"Fecha\",B840)+E839),0)","v":0}]
[null,null,null,null,0]
[null,null,null,null,0]
[null,null,null,null,0]
[null,null,null,null,0]
[null,null,null,null,0]
[null,null,null,null,0]
[null,null,null,null,0]
[null,null,null,null,0]
[null,null,null,null,0]
[null,null,null,null,0]
[null,null,null,null,0]
[null,null,null,null,0]
[null,null,null,null,0]
[null,null,null,null,0]
[null,null,null,null,0]
[null,null,null,null,0]
[null,null,null,null,0]
[null,null,null,null,0]
[null,null,null,null,0]
[null,null,null,null,0]
[null,null,null,null,0]
[null,null,null,null,0]
[null,null,null,null,0]
[null,null,null,null,0]
[null,null,null,null,0]
[null,null,null,null,0]
[null,null,null,null,0]
[null,null,null,null,0]
[null,null,null,null,0]
[null,null,null,null,0]
[null,null,null,null,0]
[null,null,null,null,0]
[null,null,null,null,0]
[null,null,null,null,0]
[null,null,null,null,0]
[null,null,null,null,0]
[null,null,null,null,0]
[null,null,null,null,0]
[null,null,null,null,0]
[null,null,null,null,0]
[null,null,null,null,0]
[null,null,null,null,0]
[null,null,null,null,0]
[null,null,null,null,0]
[null,null,null,null,0]
[null,null,null,null,0]
[null,null,null,null,0]
[null,null,null,null,0]
[null,null,null,null,0]
[null,null,null,null,0]
[null,null,null,null,0]
[null,null,null,null,0]
[null,null,null,null,0]
[null,null,null,null,0]
[null,null,null,null,0]
[null,null,null,null,0]
[null,null,null,null,0]
[null,null,null,null,0]
[null,null,null,null,0]
[null,null,null,null,0]
[null,null,null,null,0]
[null,null,null,null,0]
[null,null,null,null,0]
[null,null,null,null,{"$f":"IFERROR((GETPIVOTDATA(\"Importe\",$B$11,\"D/H\",\"D\",\"Fecha\",B904)-GETPIVOTDATA(\"Importe\",$B$11,\"D/H\",\"H\",\"Fecha\",B904)+E903),0)","v":0}]
[null,null,null,null,0]
[null,null,null,null,0]
[null,null,null,null,0]
[null,null,null,null,0]
[null,null,null,null,0]
[null,null,null,null,0]
[null,null,null,null,0]
[null,null,null,null,0]
[null,null,null,null,0]
[null,null,null,null,0]
[null,null,null,null,0]
[null,null,null,null,0]
[null,null,null,null,0]
[null,null,null,null,0]
[null,null,null,null,0]
[null,null,null,null,0]
[null,null,null,null,0]
[null,null,null,null,0]
[null,null,null,null,0]
[null,null,null,null,0]
[null,null,null,null,0]
[null,null,null,null,0]
[null,null,null,null,0]
[null,null,null,null,0]
[null,null,null,null,0]
[null,null,null,null,0]
[null,null,null,null,0]
[null,null,null,null,0]
[null,null,null,null,0]
[null,null,null,null,0]
[null,null,null,null,0]
[null,null,null,null,0]
[null,null,null,null,0]
[null,null,null,null,0]
[null,null,null,null,0]
[null,null,null,null,0]
[null,null,null,null,0]
[null,null,null,null,0]
[null,null,null,null,0]
[null,null,null,null,0]
[null,null,null,null,0]
[null,null,null,null,0]
[null,null,null,null,0]
[null,null,null,null,0]
[null,null,null,null,0]
[null,null,null,null,0]
[null,null,null,null,0]
[null,null,null,null,0]
[null,null,null,null,0]
[null,null,null,null,0]
[null,null,null,null,0]
[null,null,null,null,0]
[null,null,null,null,0]
[null,null,null,null,0]
[null,null,null,null,0]
[null,null,null,null,0]
[null,null,null,null,0]
[null,null,null,null,0]
[null,null,null,null,0]
[null,null,null,null,0]
[null,null,null,null,0]
[null,null,null,null,0]
[null,null,null,null,0]
[null,null,null,null,{"$f":"IFERROR((GETPIVOTDATA(\"Importe\",$B$11,\"D/H\",\"D\",\"Fecha\",B968)-GETPIVOTDATA(\"Importe\",$B$11,\"D/H\",\"H\",\"Fecha\",B968)+E967),0)","v":0}]
[null,null,null,null,0]
[null,null,null,null,0]
[null,null,null,null,0]
[null,null,null,null,0]
[null,null,null,null,0]
[null,null,null,null,0]
[null,null,null,null,0]
[null,null,null,null,0]
[null,null,null,null,0]
[null,null,null,null,0]
[null,null,null,null,0]
[null,null,null,null,0]
[null,null,null,null,0]
[null,null,null,null,0]
[null,null,null,null,0]
[null,null,null,null,0]
[null,null,null,null,0]
[null,null,null,null,0]
[null,null,null,null,0]
[null,null,null,null,0]
[null,null,null,null,0]
[null,null,null,null,0]
[null,null,null,null,0]
[null,null,null,null,0]
[null,null,null,null,0]
[null,null,null,null,0]
[null,null,null,null,0]
[null,null,null,null,0]
[null,null,null,null,0]
[null,null,null,null,0]
[null,null,null,null,0]
[null,null,null,null,0]
[null,null,null,null,0]
[null,null,null,null,0]
[null,null,null,null,0]
[null,null,null,null,0]
[null,null,null,null,0]
[null,null,null,null,0]
[null,null,null,null,0]
[null,null,null,null,0]
[null,null,null,null,0]
[null,null,null,null,0]
[null,null,null,null,0]
[null,null,null,null,0]
[null,null,null,null,0]
[null,null,null,null,0]
[null,null,null,null,0]
[null,null,null,null,0]
[null,null,null,null,0]
[null,null,null,null,0]
[null,null,null,null,0]
[null,null,null,null,0]
[null,null,null,null,0]
[null,null,null,null,0]
[null,null,null,null,0]
[null,null,null,null,0]
[null,null,null,null,0]
[null,null,null,null,0]
[null,null,null,null,0]
[null,null,null,null,0]
[null,null,null,null,0]
[null,null,null,null,0]
[null,null,null,null,0]
[null,null,null,null,{"$f":"IFERROR((GETPIVOTDATA(\"Importe\",$B$11,\"D/H\",\"D\",\"Fecha\",B1032)-GETPIVOTDATA(\"Importe\",$B$11,\"D/H\",\"H\",\"Fecha\",B1032)+E1031),0)","v":0}]
[null,null,null,null,0]
[null,null,null,null,0]
[null,null,null,null,0]
[null,null,null,null,0]
[null,null,null,null,0]
[null,null,null,null,0]
[null,null,null,null,0]
[null,null,null,null,0]
[null,null,null,null,0]
[null,null,null,null,0]
[null,null,null,null,0]
[null,null,null,null,0]
[null,null,null,null,0]
[null,null,null,null,0]
[null,null,null,null,0]
[null,null,null,null,0]
[null,null,null,null,0]
[null,null,null,null,0]
[null,null,null,null,0]
[null,null,null,null,0]
[null,null,null,null,0]
[null,null,null,null,0]
[null,null,null,null,0]
[null,null,null,null,0]
[null,null,null,null,0]
[null,null,null,null,0]
[null,null,null,null,0]
[null,null,null,null,0]
[null,null,null,null,0]
[null,null,null,null,0]
[null,null,null,null,0]
[null,null,null,null,0]
[null,null,null,null,0]
[null,null,null,null,0]
[null,null,null,null,0]
[null,null,null,null,0]
[null,null,null,null,0]
[null,null,null,null,0]
[null,null,null,null,0]
[null,null,null,null,0]
[null,null,null,null,0]
[null,null,null,null,0]
[null,null,null,null,0]
[null,null,null,null,0]
[null,null,null,null,0]
[null,null,null,null,0]
[null,null,null,null,0]
[null,null,null,null,0]
[null,null,null,null,0]
[null,null,null,null,0]
[null,null,null,null,0]
[null,null,null,null,0]
[null,null,null,null,0]
[null,null,null,null,0]
[null,null,null,null,0]
[null,null,null,null,0]
[null,null,null,null,0]
[null,null,null,null,0]
[null,null,null,null,0]
[null,null,null,null,0]
[null,null,null,null,0]
[null,null,null,null,0]
[null,null,null,null,0]
[null,null,null,null,{"$f":"IFERROR((GETPIVOTDATA(\"Importe\",$B$11,\"D/H\",\"D\",\"Fecha\",B1096)-GETPIVOTDATA(\"Importe\",$B$11,\"D/H\",\"H\",\"Fecha\",B1096)+E1095),0)","v":0}]
[null,null,null,null,0]
[null,null,null,null,0]
[null,null,null,null,0]
[null,null,null,null,0]
[null,null,null,null,0]
[null,null,null,null,0]
[null,null,null,null,0]
[null,null,null,null,0]
[null,null,null,null,0]
[null,null,null,null,0]
[null,null,null,null,0]
[null,null,null,null,0]
[null,null,null,null,0]
[null,null,null,null,0]
[null,null,null,null,0]
[null,null,null,null,0]
[null,null,null,null,0]
[null,null,null,null,0]
[null,null,null,null,0]
[null,null,null,null,0]
[null,null,null,null,0]
[null,null,null,null,0]
[null,null,null,null,0]
[null,null,null,null,0]
[null,null,null,null,0]
[null,null,null,null,0]
[null,null,null,null,0]
[null,null,null,null,0]
[null,null,null,null,0]
[null,null,null,null,0]
[null,null,null,null,0]
[null,null,null,null,0]
[null,null,null,null,0]
[null,null,null,null,0]
[null,null,null,null,0]
[null,null,null,null,0]
[null,null,null,null,0]
[null,null,null,null,0]
[null,null,null,null,0]
[null,null,null,null,0]
[null,null,null,null,0]
[null,null,null,null,0]
[null,null,null,null,0]
[null,null,null,null,0]
[null,null,null,null,0]
[null,null,null,null,0]
[null,null,null,null,0]
[null,null,null,null,0]
[null,null,null,null,0]
[null,null,null,null,0]
[null,null,null,null,0]
[null,null,null,null,0]
[null,null,null,null,0]
[null,null,null,null,0]
[null,null,null,null,0]
[null,null,null,null,0]
[null,null,null,null,0]
[null,null,null,null,0]
[null,null,null,null,0]
[null,null,null,null,0]
[null,null,null,null,0]
[null,null,null,null,0]
[null,null,null,null,0]
[null,null,null,null,{"$f":"IFERROR((GETPIVOTDATA(\"Importe\",$B$11,\"D/H\",\"D\",\"Fecha\",B1160)-GETPIVOTDATA(\"Importe\",$B$11,\"D/H\",\"H\",\"Fecha\",B1160)+E1159),0)","v":0}]
[null,null,null,null,0]
[null,null,null,null,0]
[null,null,null,null,0]
[null,null,null,null,0]
[null,null,null,null,0]
[null,null,null,null,0]
[null,null,null,null,0]
[null,null,null,null,0]
[null,null,null,null,0]
[null,null,null,null,0]
[null,null,null,null,0]
[null,null,null,null,0]
[null,null,null,null,0]
[null,null,null,null,0]
[null,null,null,null,0]
[null,null,null,null,0]
[null,null,null,null,0]
[null,null,null,null,0]
[null,null,null,null,0]
[null,null,null,null,0]
[null,null,null,null,0]
[null,null,null,null,0]
[null,null,null,null,0]
[null,null,null,null,0]
[null,null,null,null,0]
[null,null,null,null,0]
[null,null,null,null,0]
[null,null,null,null,0]
[null,null,null,null,0]
[null,null,null,null,0]
[null,null,null,null,0]
[null,null,null,null,0]
[null,null,null,null,0]
[null,null,null,null,0]
[null,null,null,null,0]
[null,null,null,null,0]
[null,null,null,null,0]
[null,null,null,null,0]
[null,null,null,null,0]
[null,null,null,null,0]
[null,null,null,null,0]
[null,null,null,null,0]
[null,null,null,null,0]
[null,null,null,null,0]
[null,null,null,null,0]
[null,null,null,null,0]
[null,null,null,null,0]
[null,null,null,null,0]
[null,null,null,null,0]
[null,null,null,null,0]
[null,null,null,null,0]
[null,null,null,null,0]
[null,null,null,null,0]
[null,null,null,null,0]
[null,null,null,null,0]
[null,null,null,null,0]
[null,null,null,null,0]
[null,null,null,null,0]
[null,null,null,null,0]
[null,null,null,null,0]
[null,null,null,null,0]
[null,null,null,null,0]
[null,null,null,null,0]
[null,null,null,null,{"$f":"IFERROR((GETPIVOTDATA(\"Importe\",$B$11,\"D/H\",\"D\",\"Fecha\",B1224)-GETPIVOTDATA(\"Importe\",$B$11,\"D/H\",\"H\",\"Fecha\",B1224)+E1223),0)","v":0}]
[null,null,null,null,0]
[null,null,null,null,0]
[null,null,null,null,0]
[null,null,null,null,0]
[null,null,null,null,0]
[null,null,null,null,0]
[null,null,null,null,0]
[null,null,null,null,0]
[null,null,null,null,0]
[null,null,null,null,0]
[null,null,null,null,0]
[null,null,null,null,0]
[null,null,null,null,0]
[null,null,null,null,0]
[null,null,null,null,0]
[null,null,null,null,0]
[null,null,null,null,0]
[null,null,null,null,0]
[null,null,null,null,0]
[null,null,null,null,0]
[null,null,null,null,0]
[null,null,null,null,0]
[null,null,null,null,0]
[null,null,null,null,0]
[null,null,null,null,0]
[null,null,null,null,0]
[null,null,null,null,0]
[null,null,null,null,0]
[null,null,null,null,0]
[null,null,null,null,0]
[null,null,null,null,0]
[null,null,null,null,0]
[null,null,null,null,0]
[null,null,null,null,0]
[null,null,null,null,0]
[null,null,null,null,0]
[null,null,null,null,0]
[null,null,null,null,0]
[null,null,null,null,0]
[null,null,null,null,0]
[null,null,null,null,0]
[null,null,null,null,0]
[null,null,null,null,0]
[null,null,null,null,0]
[null,null,null,null,0]
[null,null,null,null,0]
[null,null,null,null,0]
[null,null,null,null,0]
[null,null,null,null,0]
[null,null,null,null,0]
[null,null,null,null,0]
[null,null,null,null,0]
[null,null,null,null,0]
[null,null,null,null,0]
[null,null,null,null,0]
[null,null,null,null,0]
[null,null,null,null,0]
[null,null,null,null,0]
[null,null,null,null,0]
[null,null,null,null,0]
[null,null,null,null,0]
[null,null,null,null,0]
[null,null,null,null,0]
[null,null,null,null,{"$f":"IFERROR((GETPIVOTDATA(\"Importe\",$B$11,\"D/H\",\"D\",\"Fecha\",B1288)-GETPIVOTDATA(\"Importe\",$B$11,\"D/H\",\"H\",\"Fecha\",B1288)+E1287),0)","v":0}]
[null,null,null,null,0]
[null,null,null,null,0]
[null,null,null,null,0]
[null,null,null,null,0]
[null,null,null,null,0]
[null,null,null,null,0]
[null,null,null,null,0]
[null,null,null,null,0]
[null,null,null,null,0]
[null,null,null,null,0]
[null,null,null,null,0]
[null,null,null,null,0]
[null,null,null,null,0]
[null,null,null,null,0]
[null,null,null,null,0]
[null,null,null,null,0]
[null,null,null,null,0]
[null,null,null,null,0]
[null,null,null,null,0]
[null,null,null,null,0]
[null,null,null,null,0]
[null,null,null,null,0]
[null,null,null,null,0]
[null,null,null,null,0]
[null,null,null,null,0]
[null,null,null,null,0]
[null,null,null,null,0]
[null,null,null,null,0]
[null,null,null,null,0]
[null,null,null,null,0]
[null,null,null,null,0]
[null,null,null,null,0]
[null,null,null,null,0]
[null,null,null,null,0]
[null,null,null,null,0]
[null,null,null,null,0]
[null,null,null,null,0]
[null,null,null,null,0]
[null,null,null,null,0]
[null,null,null,null,0]
[null,null,null,null,0]
[null,null,null,null,0]
[null,null,null,null,0]
[null,null,null,null,0]
[null,null,null,null,0]
[null,null,null,null,0]
[null,null,null,null,0]
[null,null,null,null,0]
[null,null,null,null,0]
[null,null,null,null,0]
[null,null,null,null,0]
[null,null,null,null,0]
[null,null,null,null,0]
[null,null,null,null,0]
[null,null,null,null,0]
[null,null,null,null,0]
[null,null,null,null,0]
[null,null,null,null,0]
[null,null,null,null,0]
[null,null,null,null,0]
[null,null,null,null,0]
[null,null,null,null,0]
[null,null,null,null,0]
[null,null,null,null,{"$f":"IFERROR((GETPIVOTDATA(\"Importe\",$B$11,\"D/H\",\"D\",\"Fecha\",B1352)-GETPIVOTDATA(\"Importe\",$B$11,\"D/H\",\"H\",\"Fecha\",B1352)+E1351),0)","v":0}]
[null,null,null,null,0]
[null,null,null,null,0]
[null,null,null,null,0]
[null,null,null,null,0]
[null,null,null,null,0]
[null,null,null,null,0]
[null,null,null,null,0]
[null,null,null,null,0]
[null,null,null,null,0]
[null,null,null,null,0]
[null,null,null,null,0]
[null,null,null,null,0]
[null,null,null,null,0]
[null,null,null,null,0]

{"sheet":"Ratios","index":7,"n_rows":58,"n_cols":17,"rows_kept":58,"cut":false,"hidden":false,"merged":[[53,12,53,15],[55,12,55,15],[57,12,57,15],[35,13,35,15],[39,13,39,15],[41,12,41,15],[43,12,43,15],[0,0,2,9],[0,12,2,16],[31,13,31,15],[33,13,33,15],[51,12,51,15]]}
["ORDENACION FUNCIONAL DEL PATRIMONIO",null,null,null,null,null,null,null,null,null,null,null,"ORDENACION FUNCIONAL RESULTADOS"]
[]
[]
[null,null,null,null,"Ejercicio",null,null,null,null,"Ejercicio",null,null,null,null,null,"Importe"," %"]
["ACTIVO EXPLOTACIÓN",null,null,null,{"$f":"E6+E10","v":15350},null,"Patrimonio Neto",null,null,{"$f":"J6+J16+J17","v":6750},null,null,"Importe Neto de la Cifra de Negocios",null,null,{"$f":"PyG!H4","v":5000},{"$f":"P5/$P$5","v":1}]
["ACTIVO NO CORRIENTE EXPLOTACIÓN",null,null,null,{"$f":"SUM(E7:E9)","v":600},null,"A-1 Fondos Propios",null,null,{"$f":"SUM(J7:J15)","v":6750},null,null,"Consumo de Existencias",null,null,{"$f":"PyG!H5+PyG!H7","v":3500},{"$f":"P6/$P$5","v":0.7}]
["  Inmovilizado intangible",null,null,null,{"$f":"Balance!G4","v":0},null,"I Capital",null,null,{"$f":"Balance!R5","v":12000},null,null,"Rtdo. Bruto de Explotación",null,null,{"$f":"P5-P6","v":1500},{"$f":"P7/$P$5","v":0.3}]
["  Inmovilizado material",null,null,null,{"$f":"Balance!G5","v":600},null,"II Prima de Emisión",null,null,{"$f":"Balance!R8","v":0},null,null,"Gastos de Personal",null,null,{"$f":"PyG!H9","v":1450},{"$f":"P8/$P$5","v":0.28999999999999998}]
["  Activos por impuesto diferido",null,null,null,{"$f":"Balance!G9","v":0},null,"III Reservas",null,null,{"$f":"Balance!R9","v":0},null,null,"Otros Gastos de Explotación",null,null,{"$f":"PyG!H10","v":1300},{"$f":"P9/$P$5","v":0.26}]
["ACTIVO CORRIENTE EXPLOTACIÓN",null,null,null,{"$f":"E12+E13+E14+E16","v":14750},null,"IV Acciones Propias",null,null,{"$f":"Balance!R10","v":0},null,null,"Amortización del Inmovilizado (b)",null,null,{"$f":"PyG!H11","v":0},0]
["  ACTIVOS COMERCIALES",null,null,null,null,null,"V Rtdos de Ejercicios Anteriores",null,null,{"$f":"Balance!R11","v":0},null,null,"Rtdo Neto de Explotación",null,null,{"$f":"P7-P8-P9-P10","v":-1250},-0.25]
["  Existencias",null,null,null,{"$f":"Balance!G12","v":1500},null,"VI Otras Aportaciones",null,null,{"$f":"Balance!R12","v":0},null,null,"Otros Ingresos de Explotación",null,null,{"$f":"PyG!H8","v":0},0]
["  Clientes por ventas y prestaciones de servicios",null,null,null,{"$f":"Balance!G14","v":3500},null,"VII Rtdo del Ejercicio",null,null,{"$f":"Balance!R13","v":-5250},null,null,"Traba. realizados por la empresa Inmov.",null,null,{"$f":"PyG!H6","v":0},0]
["  Otros deudores (incluye periodificaciones c/p)",null,null,null,{"$f":"Balance!G16+Balance!G19","v":0},null,"VIII Dividendo a Cuenta",null,null,{"$f":"Balance!R14","v":0},null,null,"Imputación de Subvenciones (c) ",null,null,{"$f":"PyG!H12","v":0},0]
["  TESORERÍA",null,null,null,null,null,"IX Otros instrumentos de Patrimonio",null,null,{"$f":"Balance!R15","v":0},null,null,"Excesos de Provisiones (d)",null,null,{"$f":"PyG!H13","v":0},0]
["  Efectivo y otros activos líquidos equivalentes",null,null,null,{"$f":"Balance!G20","v":9750},null,"A-2 Ajustes por cambio de valor",null,null,{"$f":"Balance!R16","v":0},null,null,"Deterioro Enajenación Inmovilizado (e) ",null,null,{"$f":"-PyG!H14","v":-4000},-0.8]
[null,null,null,null,null,null,"A-3 Subvenciones, Donaciones..",null,null,{"$f":"Balance!R17","v":0},null,null,"Rtdo Antes de Intereses e Impuestos",null,null,{"$f":"P11+P12+P13+P14+P15+P16","v":-5250},-1.05]
["ACTIVO AJENO A LA EXPLOTACIÓN",null,null,null,{"$f":"E19+E23","v":0},null,"Pasivo Total",null,null,{"$f":"J19+J28","v":8600},null,null,"Ingresos Financieros",null,null,{"$f":"PyG!H16","v":0},0]
["ACTIVO NO CORRIENTE AJENO EXPLOTACIÓN",null,null,null,{"$f":"E20+E21+E22","v":0},null,"Pasivo No Corriente",null,null,{"$f":"J20+J24","v":0},null,null,"Gastos Financieros",null,null,{"$f":"PyG!H17","v":0},0]
["  Inversiones inmobiliarias",null,null,null,{"$f":"Balance!G6","v":0},null,"Créditos Puros a L/P",null,null,{"$f":"SUM(J21:J23)","v":0},null,null,"Resto de ingresos y gastos financieros",null,null,{"$f":"0","v":0},0]
["  Inver.empresas del grupo y asociadas a L/P",null,null,null,{"$f":"Balance!G7","v":0},null,"Deudas con Entidades de Credito",null,null,{"$f":"Balance!R21","v":0},null,null,"Variac.Valor Razonable (f)",null,null,{"$f":"PyG!H18","v":0},0]
["  Inversiones financieras a largo plazo",null,null,null,{"$f":"Balance!G8","v":0},null,"Deud. Empr.Grupo y Asociadas L/P",null,null,{"$f":"Balance!R24","v":0},null,null,"Diferencias de cambio (g)",null,null,{"$f":"PyG!H19","v":0},0]
["ACTIVO CORRIENTE AJENO EXPLOTACIÓN",null,null,null,{"$f":"E24+E25+E26","v":0},null,"Otras Deudas a L/P",null,null,{"$f":"Balance!R23+Balance!R22","v":0},null,null,"Deterioro Enajenación Financiero (h) ",null,null,{"$f":"PyG!H20","v":0},0]
["  Inver.empresas del grupo y asociadas a C/P",null,null,null,{"$f":"Balance!G17","v":0},null,"Otros Pasivos no Corrientes",null,null,{"$f":"SUM(J25:J27)","v":0},null,null,"Rtdo Antes de Impuestos",null,null,{"$f":"P17+P18-P19+P20+P21+P22-P23","v":-5250},{"$f":"P24/$P$5","v":-1.05}]
["  Inversiones financieras a corto plazo",null,null,null,{"$f":"Balance!G18","v":0},null,"Provisiones a L/P",null,null,{"$f":"Balance!R19","v":0},null,null,"Impuesto sobre beneficios (a)",null,null,{"$f":"PyG!H23","v":0},0]
["  Accionistas (socios) por desembolsos exigidos",null,null,null,{"$f":"Balance!G15","v":0},null,"Pasivos por Impuestos Diferidos",null,null,{"$f":"Balance!R25","v":0},null,null,"Rtdo del Ejercicio (a)",null,null,{"$f":"P24-P25","v":-5250},{"$f":"P26/$P$5","v":-1.05}]
[null,null,null,null,null,null,"Periodificaciones a L/P",null,null,{"$f":"Balance!R26","v":0}]
["TOTAL ACTIVO ",null,null,null,{"$f":"E18+E5","v":15350},null,"Pasivo Corriente",null,null,{"$f":"J29+J32+J36","v":8600},null,null,"Ratios e indicadores básicos"]
[null,null,null,null,null,null,"Pasivos Comerciales",null,null,{"$f":"SUM(J30:J31)","v":8600}]
[null,null,null,null,null,null,"Proveedores",null,null,{"$f":"Balance!R36","v":5000},null,null,"Análisis del Endeudamiento"]
[null,null,null,null,null,null,"Otros Acreedores",null,null,{"$f":"Balance!R37","v":3600},null,null,"Endeudamiento total"]
[null,null,null,null,null,null,"Créditos Puros a C/P",null,null,{"$f":"SUM(J33:J35)","v":0},null,null,null,"Pasivo Total / Patrimonio Neto",null,null,{"$f":"IFERROR(((Balance!R18+Balance!R27)/Balance!R3),0)","v":1.2740740740740741}]
[null,null,null,null,null,null,"Deudas con Entidades de Credito",null,null,{"$f":"Balance!R31","v":0},null,null,"Endeudamiento a Largo Plazo"]
[null,null,null,null,null,null,"Deud. Empr.Grupo y Asociadas C/P",null,null,{"$f":"Balance!R34","v":0},null,null,null,"Pasivo No Corriente / Patrimonio Neto",null,null,{"$f":"IFERROR(Balance!R18/Balance!R3,0)","v":0}]
[null,null,null,null,null,null,"Otras Deudas a C/P",null,null,{"$f":"Balance!R33+Balance!R28+Balance!R38","v":0},null,null,"Endeudamiento a Corto Plazo"]
[null,null,null,null,null,null,"Otros Pasivos Corrientes",null,null,{"$f":"SUM(J37)","v":0},null,null,null,"Pasivo Corriente / Patrimonio Neto",null,null,{"$f":"IFERROR(Balance!R27/Balance!R3,0)","v":1.2740740740740741}]
[null,null,null,null,null,null,"Provisiones a C/P",null,null,{"$f":"Balance!R29","v":0}]
[null,null,null,null,null,null,"TOTAL PASIVO",null,null,{"$f":"J18+J5","v":15350},null,null,"Análisis Financiero o de Solvencia"]
[null,null,null,null,null,null,null,null,null,null,null,null,"Equilibrio a L/P:  Garantía"]
[null,null,null,null,null,null,null,null,null,null,null,null,null,"Activo Total / Pasivo Total",null,null,{"$f":"IFERROR(Balance!G21/(Balance!R18+Balance!R27),0)","v":1.7848837209302326}]
[null,null,null,null,null,null,null,null,null,null,null,null,"Equilibrio a L/P:  Financiación Actinvo No Corriente"]
[null,null,null,null,null,null,null,null,null,null,null,null,"Activo No Corriente / Pasivo No Corriente",null,null,null,{"$f":"IFERROR(Balance!G3/Balance!R18,0)","v":0}]
[null,null,null,null,null,null,null,null,null,null,null,null,"Equilibrio a C/P:  Ratio Corriente"]
[null,null,null,null,null,null,null,null,null,null,null,null,"Activo Corriente / Pasivo Corriente",null,null,null,{"$f":"IFERROR(Balance!G10/Balance!R27,0)","v":1.7151162790697674}]
[]
[null,null,null,null,null,null,null,null,null,null,null,null,"Análisis Económico o de la Rentabilidad"]
[null,null,null,null,null,null,null,null,null,null,null,null,"Rentabilidad Económica Global"]
[null,null,null,null,null,null,null,null,null,null,null,null,"(BDI+Gtos Financieros)/(Total Activo -Accion. Exig) %",null,null,null,{"$f":"IFERROR(((PyG!H24+PyG!H17)/(Balance!G21-Balance!G15)),0)","v":-0.34201954397394135}]
[null,null,null,null,null,null,null,null,null,null,null,null,"Rentabilidad Económica: Margen Económico"]
[null,null,null,null,null,null,null,null,null,null,null,null,"(BDI+Gtos Financieros)/(Cifra de Negocios) %",null,null,null,{"$f":"IFERROR(((PyG!H24+PyG!H17)/(PyG!H4)),0)","v":-1.05}]
[null,null,null,null,null,null,null,null,null,null,null,null,"Rentabilidad Económica: Rotación del Activo"]
[null,null,null,null,null,null,null,null,null,null,null,null,"(Cifra de Negocios)/(Total Activo - Accioni. Exig)  %",null,null,null,{"$f":"IFERROR((PyG!H4/(Balance!G21-Balance!G15)),0)","v":0.32573289902280128}]
[null,null,null,null,null,null,null,null,null,null,null,null,"Rentabilidad Financiera Global"]
[null,null,null,null,null,null,null,null,null,null,null,null,"BDI/ (Patrimonio Neto -Accion Exigidos)%",null,null,null,{"$f":"IFERROR((PyG!H24/(Balance!R3-Balance!G15)),0)","v":-0.77777777777777779}]
[null,null,null,null,null,null,null,null,null,null,null,null,"Rentab. Financiera: Coste Medio Contable de la Deuda"]
[null,null,null,null,null,null,null,null,null,null,null,null,"Gastos Financieros / Pasivo Total %",null,null,null,{"$f":"IFERROR((PyG!H17/(Balance!R18+Balance!R27)),0)","v":0}]
[null,null,null,null,null,null,null,null,null,null,null,null,"Rentabilidad Financiera: Ratio de Endeudamiento"]
[null,null,null,null,null,null,null,null,null,null,null,null,"Pasivo Total / (Patrimonio Neto -Accion Exigidos)%",null,null,null,{"$f":"IFERROR(((Balance!R18+Balance!R27)/(Balance!R3-Balance!G15)),0)","v":1.2740740740740741}]

{"sheet":"Sumas y Saldos","index":8,"n_rows":460,"n_cols":10,"rows_kept":460,"cut":false,"hidden":true,"merged":[[0,0,0,5]]}
["Balance de Sumas y Saldos"]
["Cuenta","Multiplicador","Grupo Abreviado","Debe","Haber","Saldo"]
[1000,-1,"PAI1",{"$f":"SUMIFS(Tabla_Diario[Importe],Tabla_Diario[Cta],Tabla5[Cuenta],Tabla_Diario[D/H],\"D\")","v":0},{"$f":"SUMIFS(Tabla_Diario[Importe],Tabla_Diario[Cta],Tabla5[Cuenta],Tabla_Diario[D/H],\"H\")","v":12000},{"$f":"(Tabla5[[#This Row],[Debe]]-Tabla5[[#This Row],[Haber]])*Tabla5[[#This Row],[Multiplicador]]","v":12000}]
[1010,-1,"PAI1",{"$f":"SUMIFS(Tabla_Diario[Importe],Tabla_Diario[Cta],Tabla5[Cuenta],Tabla_Diario[D/H],\"D\")","v":0},{"$f":"SUMIFS(Tabla_Diario[Importe],Tabla_Diario[Cta],Tabla5[Cuenta],Tabla_Diario[D/H],\"H\")","v":0},{"$f":"(Tabla5[[#This Row],[Debe]]-Tabla5[[#This Row],[Haber]])*Tabla5[[#This Row],[Multiplicador]]","v":0}]
[1020,-1,"PAI1",{"$f":"SUMIFS(Tabla_Diario[Importe],Tabla_Diario[Cta],Tabla5[Cuenta],Tabla_Diario[D/H],\"D\")","v":0},{"$f":"SUMIFS(Tabla_Diario[Importe],Tabla_Diario[Cta],Tabla5[Cuenta],Tabla_Diario[D/H],\"H\")","v":0},{"$f":"(Tabla5[[#This Row],[Debe]]-Tabla5[[#This Row],[Haber]])*Tabla5[[#This Row],[Multiplicador]]","v":0}]
[1030,1,"PAI2",{"$f":"SUMIFS(Tabla_Diario[Importe],Tabla_Diario[Cta],Tabla5[Cuenta],Tabla_Diario[D/H],\"D\")","v":0},{"$f":"SUMIFS(Tabla_Diario[Importe],Tabla_Diario[Cta],Tabla5[Cuenta],Tabla_Diario[D/H],\"H\")","v":0},{"$f":"(Tabla5[[#This Row],[Debe]]-Tabla5[[#This Row],[Haber]])*Tabla5[[#This Row],[Multiplicador]]","v":0}]
[1040,1,"PAI2",{"$f":"SUMIFS(Tabla_Diario[Importe],Tabla_Diario[Cta],Tabla5[Cuenta],Tabla_Diario[D/H],\"D\")","v":0},{"$f":"SUMIFS(Tabla_Diario[Importe],Tabla_Diario[Cta],Tabla5[Cuenta],Tabla_Diario[D/H],\"H\")","v":0},{"$f":"(Tabla5[[#This Row],[Debe]]-Tabla5[[#This Row],[Haber]])*Tabla5[[#This Row],[Multiplicador]]","v":0}]
[1080,1,"PAIV",{"$f":"SUMIFS(Tabla_Diario[Importe],Tabla_Diario[Cta],Tabla5[Cuenta],Tabla_Diario[D/H],\"D\")","v":0},{"$f":"SUMIFS(Tabla_Diario[Importe],Tabla_Diario[Cta],Tabla5[Cuenta],Tabla_Diario[D/H],\"H\")","v":0},{"$f":"(Tabla5[[#This Row],[Debe]]-Tabla5[[#This Row],[Haber]])*Tabla5[[#This Row],[Multiplicador]]","v":0},null,null,5730]
[1090,1,"PAIV",{"$f":"SUMIFS(Tabla_Diario[Importe],Tabla_Diario[Cta],Tabla5[Cuenta],Tabla_Diario[D/H],\"D\")","v":0},{"$f":"SUMIFS(Tabla_Diario[Importe],Tabla_Diario[Cta],Tabla5[Cuenta],Tabla_Diario[D/H],\"H\")","v":0},{"$f":"(Tabla5[[#This Row],[Debe]]-Tabla5[[#This Row],[Haber]])*Tabla5[[#This Row],[Multiplicador]]","v":0}]
[1100,-1,"PAII",{"$f":"SUMIFS(Tabla_Diario[Importe],Tabla_Diario[Cta],Tabla5[Cuenta],Tabla_Diario[D/H],\"D\")","v":0},{"$f":"SUMIFS(Tabla_Diario[Importe],Tabla_Diario[Cta],Tabla5[Cuenta],Tabla_Diario[D/H],\"H\")","v":0},{"$f":"(Tabla5[[#This Row],[Debe]]-Tabla5[[#This Row],[Haber]])*Tabla5[[#This Row],[Multiplicador]]","v":0}]
[1110,-1,"PAIX",{"$f":"SUMIFS(Tabla_Diario[Importe],Tabla_Diario[Cta],Tabla5[Cuenta],Tabla_Diario[D/H],\"D\")","v":0},{"$f":"SUMIFS(Tabla_Diario[Importe],Tabla_Diario[Cta],Tabla5[Cuenta],Tabla_Diario[D/H],\"H\")","v":0},{"$f":"(Tabla5[[#This Row],[Debe]]-Tabla5[[#This Row],[Haber]])*Tabla5[[#This Row],[Multiplicador]]","v":0}]
[1120,-1,"PAIII",{"$f":"SUMIFS(Tabla_Diario[Importe],Tabla_Diario[Cta],Tabla5[Cuenta],Tabla_Diario[D/H],\"D\")","v":0},{"$f":"SUMIFS(Tabla_Diario[Importe],Tabla_Diario[Cta],Tabla5[Cuenta],Tabla_Diario[D/H],\"H\")","v":0},{"$f":"(Tabla5[[#This Row],[Debe]]-Tabla5[[#This Row],[Haber]])*Tabla5[[#This Row],[Multiplicador]]","v":0}]
[1130,-1,"PAIII",{"$f":"SUMIFS(Tabla_Diario[Importe],Tabla_Diario[Cta],Tabla5[Cuenta],Tabla_Diario[D/H],\"D\")","v":0},{"$f":"SUMIFS(Tabla_Diario[Importe],Tabla_Diario[Cta],Tabla5[Cuenta],Tabla_Diario[D/H],\"H\")","v":0},{"$f":"(Tabla5[[#This Row],[Debe]]-Tabla5[[#This Row],[Haber]])*Tabla5[[#This Row],[Multiplicador]]","v":0}]
[1140,-1,"PAIII",{"$f":"SUMIFS(Tabla_Diario[Importe],Tabla_Diario[Cta],Tabla5[Cuenta],Tabla_Diario[D/H],\"D\")","v":0},{"$f":"SUMIFS(Tabla_Diario[Importe],Tabla_Diario[Cta],Tabla5[Cuenta],Tabla_Diario[D/H],\"H\")","v":0},{"$f":"(Tabla5[[#This Row],[Debe]]-Tabla5[[#This Row],[Haber]])*Tabla5[[#This Row],[Multiplicador]]","v":0}]
[1150,-1,"PAIII",{"$f":"SUMIFS(Tabla_Diario[Importe],Tabla_Diario[Cta],Tabla5[Cuenta],Tabla_Diario[D/H],\"D\")","v":0},{"$f":"SUMIFS(Tabla_Diario[Importe],Tabla_Diario[Cta],Tabla5[Cuenta],Tabla_Diario[D/H],\"H\")","v":0},{"$f":"(Tabla5[[#This Row],[Debe]]-Tabla5[[#This Row],[Haber]])*Tabla5[[#This Row],[Multiplicador]]","v":0}]
[1170,-1,"PAIII",{"$f":"SUMIFS(Tabla_Diario[Importe],Tabla_Diario[Cta],Tabla5[Cuenta],Tabla_Diario[D/H],\"D\")","v":0},{"$f":"SUMIFS(Tabla_Diario[Importe],Tabla_Diario[Cta],Tabla5[Cuenta],Tabla_Diario[D/H],\"H\")","v":0},{"$f":"(Tabla5[[#This Row],[Debe]]-Tabla5[[#This Row],[Haber]])*Tabla5[[#This Row],[Multiplicador]]","v":0}]
[1180,-1,"PAIII",{"$f":"SUMIFS(Tabla_Diario[Importe],Tabla_Diario[Cta],Tabla5[Cuenta],Tabla_Diario[D/H],\"D\")","v":0},{"$f":"SUMIFS(Tabla_Diario[Importe],Tabla_Diario[Cta],Tabla5[Cuenta],Tabla_Diario[D/H],\"H\")","v":0},{"$f":"(Tabla5[[#This Row],[Debe]]-Tabla5[[#This Row],[Haber]])*Tabla5[[#This Row],[Multiplicador]]","v":0}]
[1190,-1,"PAIII",{"$f":"SUMIFS(Tabla_Diario[Importe],Tabla_Diario[Cta],Tabla5[Cuenta],Tabla_Diario[D/H],\"D\")","v":0},{"$f":"SUMIFS(Tabla_Diario[Importe],Tabla_Diario[Cta],Tabla5[Cuenta],Tabla_Diario[D/H],\"H\")","v":0},{"$f":"(Tabla5[[#This Row],[Debe]]-Tabla5[[#This Row],[Haber]])*Tabla5[[#This Row],[Multiplicador]]","v":0}]
[1200,-1,"PAV",{"$f":"SUMIFS(Tabla_Diario[Importe],Tabla_Diario[Cta],Tabla5[Cuenta],Tabla_Diario[D/H],\"D\")","v":0},{"$f":"SUMIFS(Tabla_Diario[Importe],Tabla_Diario[Cta],Tabla5[Cuenta],Tabla_Diario[D/H],\"H\")","v":0},{"$f":"(Tabla5[[#This Row],[Debe]]-Tabla5[[#This Row],[Haber]])*Tabla5[[#This Row],[Multiplicador]]","v":0}]
[1210,1,"PAV",{"$f":"SUMIFS(Tabla_Diario[Importe],Tabla_Diario[Cta],Tabla5[Cuenta],Tabla_Diario[D/H],\"D\")","v":0},{"$f":"SUMIFS(Tabla_Diario[Importe],Tabla_Diario[Cta],Tabla5[Cuenta],Tabla_Diario[D/H],\"H\")","v":0},{"$f":"(Tabla5[[#This Row],[Debe]]-Tabla5[[#This Row],[Haber]])*Tabla5[[#This Row],[Multiplicador]]","v":0}]
[1280,-1,"PAVI",{"$f":"SUMIFS(Tabla_Diario[Importe],Tabla_Diario[Cta],Tabla5[Cuenta],Tabla_Diario[D/H],\"D\")","v":0},{"$f":"SUMIFS(Tabla_Diario[Importe],Tabla_Diario[Cta],Tabla5[Cuenta],Tabla_Diario[D/H],\"H\")","v":0},{"$f":"(Tabla5[[#This Row],[Debe]]-Tabla5[[#This Row],[Haber]])*Tabla5[[#This Row],[Multiplicador]]","v":0}]
[1290,-1,"PAVII",{"$f":"SUMIFS(Tabla_Diario[Importe],Tabla_Diario[Cta],Tabla5[Cuenta],Tabla_Diario[D/H],\"D\")","v":0},{"$f":"SUMIFS(Tabla_Diario[Importe],Tabla_Diario[Cta],Tabla5[Cuenta],Tabla_Diario[D/H],\"H\")","v":0},{"$f":"(Tabla5[[#This Row],[Debe]]-Tabla5[[#This Row],[Haber]])*Tabla5[[#This Row],[Multiplicador]]","v":0}]
[1300,-1,"PA3",{"$f":"SUMIFS(Tabla_Diario[Importe],Tabla_Diario[Cta],Tabla5[Cuenta],Tabla_Diario[D/H],\"D\")","v":0},{"$f":"SUMIFS(Tabla_Diario[Importe],Tabla_Diario[Cta],Tabla5[Cuenta],Tabla_Diario[D/H],\"H\")","v":0},{"$f":"(Tabla5[[#This Row],[Debe]]-Tabla5[[#This Row],[Haber]])*Tabla5[[#This Row],[Multiplicador]]","v":0}]
[1310,-1,"PA3",{"$f":"SUMIFS(Tabla_Diario[Importe],Tabla_Diario[Cta],Tabla5[Cuenta],Tabla_Diario[D/H],\"D\")","v":0},{"$f":"SUMIFS(Tabla_Diario[Importe],Tabla_Diario[Cta],Tabla5[Cuenta],Tabla_Diario[D/H],\"H\")","v":0},{"$f":"(Tabla5[[#This Row],[Debe]]-Tabla5[[#This Row],[Haber]])*Tabla5[[#This Row],[Multiplicador]]","v":0}]
[1320,-1,"PA3",{"$f":"SUMIFS(Tabla_Diario[Importe],Tabla_Diario[Cta],Tabla5[Cuenta],Tabla_Diario[D/H],\"D\")","v":0},{"$f":"SUMIFS(Tabla_Diario[Importe],Tabla_Diario[Cta],Tabla5[Cuenta],Tabla_Diario[D/H],\"H\")","v":0},{"$f":"(Tabla5[[#This Row],[Debe]]-Tabla5[[#This Row],[Haber]])*Tabla5[[#This Row],[Multiplicador]]","v":0}]
[1330,-1,"PA2",{"$f":"SUMIFS(Tabla_Diario[Importe],Tabla_Diario[Cta],Tabla5[Cuenta],Tabla_Diario[D/H],\"D\")","v":0},{"$f":"SUMIFS(Tabla_Diario[Importe],Tabla_Diario[Cta],Tabla5[Cuenta],Tabla_Diario[D/H],\"H\")","v":0},{"$f":"(Tabla5[[#This Row],[Debe]]-Tabla5[[#This Row],[Haber]])*Tabla5[[#This Row],[Multiplicador]]","v":0}]
[1340,-1,"PA2",{"$f":"SUMIFS(Tabla_Diario[Importe],Tabla_Diario[Cta],Tabla5[Cuenta],Tabla_Diario[D/H],\"D\")","v":0},{"$f":"SUMIFS(Tabla_Diario[Importe],Tabla_Diario[Cta],Tabla5[Cuenta],Tabla_Diario[D/H],\"H\")","v":0},{"$f":"(Tabla5[[#This Row],[Debe]]-Tabla5[[#This Row],[Haber]])*Tabla5[[#This Row],[Multiplicador]]","v":0}]
[1350,-1,"PA2",{"$f":"SUMIFS(Tabla_Diario[Importe],Tabla_Diario[Cta],Tabla5[Cuenta],Tabla_Diario[D/H],\"D\")","v":0},{"$f":"SUMIFS(Tabla_Diario[Importe],Tabla_Diario[Cta],Tabla5[Cuenta],Tabla_Diario[D/H],\"H\")","v":0},{"$f":"(Tabla5[[#This Row],[Debe]]-Tabla5[[#This Row],[Haber]])*Tabla5[[#This Row],[Multiplicador]]","v":0}]
[1360,-1,"PA2",{"$f":"SUMIFS(Tabla_Diario[Importe],Tabla_Diario[Cta],Tabla5[Cuenta],Tabla_Diario[D/H],\"D\")","v":0},{"$f":"SUMIFS(Tabla_Diario[Importe],Tabla_Diario[Cta],Tabla5[Cuenta],Tabla_Diario[D/H],\"H\")","v":0},{"$f":"(Tabla5[[#This Row],[Debe]]-Tabla5[[#This Row],[Haber]])*Tabla5[[#This Row],[Multiplicador]]","v":0}]
[1370,-1,"PA2",{"$f":"SUMIFS(Tabla_Diario[Importe],Tabla_Diario[Cta],Tabla5[Cuenta],Tabla_Diario[D/H],\"D\")","v":0},{"$f":"SUMIFS(Tabla_Diario[Importe],Tabla_Diario[Cta],Tabla5[Cuenta],Tabla_Diario[D/H],\"H\")","v":0},{"$f":"(Tabla5[[#This Row],[Debe]]-Tabla5[[#This Row],[Haber]])*Tabla5[[#This Row],[Multiplicador]]","v":0}]
[1400,-1,"PBI",{"$f":"SUMIFS(Tabla_Diario[Importe],Tabla_Diario[Cta],Tabla5[Cuenta],Tabla_Diario[D/H],\"D\")","v":0},{"$f":"SUMIFS(Tabla_Diario[Importe],Tabla_Diario[Cta],Tabla5[Cuenta],Tabla_Diario[D/H],\"H\")","v":0},{"$f":"(Tabla5[[#This Row],[Debe]]-Tabla5[[#This Row],[Haber]])*Tabla5[[#This Row],[Multiplicador]]","v":0}]
[1410,-1,"PBI",{"$f":"SUMIFS(Tabla_Diario[Importe],Tabla_Diario[Cta],Tabla5[Cuenta],Tabla_Diario[D/H],\"D\")","v":0},{"$f":"SUMIFS(Tabla_Diario[Importe],Tabla_Diario[Cta],Tabla5[Cuenta],Tabla_Diario[D/H],\"H\")","v":0},{"$f":"(Tabla5[[#This Row],[Debe]]-Tabla5[[#This Row],[Haber]])*Tabla5[[#This Row],[Multiplicador]]","v":0}]
[1420,-1,"PBI",{"$f":"SUMIFS(Tabla_Diario[Importe],Tabla_Diario[Cta],Tabla5[Cuenta],Tabla_Diario[D/H],\"D\")","v":0},{"$f":"SUMIFS(Tabla_Diario[Importe],Tabla_Diario[Cta],Tabla5[Cuenta],Tabla_Diario[D/H],\"H\")","v":0},{"$f":"(Tabla5[[#This Row],[Debe]]-Tabla5[[#This Row],[Haber]])*Tabla5[[#This Row],[Multiplicador]]","v":0}]
[1430,-1,"PBI",{"$f":"SUMIFS(Tabla_Diario[Importe],Tabla_Diario[Cta],Tabla5[Cuenta],Tabla_Diario[D/H],\"D\")","v":0},{"$f":"SUMIFS(Tabla_Diario[Importe],Tabla_Diario[Cta],Tabla5[Cuenta],Tabla_Diario[D/H],\"H\")","v":0},{"$f":"(Tabla5[[#This Row],[Debe]]-Tabla5[[#This Row],[Haber]])*Tabla5[[#This Row],[Multiplicador]]","v":0}]
[1450,-1,"PBI",{"$f":"SUMIFS(Tabla_Diario[Importe],Tabla_Diario[Cta],Tabla5[Cuenta],Tabla_Diario[D/H],\"D\")","v":0},{"$f":"SUMIFS(Tabla_Diario[Importe],Tabla_Diario[Cta],Tabla5[Cuenta],Tabla_Diario[D/H],\"H\")","v":0},{"$f":"(Tabla5[[#This Row],[Debe]]-Tabla5[[#This Row],[Haber]])*Tabla5[[#This Row],[Multiplicador]]","v":0}]
[1460,-1,"PBI",{"$f":"SUMIFS(Tabla_Diario[Importe],Tabla_Diario[Cta],Tabla5[Cuenta],Tabla_Diario[D/H],\"D\")","v":0},{"$f":"SUMIFS(Tabla_Diario[Importe],Tabla_Diario[Cta],Tabla5[Cuenta],Tabla_Diario[D/H],\"H\")","v":0},{"$f":"(Tabla5[[#This Row],[Debe]]-Tabla5[[#This Row],[Haber]])*Tabla5[[#This Row],[Multiplicador]]","v":0}]
[1470,-1,"PBI",{"$f":"SUMIFS(Tabla_Diario[Importe],Tabla_Diario[Cta],Tabla5[Cuenta],Tabla_Diario[D/H],\"D\")","v":0},{"$f":"SUMIFS(Tabla_Diario[Importe],Tabla_Diario[Cta],Tabla5[Cuenta],Tabla_Diario[D/H],\"H\")","v":0},{"$f":"(Tabla5[[#This Row],[Debe]]-Tabla5[[#This Row],[Haber]])*Tabla5[[#This Row],[Multiplicador]]","v":0}]
[1500,-1,"PBII2",{"$f":"SUMIFS(Tabla_Diario[Importe],Tabla_Diario[Cta],Tabla5[Cuenta],Tabla_Diario[D/H],\"D\")","v":0},{"$f":"SUMIFS(Tabla_Diario[Importe],Tabla_Diario[Cta],Tabla5[Cuenta],Tabla_Diario[D/H],\"H\")","v":0},{"$f":"(Tabla5[[#This Row],[Debe]]-Tabla5[[#This Row],[Haber]])*Tabla5[[#This Row],[Multiplicador]]","v":0}]
[1530,-1,"PBII2",{"$f":"SUMIFS(Tabla_Diario[Importe],Tabla_Diario[Cta],Tabla5[Cuenta],Tabla_Diario[D/H],\"D\")","v":0},{"$f":"SUMIFS(Tabla_Diario[Importe],Tabla_Diario[Cta],Tabla5[Cuenta],Tabla_Diario[D/H],\"H\")","v":0},{"$f":"(Tabla5[[#This Row],[Debe]]-Tabla5[[#This Row],[Haber]])*Tabla5[[#This Row],[Multiplicador]]","v":0}]
[1540,-1,"PBII2",{"$f":"SUMIFS(Tabla_Diario[Importe],Tabla_Diario[Cta],Tabla5[Cuenta],Tabla_Diario[D/H],\"D\")","v":0},{"$f":"SUMIFS(Tabla_Diario[Importe],Tabla_Diario[Cta],Tabla5[Cuenta],Tabla_Diario[D/H],\"H\")","v":0},{"$f":"(Tabla5[[#This Row],[Debe]]-Tabla5[[#This Row],[Haber]])*Tabla5[[#This Row],[Multiplicador]]","v":0}]
[1600,-1,"PBII2",{"$f":"SUMIFS(Tabla_Diario[Importe],Tabla_Diario[Cta],Tabla5[Cuenta],Tabla_Diario[D/H],\"D\")","v":0},{"$f":"SUMIFS(Tabla_Diario[Importe],Tabla_Diario[Cta],Tabla5[Cuenta],Tabla_Diario[D/H],\"H\")","v":0},{"$f":"(Tabla5[[#This Row],[Debe]]-Tabla5[[#This Row],[Haber]])*Tabla5[[#This Row],[Multiplicador]]","v":0}]
[1610,-1,"PBII3",{"$f":"SUMIFS(Tabla_Diario[Importe],Tabla_Diario[Cta],Tabla5[Cuenta],Tabla_Diario[D/H],\"D\")","v":0},{"$f":"SUMIFS(Tabla_Diario[Importe],Tabla_Diario[Cta],Tabla5[Cuenta],Tabla_Diario[D/H],\"H\")","v":0},{"$f":"(Tabla5[[#This Row],[Debe]]-Tabla5[[#This Row],[Haber]])*Tabla5[[#This Row],[Multiplicador]]","v":0}]
[1620,-1,"PBIII",{"$f":"SUMIFS(Tabla_Diario[Importe],Tabla_Diario[Cta],Tabla5[Cuenta],Tabla_Diario[D/H],\"D\")","v":0},{"$f":"SUMIFS(Tabla_Diario[Importe],Tabla_Diario[Cta],Tabla5[Cuenta],Tabla_Diario[D/H],\"H\")","v":0},{"$f":"(Tabla5[[#This Row],[Debe]]-Tabla5[[#This Row],[Haber]])*Tabla5[[#This Row],[Multiplicador]]","v":0}]
[1630,-1,"PBII3",{"$f":"SUMIFS(Tabla_Diario[Importe],Tabla_Diario[Cta],Tabla5[Cuenta],Tabla_Diario[D/H],\"D\")","v":0},{"$f":"SUMIFS(Tabla_Diario[Importe],Tabla_Diario[Cta],Tabla5[Cuenta],Tabla_Diario[D/H],\"H\")","v":0},{"$f":"(Tabla5[[#This Row],[Debe]]-Tabla5[[#This Row],[Haber]])*Tabla5[[#This Row],[Multiplicador]]","v":0}]
[1700,-1,"PBII2",{"$f":"SUMIFS(Tabla_Diario[Importe],Tabla_Diario[Cta],Tabla5[Cuenta],Tabla_Diario[D/H],\"D\")","v":0},{"$f":"SUMIFS(Tabla_Diario[Importe],Tabla_Diario[Cta],Tabla5[Cuenta],Tabla_Diario[D/H],\"H\")","v":0},{"$f":"(Tabla5[[#This Row],[Debe]]-Tabla5[[#This Row],[Haber]])*Tabla5[[#This Row],[Multiplicador]]","v":0}]
[1710,-1,"PBII3",{"$f":"SUMIFS(Tabla_Diario[Importe],Tabla_Diario[Cta],Tabla5[Cuenta],Tabla_Diario[D/H],\"D\")","v":0},{"$f":"SUMIFS(Tabla_Diario[Importe],Tabla_Diario[Cta],Tabla5[Cuenta],Tabla_Diario[D/H],\"H\")","v":0},{"$f":"(Tabla5[[#This Row],[Debe]]-Tabla5[[#This Row],[Haber]])*Tabla5[[#This Row],[Multiplicador]]","v":0}]
[1720,-1,"PBII3",{"$f":"SUMIFS(Tabla_Diario[Importe],Tabla_Diario[Cta],Tabla5[Cuenta],Tabla_Diario[D/H],\"D\")","v":0},{"$f":"SUMIFS(Tabla_Diario[Importe],Tabla_Diario[Cta],Tabla5[Cuenta],Tabla_Diario[D/H],\"H\")","v":0},{"$f":"(Tabla5[[#This Row],[Debe]]-Tabla5[[#This Row],[Haber]])*Tabla5[[#This Row],[Multiplicador]]","v":0}]
[1730,-1,"PBII3",{"$f":"SUMIFS(Tabla_Diario[Importe],Tabla_Diario[Cta],Tabla5[Cuenta],Tabla_Diario[D/H],\"D\")","v":0},{"$f":"SUMIFS(Tabla_Diario[Importe],Tabla_Diario[Cta],Tabla5[Cuenta],Tabla_Diario[D/H],\"H\")","v":0},{"$f":"(Tabla5[[#This Row],[Debe]]-Tabla5[[#This Row],[Haber]])*Tabla5[[#This Row],[Multiplicador]]","v":0}]
[1740,-1,"PBII3",{"$f":"SUMIFS(Tabla_Diario[Importe],Tabla_Diario[Cta],Tabla5[Cuenta],Tabla_Diario[D/H],\"D\")","v":0},{"$f":"SUMIFS(Tabla_Diario[Importe],Tabla_Diario[Cta],Tabla5[Cuenta],Tabla_Diario[D/H],\"H\")","v":0},{"$f":"(Tabla5[[#This Row],[Debe]]-Tabla5[[#This Row],[Haber]])*Tabla5[[#This Row],[Multiplicador]]","v":0}]
[1750,-1,"PBII3",{"$f":"SUMIFS(Tabla_Diario[Importe],Tabla_Diario[Cta],Tabla5[Cuenta],Tabla_Diario[D/H],\"D\")","v":0},{"$f":"SUMIFS(Tabla_Diario[Importe],Tabla_Diario[Cta],Tabla5[Cuenta],Tabla_Diario[D/H],\"H\")","v":0},{"$f":"(Tabla5[[#This Row],[Debe]]-Tabla5[[#This Row],[Haber]])*Tabla5[[#This Row],[Multiplicador]]","v":0}]
[1760,-1,"PBII3",{"$f":"SUMIFS(Tabla_Diario[Importe],Tabla_Diario[Cta],Tabla5[Cuenta],Tabla_Diario[D/H],\"D\")","v":0},{"$f":"SUMIFS(Tabla_Diario[Importe],Tabla_Diario[Cta],Tabla5[Cuenta],Tabla_Diario[D/H],\"H\")","v":0},{"$f":"(Tabla5[[#This Row],[Debe]]-Tabla5[[#This Row],[Haber]])*Tabla5[[#This Row],[Multiplicador]]","v":0}]
[1770,-1,"PBII3",{"$f":"SUMIFS(Tabla_Diario[Importe],Tabla_Diario[Cta],Tabla5[Cuenta],Tabla_Diario[D/H],\"D\")","v":0},{"$f":"SUMIFS(Tabla_Diario[Importe],Tabla_Diario[Cta],Tabla5[Cuenta],Tabla_Diario[D/H],\"H\")","v":0},{"$f":"(Tabla5[[#This Row],[Debe]]-Tabla5[[#This Row],[Haber]])*Tabla5[[#This Row],[Multiplicador]]","v":0}]
[1780,-1,"PBII3",{"$f":"SUMIFS(Tabla_Diario[Importe],Tabla_Diario[Cta],Tabla5[Cuenta],Tabla_Diario[D/H],\"D\")","v":0},{"$f":"SUMIFS(Tabla_Diario[Importe],Tabla_Diario[Cta],Tabla5[Cuenta],Tabla_Diario[D/H],\"H\")","v":0},{"$f":"(Tabla5[[#This Row],[Debe]]-Tabla5[[#This Row],[Haber]])*Tabla5[[#This Row],[Multiplicador]]","v":0}]
[1790,-1,"PBII3",{"$f":"SUMIFS(Tabla_Diario[Importe],Tabla_Diario[Cta],Tabla5[Cuenta],Tabla_Diario[D/H],\"D\")","v":0},{"$f":"SUMIFS(Tabla_Diario[Importe],Tabla_Diario[Cta],Tabla5[Cuenta],Tabla_Diario[D/H],\"H\")","v":0},{"$f":"(Tabla5[[#This Row],[Debe]]-Tabla5[[#This Row],[Haber]])*Tabla5[[#This Row],[Multiplicador]]","v":0}]
[1800,-1,"PBII3",{"$f":"SUMIFS(Tabla_Diario[Importe],Tabla_Diario[Cta],Tabla5[Cuenta],Tabla_Diario[D/H],\"D\")","v":0},{"$f":"SUMIFS(Tabla_Diario[Importe],Tabla_Diario[Cta],Tabla5[Cuenta],Tabla_Diario[D/H],\"H\")","v":0},{"$f":"(Tabla5[[#This Row],[Debe]]-Tabla5[[#This Row],[Haber]])*Tabla5[[#This Row],[Multiplicador]]","v":0}]
[1810,-1,"PBV",{"$f":"SUMIFS(Tabla_Diario[Importe],Tabla_Diario[Cta],Tabla5[Cuenta],Tabla_Diario[D/H],\"D\")","v":0},{"$f":"SUMIFS(Tabla_Diario[Importe],Tabla_Diario[Cta],Tabla5[Cuenta],Tabla_Diario[D/H],\"H\")","v":0},{"$f":"(Tabla5[[#This Row],[Debe]]-Tabla5[[#This Row],[Haber]])*Tabla5[[#This Row],[Multiplicador]]","v":0}]
[1850,-1,"PBII3",{"$f":"SUMIFS(Tabla_Diario[Importe],Tabla_Diario[Cta],Tabla5[Cuenta],Tabla_Diario[D/H],\"D\")","v":0},{"$f":"SUMIFS(Tabla_Diario[Importe],Tabla_Diario[Cta],Tabla5[Cuenta],Tabla_Diario[D/H],\"H\")","v":0},{"$f":"(Tabla5[[#This Row],[Debe]]-Tabla5[[#This Row],[Haber]])*Tabla5[[#This Row],[Multiplicador]]","v":0}]
[1890,-1,"PBII3",{"$f":"SUMIFS(Tabla_Diario[Importe],Tabla_Diario[Cta],Tabla5[Cuenta],Tabla_Diario[D/H],\"D\")","v":0},{"$f":"SUMIFS(Tabla_Diario[Importe],Tabla_Diario[Cta],Tabla5[Cuenta],Tabla_Diario[D/H],\"H\")","v":0},{"$f":"(Tabla5[[#This Row],[Debe]]-Tabla5[[#This Row],[Haber]])*Tabla5[[#This Row],[Multiplicador]]","v":0}]
[1900,1,"PCIII3",{"$f":"SUMIFS(Tabla_Diario[Importe],Tabla_Diario[Cta],Tabla5[Cuenta],Tabla_Diario[D/H],\"D\")","v":0},{"$f":"SUMIFS(Tabla_Diario[Importe],Tabla_Diario[Cta],Tabla5[Cuenta],Tabla_Diario[D/H],\"H\")","v":0},{"$f":"(Tabla5[[#This Row],[Debe]]-Tabla5[[#This Row],[Haber]])*Tabla5[[#This Row],[Multiplicador]]","v":0}]
[1920,1,"PCIII3",{"$f":"SUMIFS(Tabla_Diario[Importe],Tabla_Diario[Cta],Tabla5[Cuenta],Tabla_Diario[D/H],\"D\")","v":0},{"$f":"SUMIFS(Tabla_Diario[Importe],Tabla_Diario[Cta],Tabla5[Cuenta],Tabla_Diario[D/H],\"H\")","v":0},{"$f":"(Tabla5[[#This Row],[Debe]]-Tabla5[[#This Row],[Haber]])*Tabla5[[#This Row],[Multiplicador]]","v":0}]
[1940,-1,"PCIII3",{"$f":"SUMIFS(Tabla_Diario[Importe],Tabla_Diario[Cta],Tabla5[Cuenta],Tabla_Diario[D/H],\"D\")","v":0},{"$f":"SUMIFS(Tabla_Diario[Importe],Tabla_Diario[Cta],Tabla5[Cuenta],Tabla_Diario[D/H],\"H\")","v":0},{"$f":"(Tabla5[[#This Row],[Debe]]-Tabla5[[#This Row],[Haber]])*Tabla5[[#This Row],[Multiplicador]]","v":0}]
[1950,-1,"PCIII3",{"$f":"SUMIFS(Tabla_Diario[Importe],Tabla_Diario[Cta],Tabla5[Cuenta],Tabla_Diario[D/H],\"D\")","v":0},{"$f":"SUMIFS(Tabla_Diario[Importe],Tabla_Diario[Cta],Tabla5[Cuenta],Tabla_Diario[D/H],\"H\")","v":0},{"$f":"(Tabla5[[#This Row],[Debe]]-Tabla5[[#This Row],[Haber]])*Tabla5[[#This Row],[Multiplicador]]","v":0}]
[1970,-1,"PCIII3",{"$f":"SUMIFS(Tabla_Diario[Importe],Tabla_Diario[Cta],Tabla5[Cuenta],Tabla_Diario[D/H],\"D\")","v":0},{"$f":"SUMIFS(Tabla_Diario[Importe],Tabla_Diario[Cta],Tabla5[Cuenta],Tabla_Diario[D/H],\"H\")","v":0},{"$f":"(Tabla5[[#This Row],[Debe]]-Tabla5[[#This Row],[Haber]])*Tabla5[[#This Row],[Multiplicador]]","v":0}]
[1990,-1,"PCIII3",{"$f":"SUMIFS(Tabla_Diario[Importe],Tabla_Diario[Cta],Tabla5[Cuenta],Tabla_Diario[D/H],\"D\")","v":0},{"$f":"SUMIFS(Tabla_Diario[Importe],Tabla_Diario[Cta],Tabla5[Cuenta],Tabla_Diario[D/H],\"H\")","v":0},{"$f":"(Tabla5[[#This Row],[Debe]]-Tabla5[[#This Row],[Haber]])*Tabla5[[#This Row],[Multiplicador]]","v":0}]
[2000,1,"AAI",{"$f":"SUMIFS(Tabla_Diario[Importe],Tabla_Diario[Cta],Tabla5[Cuenta],Tabla_Diario[D/H],\"D\")","v":0},{"$f":"SUMIFS(Tabla_Diario[Importe],Tabla_Diario[Cta],Tabla5[Cuenta],Tabla_Diario[D/H],\"H\")","v":0},{"$f":"(Tabla5[[#This Row],[Debe]]-Tabla5[[#This Row],[Haber]])*Tabla5[[#This Row],[Multiplicador]]","v":0}]
[2010,1,"AAI",{"$f":"SUMIFS(Tabla_Diario[Importe],Tabla_Diario[Cta],Tabla5[Cuenta],Tabla_Diario[D/H],\"D\")","v":0},{"$f":"SUMIFS(Tabla_Diario[Importe],Tabla_Diario[Cta],Tabla5[Cuenta],Tabla_Diario[D/H],\"H\")","v":0},{"$f":"(Tabla5[[#This Row],[Debe]]-Tabla5[[#This Row],[Haber]])*Tabla5[[#This Row],[Multiplicador]]","v":0}]
[2020,1,"AAI",{"$f":"SUMIFS(Tabla_Diario[Importe],Tabla_Diario[Cta],Tabla5[Cuenta],Tabla_Diario[D/H],\"D\")","v":0},{"$f":"SUMIFS(Tabla_Diario[Importe],Tabla_Diario[Cta],Tabla5[Cuenta],Tabla_Diario[D/H],\"H\")","v":0},{"$f":"(Tabla5[[#This Row],[Debe]]-Tabla5[[#This Row],[Haber]])*Tabla5[[#This Row],[Multiplicador]]","v":0}]
[2030,1,"AAI",{"$f":"SUMIFS(Tabla_Diario[Importe],Tabla_Diario[Cta],Tabla5[Cuenta],Tabla_Diario[D/H],\"D\")","v":0},{"$f":"SUMIFS(Tabla_Diario[Importe],Tabla_Diario[Cta],Tabla5[Cuenta],Tabla_Diario[D/H],\"H\")","v":0},{"$f":"(Tabla5[[#This Row],[Debe]]-Tabla5[[#This Row],[Haber]])*Tabla5[[#This Row],[Multiplicador]]","v":0}]
[2040,1,"AAI",{"$f":"SUMIFS(Tabla_Diario[Importe],Tabla_Diario[Cta],Tabla5[Cuenta],Tabla_Diario[D/H],\"D\")","v":0},{"$f":"SUMIFS(Tabla_Diario[Importe],Tabla_Diario[Cta],Tabla5[Cuenta],Tabla_Diario[D/H],\"H\")","v":0},{"$f":"(Tabla5[[#This Row],[Debe]]-Tabla5[[#This Row],[Haber]])*Tabla5[[#This Row],[Multiplicador]]","v":0}]
[2050,1,"AAI",{"$f":"SUMIFS(Tabla_Diario[Importe],Tabla_Diario[Cta],Tabla5[Cuenta],Tabla_Diario[D/H],\"D\")","v":0},{"$f":"SUMIFS(Tabla_Diario[Importe],Tabla_Diario[Cta],Tabla5[Cuenta],Tabla_Diario[D/H],\"H\")","v":0},{"$f":"(Tabla5[[#This Row],[Debe]]-Tabla5[[#This Row],[Haber]])*Tabla5[[#This Row],[Multiplicador]]","v":0}]
[2060,1,"AAI",{"$f":"SUMIFS(Tabla_Diario[Importe],Tabla_Diario[Cta],Tabla5[Cuenta],Tabla_Diario[D/H],\"D\")","v":0},{"$f":"SUMIFS(Tabla_Diario[Importe],Tabla_Diario[Cta],Tabla5[Cuenta],Tabla_Diario[D/H],\"H\")","v":0},{"$f":"(Tabla5[[#This Row],[Debe]]-Tabla5[[#This Row],[Haber]])*Tabla5[[#This Row],[Multiplicador]]","v":0}]
[2090,1,"AAI",{"$f":"SUMIFS(Tabla_Diario[Importe],Tabla_Diario[Cta],Tabla5[Cuenta],Tabla_Diario[D/H],\"D\")","v":0},{"$f":"SUMIFS(Tabla_Diario[Importe],Tabla_Diario[Cta],Tabla5[Cuenta],Tabla_Diario[D/H],\"H\")","v":0},{"$f":"(Tabla5[[#This Row],[Debe]]-Tabla5[[#This Row],[Haber]])*Tabla5[[#This Row],[Multiplicador]]","v":0}]
[2100,1,"AAII",{"$f":"SUMIFS(Tabla_Diario[Importe],Tabla_Diario[Cta],Tabla5[Cuenta],Tabla_Diario[D/H],\"D\")","v":0},{"$f":"SUMIFS(Tabla_Diario[Importe],Tabla_Diario[Cta],Tabla5[Cuenta],Tabla_Diario[D/H],\"H\")","v":0},{"$f":"(Tabla5[[#This Row],[Debe]]-Tabla5[[#This Row],[Haber]])*Tabla5[[#This Row],[Multiplicador]]","v":0}]
[2110,1,"AAII",{"$f":"SUMIFS(Tabla_Diario[Importe],Tabla_Diario[Cta],Tabla5[Cuenta],Tabla_Diario[D/H],\"D\")","v":0},{"$f":"SUMIFS(Tabla_Diario[Importe],Tabla_Diario[Cta],Tabla5[Cuenta],Tabla_Diario[D/H],\"H\")","v":0},{"$f":"(Tabla5[[#This Row],[Debe]]-Tabla5[[#This Row],[Haber]])*Tabla5[[#This Row],[Multiplicador]]","v":0}]
[2120,1,"AAII",{"$f":"SUMIFS(Tabla_Diario[Importe],Tabla_Diario[Cta],Tabla5[Cuenta],Tabla_Diario[D/H],\"D\")","v":0},{"$f":"SUMIFS(Tabla_Diario[Importe],Tabla_Diario[Cta],Tabla5[Cuenta],Tabla_Diario[D/H],\"H\")","v":0},{"$f":"(Tabla5[[#This Row],[Debe]]-Tabla5[[#This Row],[Haber]])*Tabla5[[#This Row],[Multiplicador]]","v":0}]
[2130,1,"AAII",{"$f":"SUMIFS(Tabla_Diario[Importe],Tabla_Diario[Cta],Tabla5[Cuenta],Tabla_Diario[D/H],\"D\")","v":0},{"$f":"SUMIFS(Tabla_Diario[Importe],Tabla_Diario[Cta],Tabla5[Cuenta],Tabla_Diario[D/H],\"H\")","v":0},{"$f":"(Tabla5[[#This Row],[Debe]]-Tabla5[[#This Row],[Haber]])*Tabla5[[#This Row],[Multiplicador]]","v":0}]
[2140,1,"AAII",{"$f":"SUMIFS(Tabla_Diario[Importe],Tabla_Diario[Cta],Tabla5[Cuenta],Tabla_Diario[D/H],\"D\")","v":0},{"$f":"SUMIFS(Tabla_Diario[Importe],Tabla_Diario[Cta],Tabla5[Cuenta],Tabla_Diario[D/H],\"H\")","v":0},{"$f":"(Tabla5[[#This Row],[Debe]]-Tabla5[[#This Row],[Haber]])*Tabla5[[#This Row],[Multiplicador]]","v":0}]
[2150,1,"AAII",{"$f":"SUMIFS(Tabla_Diario[Importe],Tabla_Diario[Cta],Tabla5[Cuenta],Tabla_Diario[D/H],\"D\")","v":0},{"$f":"SUMIFS(Tabla_Diario[Importe],Tabla_Diario[Cta],Tabla5[Cuenta],Tabla_Diario[D/H],\"H\")","v":0},{"$f":"(Tabla5[[#This Row],[Debe]]-Tabla5[[#This Row],[Haber]])*Tabla5[[#This Row],[Multiplicador]]","v":0}]
[2160,1,"AAII",{"$f":"SUMIFS(Tabla_Diario[Importe],Tabla_Diario[Cta],Tabla5[Cuenta],Tabla_Diario[D/H],\"D\")","v":600},{"$f":"SUMIFS(Tabla_Diario[Importe],Tabla_Diario[Cta],Tabla5[Cuenta],Tabla_Diario[D/H],\"H\")","v":0},{"$f":"(Tabla5[[#This Row],[Debe]]-Tabla5[[#This Row],[Haber]])*Tabla5[[#This Row],[Multiplicador]]","v":600}]
[2170,1,"AAII",{"$f":"SUMIFS(Tabla_Diario[Importe],Tabla_Diario[Cta],Tabla5[Cuenta],Tabla_Diario[D/H],\"D\")","v":0},{"$f":"SUMIFS(Tabla_Diario[Importe],Tabla_Diario[Cta],Tabla5[Cuenta],Tabla_Diario[D/H],\"H\")","v":0},{"$f":"(Tabla5[[#This Row],[Debe]]-Tabla5[[#This Row],[Haber]])*Tabla5[[#This Row],[Multiplicador]]","v":0}]
[2180,1,"AAII",{"$f":"SUMIFS(Tabla_Diario[Importe],Tabla_Diario[Cta],Tabla5[Cuenta],Tabla_Diario[D/H],\"D\")","v":4000},{"$f":"SUMIFS(Tabla_Diario[Importe],Tabla_Diario[Cta],Tabla5[Cuenta],Tabla_Diario[D/H],\"H\")","v":4000},{"$f":"(Tabla5[[#This Row],[Debe]]-Tabla5[[#This Row],[Haber]])*Tabla5[[#This Row],[Multiplicador]]","v":0}]
[2190,1,"AAII",{"$f":"SUMIFS(Tabla_Diario[Importe],Tabla_Diario[Cta],Tabla5[Cuenta],Tabla_Diario[D/H],\"D\")","v":0},{"$f":"SUMIFS(Tabla_Diario[Importe],Tabla_Diario[Cta],Tabla5[Cuenta],Tabla_Diario[D/H],\"H\")","v":0},{"$f":"(Tabla5[[#This Row],[Debe]]-Tabla5[[#This Row],[Haber]])*Tabla5[[#This Row],[Multiplicador]]","v":0}]
[2200,1,"AAIII",{"$f":"SUMIFS(Tabla_Diario[Importe],Tabla_Diario[Cta],Tabla5[Cuenta],Tabla_Diario[D/H],\"D\")","v":0},{"$f":"SUMIFS(Tabla_Diario[Importe],Tabla_Diario[Cta],Tabla5[Cuenta],Tabla_Diario[D/H],\"H\")","v":0},{"$f":"(Tabla5[[#This Row],[Debe]]-Tabla5[[#This Row],[Haber]])*Tabla5[[#This Row],[Multiplicador]]","v":0}]
[2210,1,"AAIII",{"$f":"SUMIFS(Tabla_Diario[Importe],Tabla_Diario[Cta],Tabla5[Cuenta],Tabla_Diario[D/H],\"D\")","v":0},{"$f":"SUMIFS(Tabla_Diario[Importe],Tabla_Diario[Cta],Tabla5[Cuenta],Tabla_Diario[D/H],\"H\")","v":0},{"$f":"(Tabla5[[#This Row],[Debe]]-Tabla5[[#This Row],[Haber]])*Tabla5[[#This Row],[Multiplicador]]","v":0}]
[2240,1,"AAIII",{"$f":"SUMIFS(Tabla_Diario[Importe],Tabla_Diario[Cta],Tabla5[Cuenta],Tabla_Diario[D/H],\"D\")","v":0},{"$f":"SUMIFS(Tabla_Diario[Importe],Tabla_Diario[Cta],Tabla5[Cuenta],Tabla_Diario[D/H],\"H\")","v":0},{"$f":"(Tabla5[[#This Row],[Debe]]-Tabla5[[#This Row],[Haber]])*Tabla5[[#This Row],[Multiplicador]]","v":0}]
[2260,1,"AAIII",{"$f":"SUMIFS(Tabla_Diario[Importe],Tabla_Diario[Cta],Tabla5[Cuenta],Tabla_Diario[D/H],\"D\")","v":0},{"$f":"SUMIFS(Tabla_Diario[Importe],Tabla_Diario[Cta],Tabla5[Cuenta],Tabla_Diario[D/H],\"H\")","v":0},{"$f":"(Tabla5[[#This Row],[Debe]]-Tabla5[[#This Row],[Haber]])*Tabla5[[#This Row],[Multiplicador]]","v":0}]
[2270,1,"AAIII",{"$f":"SUMIFS(Tabla_Diario[Importe],Tabla_Diario[Cta],Tabla5[Cuenta],Tabla_Diario[D/H],\"D\")","v":0},{"$f":"SUMIFS(Tabla_Diario[Importe],Tabla_Diario[Cta],Tabla5[Cuenta],Tabla_Diario[D/H],\"H\")","v":0},{"$f":"(Tabla5[[#This Row],[Debe]]-Tabla5[[#This Row],[Haber]])*Tabla5[[#This Row],[Multiplicador]]","v":0}]
[2300,1,"AAII",{"$f":"SUMIFS(Tabla_Diario[Importe],Tabla_Diario[Cta],Tabla5[Cuenta],Tabla_Diario[D/H],\"D\")","v":0},{"$f":"SUMIFS(Tabla_Diario[Importe],Tabla_Diario[Cta],Tabla5[Cuenta],Tabla_Diario[D/H],\"H\")","v":0},{"$f":"(Tabla5[[#This Row],[Debe]]-Tabla5[[#This Row],[Haber]])*Tabla5[[#This Row],[Multiplicador]]","v":0}]
[2310,1,"AAII",{"$f":"SUMIFS(Tabla_Diario[Importe],Tabla_Diario[Cta],Tabla5[Cuenta],Tabla_Diario[D/H],\"D\")","v":0},{"$f":"SUMIFS(Tabla_Diario[Importe],Tabla_Diario[Cta],Tabla5[Cuenta],Tabla_Diario[D/H],\"H\")","v":0},{"$f":"(Tabla5[[#This Row],[Debe]]-Tabla5[[#This Row],[Haber]])*Tabla5[[#This Row],[Multiplicador]]","v":0}]
[2320,1,"AAII",{"$f":"SUMIFS(Tabla_Diario[Importe],Tabla_Diario[Cta],Tabla5[Cuenta],Tabla_Diario[D/H],\"D\")","v":0},{"$f":"SUMIFS(Tabla_Diario[Importe],Tabla_Diario[Cta],Tabla5[Cuenta],Tabla_Diario[D/H],\"H\")","v":0},{"$f":"(Tabla5[[#This Row],[Debe]]-Tabla5[[#This Row],[Haber]])*Tabla5[[#This Row],[Multiplicador]]","v":0}]
[2330,1,"AAII",{"$f":"SUMIFS(Tabla_Diario[Importe],Tabla_Diario[Cta],Tabla5[Cuenta],Tabla_Diario[D/H],\"D\")","v":0},{"$f":"SUMIFS(Tabla_Diario[Importe],Tabla_Diario[Cta],Tabla5[Cuenta],Tabla_Diario[D/H],\"H\")","v":0},{"$f":"(Tabla5[[#This Row],[Debe]]-Tabla5[[#This Row],[Haber]])*Tabla5[[#This Row],[Multiplicador]]","v":0}]
[2370,1,"AAII",{"$f":"SUMIFS(Tabla_Diario[Importe],Tabla_Diario[Cta],Tabla5[Cuenta],Tabla_Diario[D/H],\"D\")","v":0},{"$f":"SUMIFS(Tabla_Diario[Importe],Tabla_Diario[Cta],Tabla5[Cuenta],Tabla_Diario[D/H],\"H\")","v":0},{"$f":"(Tabla5[[#This Row],[Debe]]-Tabla5[[#This Row],[Haber]])*Tabla5[[#This Row],[Multiplicador]]","v":0}]
[2390,1,"AAII",{"$f":"SUMIFS(Tabla_Diario[Importe],Tabla_Diario[Cta],Tabla5[Cuenta],Tabla_Diario[D/H],\"D\")","v":0},{"$f":"SUMIFS(Tabla_Diario[Importe],Tabla_Diario[Cta],Tabla5[Cuenta],Tabla_Diario[D/H],\"H\")","v":0},{"$f":"(Tabla5[[#This Row],[Debe]]-Tabla5[[#This Row],[Haber]])*Tabla5[[#This Row],[Multiplicador]]","v":0}]
[2400,1,"AAV",{"$f":"SUMIFS(Tabla_Diario[Importe],Tabla_Diario[Cta],Tabla5[Cuenta],Tabla_Diario[D/H],\"D\")","v":0},{"$f":"SUMIFS(Tabla_Diario[Importe],Tabla_Diario[Cta],Tabla5[Cuenta],Tabla_Diario[D/H],\"H\")","v":0},{"$f":"(Tabla5[[#This Row],[Debe]]-Tabla5[[#This Row],[Haber]])*Tabla5[[#This Row],[Multiplicador]]","v":0}]
[2410,1,"AAV",{"$f":"SUMIFS(Tabla_Diario[Importe],Tabla_Diario[Cta],Tabla5[Cuenta],Tabla_Diario[D/H],\"D\")","v":0},{"$f":"SUMIFS(Tabla_Diario[Importe],Tabla_Diario[Cta],Tabla5[Cuenta],Tabla_Diario[D/H],\"H\")","v":0},{"$f":"(Tabla5[[#This Row],[Debe]]-Tabla5[[#This Row],[Haber]])*Tabla5[[#This Row],[Multiplicador]]","v":0}]
[2420,1,"AAV",{"$f":"SUMIFS(Tabla_Diario[Importe],Tabla_Diario[Cta],Tabla5[Cuenta],Tabla_Diario[D/H],\"D\")","v":0},{"$f":"SUMIFS(Tabla_Diario[Importe],Tabla_Diario[Cta],Tabla5[Cuenta],Tabla_Diario[D/H],\"H\")","v":0},{"$f":"(Tabla5[[#This Row],[Debe]]-Tabla5[[#This Row],[Haber]])*Tabla5[[#This Row],[Multiplicador]]","v":0}]
[2490,1,"AAV",{"$f":"SUMIFS(Tabla_Diario[Importe],Tabla_Diario[Cta],Tabla5[Cuenta],Tabla_Diario[D/H],\"D\")","v":0},{"$f":"SUMIFS(Tabla_Diario[Importe],Tabla_Diario[Cta],Tabla5[Cuenta],Tabla_Diario[D/H],\"H\")","v":0},{"$f":"(Tabla5[[#This Row],[Debe]]-Tabla5[[#This Row],[Haber]])*Tabla5[[#This Row],[Multiplicador]]","v":0}]
[2500,1,"AAV",{"$f":"SUMIFS(Tabla_Diario[Importe],Tabla_Diario[Cta],Tabla5[Cuenta],Tabla_Diario[D/H],\"D\")","v":0},{"$f":"SUMIFS(Tabla_Diario[Importe],Tabla_Diario[Cta],Tabla5[Cuenta],Tabla_Diario[D/H],\"H\")","v":0},{"$f":"(Tabla5[[#This Row],[Debe]]-Tabla5[[#This Row],[Haber]])*Tabla5[[#This Row],[Multiplicador]]","v":0}]
[2510,1,"AAV",{"$f":"SUMIFS(Tabla_Diario[Importe],Tabla_Diario[Cta],Tabla5[Cuenta],Tabla_Diario[D/H],\"D\")","v":0},{"$f":"SUMIFS(Tabla_Diario[Importe],Tabla_Diario[Cta],Tabla5[Cuenta],Tabla_Diario[D/H],\"H\")","v":0},{"$f":"(Tabla5[[#This Row],[Debe]]-Tabla5[[#This Row],[Haber]])*Tabla5[[#This Row],[Multiplicador]]","v":0}]
[2520,1,"AAV",{"$f":"SUMIFS(Tabla_Diario[Importe],Tabla_Diario[Cta],Tabla5[Cuenta],Tabla_Diario[D/H],\"D\")","v":0},{"$f":"SUMIFS(Tabla_Diario[Importe],Tabla_Diario[Cta],Tabla5[Cuenta],Tabla_Diario[D/H],\"H\")","v":0},{"$f":"(Tabla5[[#This Row],[Debe]]-Tabla5[[#This Row],[Haber]])*Tabla5[[#This Row],[Multiplicador]]","v":0}]
[2530,1,"AAV",{"$f":"SUMIFS(Tabla_Diario[Importe],Tabla_Diario[Cta],Tabla5[Cuenta],Tabla_Diario[D/H],\"D\")","v":0},{"$f":"SUMIFS(Tabla_Diario[Importe],Tabla_Diario[Cta],Tabla5[Cuenta],Tabla_Diario[D/H],\"H\")","v":0},{"$f":"(Tabla5[[#This Row],[Debe]]-Tabla5[[#This Row],[Haber]])*Tabla5[[#This Row],[Multiplicador]]","v":0}]
[2540,1,"AAV",{"$f":"SUMIFS(Tabla_Diario[Importe],Tabla_Diario[Cta],Tabla5[Cuenta],Tabla_Diario[D/H],\"D\")","v":0},{"$f":"SUMIFS(Tabla_Diario[Importe],Tabla_Diario[Cta],Tabla5[Cuenta],Tabla_Diario[D/H],\"H\")","v":0},{"$f":"(Tabla5[[#This Row],[Debe]]-Tabla5[[#This Row],[Haber]])*Tabla5[[#This Row],[Multiplicador]]","v":0}]
[2550,1,"AAV",{"$f":"SUMIFS(Tabla_Diario[Importe],Tabla_Diario[Cta],Tabla5[Cuenta],Tabla_Diario[D/H],\"D\")","v":0},{"$f":"SUMIFS(Tabla_Diario[Importe],Tabla_Diario[Cta],Tabla5[Cuenta],Tabla_Diario[D/H],\"H\")","v":0},{"$f":"(Tabla5[[#This Row],[Debe]]-Tabla5[[#This Row],[Haber]])*Tabla5[[#This Row],[Multiplicador]]","v":0}]
[2570,1,"AAV",{"$f":"SUMIFS(Tabla_Diario[Importe],Tabla_Diario[Cta],Tabla5[Cuenta],Tabla_Diario[D/H],\"D\")","v":0},{"$f":"SUMIFS(Tabla_Diario[Importe],Tabla_Diario[Cta],Tabla5[Cuenta],Tabla_Diario[D/H],\"H\")","v":0},{"$f":"(Tabla5[[#This Row],[Debe]]-Tabla5[[#This Row],[Haber]])*Tabla5[[#This Row],[Multiplicador]]","v":0}]
[2580,1,"AAV",{"$f":"SUMIFS(Tabla_Diario[Importe],Tabla_Diario[Cta],Tabla5[Cuenta],Tabla_Diario[D/H],\"D\")","v":0},{"$f":"SUMIFS(Tabla_Diario[Importe],Tabla_Diario[Cta],Tabla5[Cuenta],Tabla_Diario[D/H],\"H\")","v":0},{"$f":"(Tabla5[[#This Row],[Debe]]-Tabla5[[#This Row],[Haber]])*Tabla5[[#This Row],[Multiplicador]]","v":0}]
[2590,-1,"AAV",{"$f":"SUMIFS(Tabla_Diario[Importe],Tabla_Diario[Cta],Tabla5[Cuenta],Tabla_Diario[D/H],\"D\")","v":0},{"$f":"SUMIFS(Tabla_Diario[Importe],Tabla_Diario[Cta],Tabla5[Cuenta],Tabla_Diario[D/H],\"H\")","v":0},{"$f":"(Tabla5[[#This Row],[Debe]]-Tabla5[[#This Row],[Haber]])*Tabla5[[#This Row],[Multiplicador]]","v":0}]
[2600,1,"AAV",{"$f":"SUMIFS(Tabla_Diario[Importe],Tabla_Diario[Cta],Tabla5[Cuenta],Tabla_Diario[D/H],\"D\")","v":0},{"$f":"SUMIFS(Tabla_Diario[Importe],Tabla_Diario[Cta],Tabla5[Cuenta],Tabla_Diario[D/H],\"H\")","v":0},{"$f":"(Tabla5[[#This Row],[Debe]]-Tabla5[[#This Row],[Haber]])*Tabla5[[#This Row],[Multiplicador]]","v":0}]
[2650,1,"AAV",{"$f":"SUMIFS(Tabla_Diario[Importe],Tabla_Diario[Cta],Tabla5[Cuenta],Tabla_Diario[D/H],\"D\")","v":0},{"$f":"SUMIFS(Tabla_Diario[Importe],Tabla_Diario[Cta],Tabla5[Cuenta],Tabla_Diario[D/H],\"H\")","v":0},{"$f":"(Tabla5[[#This Row],[Debe]]-Tabla5[[#This Row],[Haber]])*Tabla5[[#This Row],[Multiplicador]]","v":0}]
[2720,1,"AAV",{"$f":"SUMIFS(Tabla_Diario[Importe],Tabla_Diario[Cta],Tabla5[Cuenta],Tabla_Diario[D/H],\"D\")","v":0},{"$f":"SUMIFS(Tabla_Diario[Importe],Tabla_Diario[Cta],Tabla5[Cuenta],Tabla_Diario[D/H],\"H\")","v":0},{"$f":"(Tabla5[[#This Row],[Debe]]-Tabla5[[#This Row],[Haber]])*Tabla5[[#This Row],[Multiplicador]]","v":0}]
[2800,-1,"AAI",{"$f":"SUMIFS(Tabla_Diario[Importe],Tabla_Diario[Cta],Tabla5[Cuenta],Tabla_Diario[D/H],\"D\")","v":0},{"$f":"SUMIFS(Tabla_Diario[Importe],Tabla_Diario[Cta],Tabla5[Cuenta],Tabla_Diario[D/H],\"H\")","v":0},{"$f":"(Tabla5[[#This Row],[Debe]]-Tabla5[[#This Row],[Haber]])*Tabla5[[#This Row],[Multiplicador]]","v":0}]
[2810,-1,"AAII",{"$f":"SUMIFS(Tabla_Diario[Importe],Tabla_Diario[Cta],Tabla5[Cuenta],Tabla_Diario[D/H],\"D\")","v":0},{"$f":"SUMIFS(Tabla_Diario[Importe],Tabla_Diario[Cta],Tabla5[Cuenta],Tabla_Diario[D/H],\"H\")","v":0},{"$f":"(Tabla5[[#This Row],[Debe]]-Tabla5[[#This Row],[Haber]])*Tabla5[[#This Row],[Multiplicador]]","v":0}]
[2820,-1,"AAIII",{"$f":"SUMIFS(Tabla_Diario[Importe],Tabla_Diario[Cta],Tabla5[Cuenta],Tabla_Diario[D/H],\"D\")","v":0},{"$f":"SUMIFS(Tabla_Diario[Importe],Tabla_Diario[Cta],Tabla5[Cuenta],Tabla_Diario[D/H],\"H\")","v":0},{"$f":"(Tabla5[[#This Row],[Debe]]-Tabla5[[#This Row],[Haber]])*Tabla5[[#This Row],[Multiplicador]]","v":0}]
[2900,-1,"AAI",{"$f":"SUMIFS(Tabla_Diario[Importe],Tabla_Diario[Cta],Tabla5[Cuenta],Tabla_Diario[D/H],\"D\")","v":0},{"$f":"SUMIFS(Tabla_Diario[Importe],Tabla_Diario[Cta],Tabla5[Cuenta],Tabla_Diario[D/H],\"H\")","v":0},{"$f":"(Tabla5[[#This Row],[Debe]]-Tabla5[[#This Row],[Haber]])*Tabla5[[#This Row],[Multiplicador]]","v":0}]
[2910,-1,"AAII",{"$f":"SUMIFS(Tabla_Diario[Importe],Tabla_Diario[Cta],Tabla5[Cuenta],Tabla_Diario[D/H],\"D\")","v":0},{"$f":"SUMIFS(Tabla_Diario[Importe],Tabla_Diario[Cta],Tabla5[Cuenta],Tabla_Diario[D/H],\"H\")","v":0},{"$f":"(Tabla5[[#This Row],[Debe]]-Tabla5[[#This Row],[Haber]])*Tabla5[[#This Row],[Multiplicador]]","v":0}]
[2920,-1,"AAIII",{"$f":"SUMIFS(Tabla_Diario[Importe],Tabla_Diario[Cta],Tabla5[Cuenta],Tabla_Diario[D/H],\"D\")","v":0},{"$f":"SUMIFS(Tabla_Diario[Importe],Tabla_Diario[Cta],Tabla5[Cuenta],Tabla_Diario[D/H],\"H\")","v":0},{"$f":"(Tabla5[[#This Row],[Debe]]-Tabla5[[#This Row],[Haber]])*Tabla5[[#This Row],[Multiplicador]]","v":0}]
[2930,-1,"AAIV",{"$f":"SUMIFS(Tabla_Diario[Importe],Tabla_Diario[Cta],Tabla5[Cuenta],Tabla_Diario[D/H],\"D\")","v":0},{"$f":"SUMIFS(Tabla_Diario[Importe],Tabla_Diario[Cta],Tabla5[Cuenta],Tabla_Diario[D/H],\"H\")","v":0},{"$f":"(Tabla5[[#This Row],[Debe]]-Tabla5[[#This Row],[Haber]])*Tabla5[[#This Row],[Multiplicador]]","v":0}]
[2940,-1,"AAV",{"$f":"SUMIFS(Tabla_Diario[Importe],Tabla_Diario[Cta],Tabla5[Cuenta],Tabla_Diario[D/H],\"D\")","v":0},{"$f":"SUMIFS(Tabla_Diario[Importe],Tabla_Diario[Cta],Tabla5[Cuenta],Tabla_Diario[D/H],\"H\")","v":0},{"$f":"(Tabla5[[#This Row],[Debe]]-Tabla5[[#This Row],[Haber]])*Tabla5[[#This Row],[Multiplicador]]","v":0}]
[2950,-1,"AAV",{"$f":"SUMIFS(Tabla_Diario[Importe],Tabla_Diario[Cta],Tabla5[Cuenta],Tabla_Diario[D/H],\"D\")","v":0},{"$f":"SUMIFS(Tabla_Diario[Importe],Tabla_Diario[Cta],Tabla5[Cuenta],Tabla_Diario[D/H],\"H\")","v":0},{"$f":"(Tabla5[[#This Row],[Debe]]-Tabla5[[#This Row],[Haber]])*Tabla5[[#This Row],[Multiplicador]]","v":0}]
[2970,-1,"AAV",{"$f":"SUMIFS(Tabla_Diario[Importe],Tabla_Diario[Cta],Tabla5[Cuenta],Tabla_Diario[D/H],\"D\")","v":0},{"$f":"SUMIFS(Tabla_Diario[Importe],Tabla_Diario[Cta],Tabla5[Cuenta],Tabla_Diario[D/H],\"H\")","v":0},{"$f":"(Tabla5[[#This Row],[Debe]]-Tabla5[[#This Row],[Haber]])*Tabla5[[#This Row],[Multiplicador]]","v":0}]
[2980,-1,"AAV",{"$f":"SUMIFS(Tabla_Diario[Importe],Tabla_Diario[Cta],Tabla5[Cuenta],Tabla_Diario[D/H],\"D\")","v":0},{"$f":"SUMIFS(Tabla_Diario[Importe],Tabla_Diario[Cta],Tabla5[Cuenta],Tabla_Diario[D/H],\"H\")","v":0},{"$f":"(Tabla5[[#This Row],[Debe]]-Tabla5[[#This Row],[Haber]])*Tabla5[[#This Row],[Multiplicador]]","v":0}]
[3000,1,"ABII",{"$f":"SUMIFS(Tabla_Diario[Importe],Tabla_Diario[Cta],Tabla5[Cuenta],Tabla_Diario[D/H],\"D\")","v":1500},{"$f":"SUMIFS(Tabla_Diario[Importe],Tabla_Diario[Cta],Tabla5[Cuenta],Tabla_Diario[D/H],\"H\")","v":0},{"$f":"(Tabla5[[#This Row],[Debe]]-Tabla5[[#This Row],[Haber]])*Tabla5[[#This Row],[Multiplicador]]","v":1500}]
[3010,1,"ABII",{"$f":"SUMIFS(Tabla_Diario[Importe],Tabla_Diario[Cta],Tabla5[Cuenta],Tabla_Diario[D/H],\"D\")","v":0},{"$f":"SUMIFS(Tabla_Diario[Importe],Tabla_Diario[Cta],Tabla5[Cuenta],Tabla_Diario[D/H],\"H\")","v":0},{"$f":"(Tabla5[[#This Row],[Debe]]-Tabla5[[#This Row],[Haber]])*Tabla5[[#This Row],[Multiplicador]]","v":0}]
[3020,1,"ABII",{"$f":"SUMIFS(Tabla_Diario[Importe],Tabla_Diario[Cta],Tabla5[Cuenta],Tabla_Diario[D/H],\"D\")","v":0},{"$f":"SUMIFS(Tabla_Diario[Importe],Tabla_Diario[Cta],Tabla5[Cuenta],Tabla_Diario[D/H],\"H\")","v":0},{"$f":"(Tabla5[[#This Row],[Debe]]-Tabla5[[#This Row],[Haber]])*Tabla5[[#This Row],[Multiplicador]]","v":0}]
[3030,1,"ABII",{"$f":"SUMIFS(Tabla_Diario[Importe],Tabla_Diario[Cta],Tabla5[Cuenta],Tabla_Diario[D/H],\"D\")","v":0},{"$f":"SUMIFS(Tabla_Diario[Importe],Tabla_Diario[Cta],Tabla5[Cuenta],Tabla_Diario[D/H],\"H\")","v":0},{"$f":"(Tabla5[[#This Row],[Debe]]-Tabla5[[#This Row],[Haber]])*Tabla5[[#This Row],[Multiplicador]]","v":0}]
[3040,1,"ABII",{"$f":"SUMIFS(Tabla_Diario[Importe],Tabla_Diario[Cta],Tabla5[Cuenta],Tabla_Diario[D/H],\"D\")","v":0},{"$f":"SUMIFS(Tabla_Diario[Importe],Tabla_Diario[Cta],Tabla5[Cuenta],Tabla_Diario[D/H],\"H\")","v":0},{"$f":"(Tabla5[[#This Row],[Debe]]-Tabla5[[#This Row],[Haber]])*Tabla5[[#This Row],[Multiplicador]]","v":0}]
[3050,1,"ABII",{"$f":"SUMIFS(Tabla_Diario[Importe],Tabla_Diario[Cta],Tabla5[Cuenta],Tabla_Diario[D/H],\"D\")","v":0},{"$f":"SUMIFS(Tabla_Diario[Importe],Tabla_Diario[Cta],Tabla5[Cuenta],Tabla_Diario[D/H],\"H\")","v":0},{"$f":"(Tabla5[[#This Row],[Debe]]-Tabla5[[#This Row],[Haber]])*Tabla5[[#This Row],[Multiplicador]]","v":0}]
[3060,1,"ABII",{"$f":"SUMIFS(Tabla_Diario[Importe],Tabla_Diario[Cta],Tabla5[Cuenta],Tabla_Diario[D/H],\"D\")","v":0},{"$f":"SUMIFS(Tabla_Diario[Importe],Tabla_Diario[Cta],Tabla5[Cuenta],Tabla_Diario[D/H],\"H\")","v":0},{"$f":"(Tabla5[[#This Row],[Debe]]-Tabla5[[#This Row],[Haber]])*Tabla5[[#This Row],[Multiplicador]]","v":0}]
[3070,1,"ABII",{"$f":"SUMIFS(Tabla_Diario[Importe],Tabla_Diario[Cta],Tabla5[Cuenta],Tabla_Diario[D/H],\"D\")","v":0},{"$f":"SUMIFS(Tabla_Diario[Importe],Tabla_Diario[Cta],Tabla5[Cuenta],Tabla_Diario[D/H],\"H\")","v":0},{"$f":"(Tabla5[[#This Row],[Debe]]-Tabla5[[#This Row],[Haber]])*Tabla5[[#This Row],[Multiplicador]]","v":0}]
[3080,1,"ABII",{"$f":"SUMIFS(Tabla_Diario[Importe],Tabla_Diario[Cta],Tabla5[Cuenta],Tabla_Diario[D/H],\"D\")","v":0},{"$f":"SUMIFS(Tabla_Diario[Importe],Tabla_Diario[Cta],Tabla5[Cuenta],Tabla_Diario[D/H],\"H\")","v":0},{"$f":"(Tabla5[[#This Row],[Debe]]-Tabla5[[#This Row],[Haber]])*Tabla5[[#This Row],[Multiplicador]]","v":0}]
[3090,1,"ABII",{"$f":"SUMIFS(Tabla_Diario[Importe],Tabla_Diario[Cta],Tabla5[Cuenta],Tabla_Diario[D/H],\"D\")","v":0},{"$f":"SUMIFS(Tabla_Diario[Importe],Tabla_Diario[Cta],Tabla5[Cuenta],Tabla_Diario[D/H],\"H\")","v":0},{"$f":"(Tabla5[[#This Row],[Debe]]-Tabla5[[#This Row],[Haber]])*Tabla5[[#This Row],[Multiplicador]]","v":0}]
[3100,1,"ABII",{"$f":"SUMIFS(Tabla_Diario[Importe],Tabla_Diario[Cta],Tabla5[Cuenta],Tabla_Diario[D/H],\"D\")","v":0},{"$f":"SUMIFS(Tabla_Diario[Importe],Tabla_Diario[Cta],Tabla5[Cuenta],Tabla_Diario[D/H],\"H\")","v":0},{"$f":"(Tabla5[[#This Row],[Debe]]-Tabla5[[#This Row],[Haber]])*Tabla5[[#This Row],[Multiplicador]]","v":0}]
[3200,1,"ABII",{"$f":"SUMIFS(Tabla_Diario[Importe],Tabla_Diario[Cta],Tabla5[Cuenta],Tabla_Diario[D/H],\"D\")","v":0},{"$f":"SUMIFS(Tabla_Diario[Importe],Tabla_Diario[Cta],Tabla5[Cuenta],Tabla_Diario[D/H],\"H\")","v":0},{"$f":"(Tabla5[[#This Row],[Debe]]-Tabla5[[#This Row],[Haber]])*Tabla5[[#This Row],[Multiplicador]]","v":0}]
[3210,1,"ABII",{"$f":"SUMIFS(Tabla_Diario[Importe],Tabla_Diario[Cta],Tabla5[Cuenta],Tabla_Diario[D/H],\"D\")","v":0},{"$f":"SUMIFS(Tabla_Diario[Importe],Tabla_Diario[Cta],Tabla5[Cuenta],Tabla_Diario[D/H],\"H\")","v":0},{"$f":"(Tabla5[[#This Row],[Debe]]-Tabla5[[#This Row],[Haber]])*Tabla5[[#This Row],[Multiplicador]]","v":0}]
[3220,1,"ABII",{"$f":"SUMIFS(Tabla_Diario[Importe],Tabla_Diario[Cta],Tabla5[Cuenta],Tabla_Diario[D/H],\"D\")","v":0},{"$f":"SUMIFS(Tabla_Diario[Importe],Tabla_Diario[Cta],Tabla5[Cuenta],Tabla_Diario[D/H],\"H\")","v":0},{"$f":"(Tabla5[[#This Row],[Debe]]-Tabla5[[#This Row],[Haber]])*Tabla5[[#This Row],[Multiplicador]]","v":0}]
[3250,1,"ABII",{"$f":"SUMIFS(Tabla_Diario[Importe],Tabla_Diario[Cta],Tabla5[Cuenta],Tabla_Diario[D/H],\"D\")","v":0},{"$f":"SUMIFS(Tabla_Diario[Importe],Tabla_Diario[Cta],Tabla5[Cuenta],Tabla_Diario[D/H],\"H\")","v":0},{"$f":"(Tabla5[[#This Row],[Debe]]-Tabla5[[#This Row],[Haber]])*Tabla5[[#This Row],[Multiplicador]]","v":0}]
[3260,1,"ABII",{"$f":"SUMIFS(Tabla_Diario[Importe],Tabla_Diario[Cta],Tabla5[Cuenta],Tabla_Diario[D/H],\"D\")","v":0},{"$f":"SUMIFS(Tabla_Diario[Importe],Tabla_Diario[Cta],Tabla5[Cuenta],Tabla_Diario[D/H],\"H\")","v":0},{"$f":"(Tabla5[[#This Row],[Debe]]-Tabla5[[#This Row],[Haber]])*Tabla5[[#This Row],[Multiplicador]]","v":0}]
[3270,1,"ABII",{"$f":"SUMIFS(Tabla_Diario[Importe],Tabla_Diario[Cta],Tabla5[Cuenta],Tabla_Diario[D/H],\"D\")","v":0},{"$f":"SUMIFS(Tabla_Diario[Importe],Tabla_Diario[Cta],Tabla5[Cuenta],Tabla_Diario[D/H],\"H\")","v":0},{"$f":"(Tabla5[[#This Row],[Debe]]-Tabla5[[#This Row],[Haber]])*Tabla5[[#This Row],[Multiplicador]]","v":0}]
[3280,1,"ABII",{"$f":"SUMIFS(Tabla_Diario[Importe],Tabla_Diario[Cta],Tabla5[Cuenta],Tabla_Diario[D/H],\"D\")","v":0},{"$f":"SUMIFS(Tabla_Diario[Importe],Tabla_Diario[Cta],Tabla5[Cuenta],Tabla_Diario[D/H],\"H\")","v":0},{"$f":"(Tabla5[[#This Row],[Debe]]-Tabla5[[#This Row],[Haber]])*Tabla5[[#This Row],[Multiplicador]]","v":0}]
[3300,1,"ABII",{"$f":"SUMIFS(Tabla_Diario[Importe],Tabla_Diario[Cta],Tabla5[Cuenta],Tabla_Diario[D/H],\"D\")","v":0},{"$f":"SUMIFS(Tabla_Diario[Importe],Tabla_Diario[Cta],Tabla5[Cuenta],Tabla_Diario[D/H],\"H\")","v":0},{"$f":"(Tabla5[[#This Row],[Debe]]-Tabla5[[#This Row],[Haber]])*Tabla5[[#This Row],[Multiplicador]]","v":0}]
[3310,1,"ABII",{"$f":"SUMIFS(Tabla_Diario[Importe],Tabla_Diario[Cta],Tabla5[Cuenta],Tabla_Diario[D/H],\"D\")","v":0},{"$f":"SUMIFS(Tabla_Diario[Importe],Tabla_Diario[Cta],Tabla5[Cuenta],Tabla_Diario[D/H],\"H\")","v":0},{"$f":"(Tabla5[[#This Row],[Debe]]-Tabla5[[#This Row],[Haber]])*Tabla5[[#This Row],[Multiplicador]]","v":0}]
[3320,1,"ABII",{"$f":"SUMIFS(Tabla_Diario[Importe],Tabla_Diario[Cta],Tabla5[Cuenta],Tabla_Diario[D/H],\"D\")","v":0},{"$f":"SUMIFS(Tabla_Diario[Importe],Tabla_Diario[Cta],Tabla5[Cuenta],Tabla_Diario[D/H],\"H\")","v":0},{"$f":"(Tabla5[[#This Row],[Debe]]-Tabla5[[#This Row],[Haber]])*Tabla5[[#This Row],[Multiplicador]]","v":0}]
[3330,1,"ABII",{"$f":"SUMIFS(Tabla_Diario[Importe],Tabla_Diario[Cta],Tabla5[Cuenta],Tabla_Diario[D/H],\"D\")","v":0},{"$f":"SUMIFS(Tabla_Diario[Importe],Tabla_Diario[Cta],Tabla5[Cuenta],Tabla_Diario[D/H],\"H\")","v":0},{"$f":"(Tabla5[[#This Row],[Debe]]-Tabla5[[#This Row],[Haber]])*Tabla5[[#This Row],[Multiplicador]]","v":0}]
[3340,1,"ABII",{"$f":"SUMIFS(Tabla_Diario[Importe],Tabla_Diario[Cta],Tabla5[Cuenta],Tabla_Diario[D/H],\"D\")","v":0},{"$f":"SUMIFS(Tabla_Diario[Importe],Tabla_Diario[Cta],Tabla5[Cuenta],Tabla_Diario[D/H],\"H\")","v":0},{"$f":"(Tabla5[[#This Row],[Debe]]-Tabla5[[#This Row],[Haber]])*Tabla5[[#This Row],[Multiplicador]]","v":0}]
[3350,1,"ABII",{"$f":"SUMIFS(Tabla_Diario[Importe],Tabla_Diario[Cta],Tabla5[Cuenta],Tabla_Diario[D/H],\"D\")","v":0},{"$f":"SUMIFS(Tabla_Diario[Importe],Tabla_Diario[Cta],Tabla5[Cuenta],Tabla_Diario[D/H],\"H\")","v":0},{"$f":"(Tabla5[[#This Row],[Debe]]-Tabla5[[#This Row],[Haber]])*Tabla5[[#This Row],[Multiplicador]]","v":0}]
[3360,1,"ABII",{"$f":"SUMIFS(Tabla_Diario[Importe],Tabla_Diario[Cta],Tabla5[Cuenta],Tabla_Diario[D/H],\"D\")","v":0},{"$f":"SUMIFS(Tabla_Diario[Importe],Tabla_Diario[Cta],Tabla5[Cuenta],Tabla_Diario[D/H],\"H\")","v":0},{"$f":"(Tabla5[[#This Row],[Debe]]-Tabla5[[#This Row],[Haber]])*Tabla5[[#This Row],[Multiplicador]]","v":0}]
[3370,1,"ABII",{"$f":"SUMIFS(Tabla_Diario[Importe],Tabla_Diario[Cta],Tabla5[Cuenta],Tabla_Diario[D/H],\"D\")","v":0},{"$f":"SUMIFS(Tabla_Diario[Importe],Tabla_Diario[Cta],Tabla5[Cuenta],Tabla_Diario[D/H],\"H\")","v":0},{"$f":"(Tabla5[[#This Row],[Debe]]-Tabla5[[#This Row],[Haber]])*Tabla5[[#This Row],[Multiplicador]]","v":0}]
[3380,1,"ABII",{"$f":"SUMIFS(Tabla_Diario[Importe],Tabla_Diario[Cta],Tabla5[Cuenta],Tabla_Diario[D/H],\"D\")","v":0},{"$f":"SUMIFS(Tabla_Diario[Importe],Tabla_Diario[Cta],Tabla5[Cuenta],Tabla_Diario[D/H],\"H\")","v":0},{"$f":"(Tabla5[[#This Row],[Debe]]-Tabla5[[#This Row],[Haber]])*Tabla5[[#This Row],[Multiplicador]]","v":0}]
[3390,1,"ABII",{"$f":"SUMIFS(Tabla_Diario[Importe],Tabla_Diario[Cta],Tabla5[Cuenta],Tabla_Diario[D/H],\"D\")","v":0},{"$f":"SUMIFS(Tabla_Diario[Importe],Tabla_Diario[Cta],Tabla5[Cuenta],Tabla_Diario[D/H],\"H\")","v":0},{"$f":"(Tabla5[[#This Row],[Debe]]-Tabla5[[#This Row],[Haber]])*Tabla5[[#This Row],[Multiplicador]]","v":0}]
[3400,1,"ABII",{"$f":"SUMIFS(Tabla_Diario[Importe],Tabla_Diario[Cta],Tabla5[Cuenta],Tabla_Diario[D/H],\"D\")","v":0},{"$f":"SUMIFS(Tabla_Diario[Importe],Tabla_Diario[Cta],Tabla5[Cuenta],Tabla_Diario[D/H],\"H\")","v":0},{"$f":"(Tabla5[[#This Row],[Debe]]-Tabla5[[#This Row],[Haber]])*Tabla5[[#This Row],[Multiplicador]]","v":0}]
[3410,1,"ABII",{"$f":"SUMIFS(Tabla_Diario[Importe],Tabla_Diario[Cta],Tabla5[Cuenta],Tabla_Diario[D/H],\"D\")","v":0},{"$f":"SUMIFS(Tabla_Diario[Importe],Tabla_Diario[Cta],Tabla5[Cuenta],Tabla_Diario[D/H],\"H\")","v":0},{"$f":"(Tabla5[[#This Row],[Debe]]-Tabla5[[#This Row],[Haber]])*Tabla5[[#This Row],[Multiplicador]]","v":0}]
[3420,1,"ABII",{"$f":"SUMIFS(Tabla_Diario[Importe],Tabla_Diario[Cta],Tabla5[Cuenta],Tabla_Diario[D/H],\"D\")","v":0},{"$f":"SUMIFS(Tabla_Diario[Importe],Tabla_Diario[Cta],Tabla5[Cuenta],Tabla_Diario[D/H],\"H\")","v":0},{"$f":"(Tabla5[[#This Row],[Debe]]-Tabla5[[#This Row],[Haber]])*Tabla5[[#This Row],[Multiplicador]]","v":0}]
[3430,1,"ABII",{"$f":"SUMIFS(Tabla_Diario[Importe],Tabla_Diario[Cta],Tabla5[Cuenta],Tabla_Diario[D/H],\"D\")","v":0},{"$f":"SUMIFS(Tabla_Diario[Importe],Tabla_Diario[Cta],Tabla5[Cuenta],Tabla_Diario[D/H],\"H\")","v":0},{"$f":"(Tabla5[[#This Row],[Debe]]-Tabla5[[#This Row],[Haber]])*Tabla5[[#This Row],[Multiplicador]]","v":0}]
[3440,1,"ABII",{"$f":"SUMIFS(Tabla_Diario[Importe],Tabla_Diario[Cta],Tabla5[Cuenta],Tabla_Diario[D/H],\"D\")","v":0},{"$f":"SUMIFS(Tabla_Diario[Importe],Tabla_Diario[Cta],Tabla5[Cuenta],Tabla_Diario[D/H],\"H\")","v":0},{"$f":"(Tabla5[[#This Row],[Debe]]-Tabla5[[#This Row],[Haber]])*Tabla5[[#This Row],[Multiplicador]]","v":0}]
[3450,1,"ABII",{"$f":"SUMIFS(Tabla_Diario[Importe],Tabla_Diario[Cta],Tabla5[Cuenta],Tabla_Diario[D/H],\"D\")","v":0},{"$f":"SUMIFS(Tabla_Diario[Importe],Tabla_Diario[Cta],Tabla5[Cuenta],Tabla_Diario[D/H],\"H\")","v":0},{"$f":"(Tabla5[[#This Row],[Debe]]-Tabla5[[#This Row],[Haber]])*Tabla5[[#This Row],[Multiplicador]]","v":0}]
[3460,1,"ABII",{"$f":"SUMIFS(Tabla_Diario[Importe],Tabla_Diario[Cta],Tabla5[Cuenta],Tabla_Diario[D/H],\"D\")","v":0},{"$f":"SUMIFS(Tabla_Diario[Importe],Tabla_Diario[Cta],Tabla5[Cuenta],Tabla_Diario[D/H],\"H\")","v":0},{"$f":"(Tabla5[[#This Row],[Debe]]-Tabla5[[#This Row],[Haber]])*Tabla5[[#This Row],[Multiplicador]]","v":0}]
[3470,1,"ABII",{"$f":"SUMIFS(Tabla_Diario[Importe],Tabla_Diario[Cta],Tabla5[Cuenta],Tabla_Diario[D/H],\"D\")","v":0},{"$f":"SUMIFS(Tabla_Diario[Importe],Tabla_Diario[Cta],Tabla5[Cuenta],Tabla_Diario[D/H],\"H\")","v":0},{"$f":"(Tabla5[[#This Row],[Debe]]-Tabla5[[#This Row],[Haber]])*Tabla5[[#This Row],[Multiplicador]]","v":0}]
[3480,1,"ABII",{"$f":"SUMIFS(Tabla_Diario[Importe],Tabla_Diario[Cta],Tabla5[Cuenta],Tabla_Diario[D/H],\"D\")","v":0},{"$f":"SUMIFS(Tabla_Diario[Importe],Tabla_Diario[Cta],Tabla5[Cuenta],Tabla_Diario[D/H],\"H\")","v":0},{"$f":"(Tabla5[[#This Row],[Debe]]-Tabla5[[#This Row],[Haber]])*Tabla5[[#This Row],[Multiplicador]]","v":0}]
[3490,1,"ABII",{"$f":"SUMIFS(Tabla_Diario[Importe],Tabla_Diario[Cta],Tabla5[Cuenta],Tabla_Diario[D/H],\"D\")","v":0},{"$f":"SUMIFS(Tabla_Diario[Importe],Tabla_Diario[Cta],Tabla5[Cuenta],Tabla_Diario[D/H],\"H\")","v":0},{"$f":"(Tabla5[[#This Row],[Debe]]-Tabla5[[#This Row],[Haber]])*Tabla5[[#This Row],[Multiplicador]]","v":0}]
[3500,1,"ABII",{"$f":"SUMIFS(Tabla_Diario[Importe],Tabla_Diario[Cta],Tabla5[Cuenta],Tabla_Diario[D/H],\"D\")","v":0},{"$f":"SUMIFS(Tabla_Diario[Importe],Tabla_Diario[Cta],Tabla5[Cuenta],Tabla_Diario[D/H],\"H\")","v":0},{"$f":"(Tabla5[[#This Row],[Debe]]-Tabla5[[#This Row],[Haber]])*Tabla5[[#This Row],[Multiplicador]]","v":0}]
[3510,1,"ABII",{"$f":"SUMIFS(Tabla_Diario[Importe],Tabla_Diario[Cta],Tabla5[Cuenta],Tabla_Diario[D/H],\"D\")","v":0},{"$f":"SUMIFS(Tabla_Diario[Importe],Tabla_Diario[Cta],Tabla5[Cuenta],Tabla_Diario[D/H],\"H\")","v":0},{"$f":"(Tabla5[[#This Row],[Debe]]-Tabla5[[#This Row],[Haber]])*Tabla5[[#This Row],[Multiplicador]]","v":0}]
[3520,1,"ABII",{"$f":"SUMIFS(Tabla_Diario[Importe],Tabla_Diario[Cta],Tabla5[Cuenta],Tabla_Diario[D/H],\"D\")","v":0},{"$f":"SUMIFS(Tabla_Diario[Importe],Tabla_Diario[Cta],Tabla5[Cuenta],Tabla_Diario[D/H],\"H\")","v":0},{"$f":"(Tabla5[[#This Row],[Debe]]-Tabla5[[#This Row],[Haber]])*Tabla5[[#This Row],[Multiplicador]]","v":0}]
[3530,1,"ABII",{"$f":"SUMIFS(Tabla_Diario[Importe],Tabla_Diario[Cta],Tabla5[Cuenta],Tabla_Diario[D/H],\"D\")","v":0},{"$f":"SUMIFS(Tabla_Diario[Importe],Tabla_Diario[Cta],Tabla5[Cuenta],Tabla_Diario[D/H],\"H\")","v":0},{"$f":"(Tabla5[[#This Row],[Debe]]-Tabla5[[#This Row],[Haber]])*Tabla5[[#This Row],[Multiplicador]]","v":0}]
[3540,1,"ABII",{"$f":"SUMIFS(Tabla_Diario[Importe],Tabla_Diario[Cta],Tabla5[Cuenta],Tabla_Diario[D/H],\"D\")","v":0},{"$f":"SUMIFS(Tabla_Diario[Importe],Tabla_Diario[Cta],Tabla5[Cuenta],Tabla_Diario[D/H],\"H\")","v":0},{"$f":"(Tabla5[[#This Row],[Debe]]-Tabla5[[#This Row],[Haber]])*Tabla5[[#This Row],[Multiplicador]]","v":0}]
[3550,1,"ABII",{"$f":"SUMIFS(Tabla_Diario[Importe],Tabla_Diario[Cta],Tabla5[Cuenta],Tabla_Diario[D/H],\"D\")","v":0},{"$f":"SUMIFS(Tabla_Diario[Importe],Tabla_Diario[Cta],Tabla5[Cuenta],Tabla_Diario[D/H],\"H\")","v":0},{"$f":"(Tabla5[[#This Row],[Debe]]-Tabla5[[#This Row],[Haber]])*Tabla5[[#This Row],[Multiplicador]]","v":0}]
[3560,1,"ABII",{"$f":"SUMIFS(Tabla_Diario[Importe],Tabla_Diario[Cta],Tabla5[Cuenta],Tabla_Diario[D/H],\"D\")","v":0},{"$f":"SUMIFS(Tabla_Diario[Importe],Tabla_Diario[Cta],Tabla5[Cuenta],Tabla_Diario[D/H],\"H\")","v":0},{"$f":"(Tabla5[[#This Row],[Debe]]-Tabla5[[#This Row],[Haber]])*Tabla5[[#This Row],[Multiplicador]]","v":0}]
[3570,1,"ABII",{"$f":"SUMIFS(Tabla_Diario[Importe],Tabla_Diario[Cta],Tabla5[Cuenta],Tabla_Diario[D/H],\"D\")","v":0},{"$f":"SUMIFS(Tabla_Diario[Importe],Tabla_Diario[Cta],Tabla5[Cuenta],Tabla_Diario[D/H],\"H\")","v":0},{"$f":"(Tabla5[[#This Row],[Debe]]-Tabla5[[#This Row],[Haber]])*Tabla5[[#This Row],[Multiplicador]]","v":0}]
[3580,1,"ABII",{"$f":"SUMIFS(Tabla_Diario[Importe],Tabla_Diario[Cta],Tabla5[Cuenta],Tabla_Diario[D/H],\"D\")","v":0},{"$f":"SUMIFS(Tabla_Diario[Importe],Tabla_Diario[Cta],Tabla5[Cuenta],Tabla_Diario[D/H],\"H\")","v":0},{"$f":"(Tabla5[[#This Row],[Debe]]-Tabla5[[#This Row],[Haber]])*Tabla5[[#This Row],[Multiplicador]]","v":0}]
[3590,1,"ABII",{"$f":"SUMIFS(Tabla_Diario[Importe],Tabla_Diario[Cta],Tabla5[Cuenta],Tabla_Diario[D/H],\"D\")","v":0},{"$f":"SUMIFS(Tabla_Diario[Importe],Tabla_Diario[Cta],Tabla5[Cuenta],Tabla_Diario[D/H],\"H\")","v":0},{"$f":"(Tabla5[[#This Row],[Debe]]-Tabla5[[#This Row],[Haber]])*Tabla5[[#This Row],[Multiplicador]]","v":0}]
[3600,1,"ABII",{"$f":"SUMIFS(Tabla_Diario[Importe],Tabla_Diario[Cta],Tabla5[Cuenta],Tabla_Diario[D/H],\"D\")","v":0},{"$f":"SUMIFS(Tabla_Diario[Importe],Tabla_Diario[Cta],Tabla5[Cuenta],Tabla_Diario[D/H],\"H\")","v":0},{"$f":"(Tabla5[[#This Row],[Debe]]-Tabla5[[#This Row],[Haber]])*Tabla5[[#This Row],[Multiplicador]]","v":0}]
[3610,1,"ABII",{"$f":"SUMIFS(Tabla_Diario[Importe],Tabla_Diario[Cta],Tabla5[Cuenta],Tabla_Diario[D/H],\"D\")","v":0},{"$f":"SUMIFS(Tabla_Diario[Importe],Tabla_Diario[Cta],Tabla5[Cuenta],Tabla_Diario[D/H],\"H\")","v":0},{"$f":"(Tabla5[[#This Row],[Debe]]-Tabla5[[#This Row],[Haber]])*Tabla5[[#This Row],[Multiplicador]]","v":0}]
[3650,1,"ABII",{"$f":"SUMIFS(Tabla_Diario[Importe],Tabla_Diario[Cta],Tabla5[Cuenta],Tabla_Diario[D/H],\"D\")","v":0},{"$f":"SUMIFS(Tabla_Diario[Importe],Tabla_Diario[Cta],Tabla5[Cuenta],Tabla_Diario[D/H],\"H\")","v":0},{"$f":"(Tabla5[[#This Row],[Debe]]-Tabla5[[#This Row],[Haber]])*Tabla5[[#This Row],[Multiplicador]]","v":0}]
[3660,1,"ABII",{"$f":"SUMIFS(Tabla_Diario[Importe],Tabla_Diario[Cta],Tabla5[Cuenta],Tabla_Diario[D/H],\"D\")","v":0},{"$f":"SUMIFS(Tabla_Diario[Importe],Tabla_Diario[Cta],Tabla5[Cuenta],Tabla_Diario[D/H],\"H\")","v":0},{"$f":"(Tabla5[[#This Row],[Debe]]-Tabla5[[#This Row],[Haber]])*Tabla5[[#This Row],[Multiplicador]]","v":0}]
[3680,1,"ABII",{"$f":"SUMIFS(Tabla_Diario[Importe],Tabla_Diario[Cta],Tabla5[Cuenta],Tabla_Diario[D/H],\"D\")","v":0},{"$f":"SUMIFS(Tabla_Diario[Importe],Tabla_Diario[Cta],Tabla5[Cuenta],Tabla_Diario[D/H],\"H\")","v":0},{"$f":"(Tabla5[[#This Row],[Debe]]-Tabla5[[#This Row],[Haber]])*Tabla5[[#This Row],[Multiplicador]]","v":0}]
[3690,1,"ABII",{"$f":"SUMIFS(Tabla_Diario[Importe],Tabla_Diario[Cta],Tabla5[Cuenta],Tabla_Diario[D/H],\"D\")","v":0},{"$f":"SUMIFS(Tabla_Diario[Importe],Tabla_Diario[Cta],Tabla5[Cuenta],Tabla_Diario[D/H],\"H\")","v":0},{"$f":"(Tabla5[[#This Row],[Debe]]-Tabla5[[#This Row],[Haber]])*Tabla5[[#This Row],[Multiplicador]]","v":0}]
[3900,-1,"ABII",{"$f":"SUMIFS(Tabla_Diario[Importe],Tabla_Diario[Cta],Tabla5[Cuenta],Tabla_Diario[D/H],\"D\")","v":0},{"$f":"SUMIFS(Tabla_Diario[Importe],Tabla_Diario[Cta],Tabla5[Cuenta],Tabla_Diario[D/H],\"H\")","v":0},{"$f":"(Tabla5[[#This Row],[Debe]]-Tabla5[[#This Row],[Haber]])*Tabla5[[#This Row],[Multiplicador]]","v":0}]
[3910,-1,"ABII",{"$f":"SUMIFS(Tabla_Diario[Importe],Tabla_Diario[Cta],Tabla5[Cuenta],Tabla_Diario[D/H],\"D\")","v":0},{"$f":"SUMIFS(Tabla_Diario[Importe],Tabla_Diario[Cta],Tabla5[Cuenta],Tabla_Diario[D/H],\"H\")","v":0},{"$f":"(Tabla5[[#This Row],[Debe]]-Tabla5[[#This Row],[Haber]])*Tabla5[[#This Row],[Multiplicador]]","v":0}]
[3920,-1,"ABII",{"$f":"SUMIFS(Tabla_Diario[Importe],Tabla_Diario[Cta],Tabla5[Cuenta],Tabla_Diario[D/H],\"D\")","v":0},{"$f":"SUMIFS(Tabla_Diario[Importe],Tabla_Diario[Cta],Tabla5[Cuenta],Tabla_Diario[D/H],\"H\")","v":0},{"$f":"(Tabla5[[#This Row],[Debe]]-Tabla5[[#This Row],[Haber]])*Tabla5[[#This Row],[Multiplicador]]","v":0}]
[3930,-1,"ABII",{"$f":"SUMIFS(Tabla_Diario[Importe],Tabla_Diario[Cta],Tabla5[Cuenta],Tabla_Diario[D/H],\"D\")","v":0},{"$f":"SUMIFS(Tabla_Diario[Importe],Tabla_Diario[Cta],Tabla5[Cuenta],Tabla_Diario[D/H],\"H\")","v":0},{"$f":"(Tabla5[[#This Row],[Debe]]-Tabla5[[#This Row],[Haber]])*Tabla5[[#This Row],[Multiplicador]]","v":0}]
[3940,-1,"ABII",{"$f":"SUMIFS(Tabla_Diario[Importe],Tabla_Diario[Cta],Tabla5[Cuenta],Tabla_Diario[D/H],\"D\")","v":0},{"$f":"SUMIFS(Tabla_Diario[Importe],Tabla_Diario[Cta],Tabla5[Cuenta],Tabla_Diario[D/H],\"H\")","v":0},{"$f":"(Tabla5[[#This Row],[Debe]]-Tabla5[[#This Row],[Haber]])*Tabla5[[#This Row],[Multiplicador]]","v":0}]
[3950,-1,"ABII",{"$f":"SUMIFS(Tabla_Diario[Importe],Tabla_Diario[Cta],Tabla5[Cuenta],Tabla_Diario[D/H],\"D\")","v":0},{"$f":"SUMIFS(Tabla_Diario[Importe],Tabla_Diario[Cta],Tabla5[Cuenta],Tabla_Diario[D/H],\"H\")","v":0},{"$f":"(Tabla5[[#This Row],[Debe]]-Tabla5[[#This Row],[Haber]])*Tabla5[[#This Row],[Multiplicador]]","v":0}]
[3960,-1,"ABII",{"$f":"SUMIFS(Tabla_Diario[Importe],Tabla_Diario[Cta],Tabla5[Cuenta],Tabla_Diario[D/H],\"D\")","v":0},{"$f":"SUMIFS(Tabla_Diario[Importe],Tabla_Diario[Cta],Tabla5[Cuenta],Tabla_Diario[D/H],\"H\")","v":0},{"$f":"(Tabla5[[#This Row],[Debe]]-Tabla5[[#This Row],[Haber]])*Tabla5[[#This Row],[Multiplicador]]","v":0}]
[4000,-1,"PCV1",{"$f":"SUMIFS(Tabla_Diario[Importe],Tabla_Diario[Cta],Tabla5[Cuenta],Tabla_Diario[D/H],\"D\")","v":0},{"$f":"SUMIFS(Tabla_Diario[Importe],Tabla_Diario[Cta],Tabla5[Cuenta],Tabla_Diario[D/H],\"H\")","v":5000},{"$f":"(Tabla5[[#This Row],[Debe]]-Tabla5[[#This Row],[Haber]])*Tabla5[[#This Row],[Multiplicador]]","v":5000}]
[4010,-1,"PCV1",{"$f":"SUMIFS(Tabla_Diario[Importe],Tabla_Diario[Cta],Tabla5[Cuenta],Tabla_Diario[D/H],\"D\")","v":0},{"$f":"SUMIFS(Tabla_Diario[Importe],Tabla_Diario[Cta],Tabla5[Cuenta],Tabla_Diario[D/H],\"H\")","v":0},{"$f":"(Tabla5[[#This Row],[Debe]]-Tabla5[[#This Row],[Haber]])*Tabla5[[#This Row],[Multiplicador]]","v":0}]
[4030,-1,"PCV1",{"$f":"SUMIFS(Tabla_Diario[Importe],Tabla_Diario[Cta],Tabla5[Cuenta],Tabla_Diario[D/H],\"D\")","v":0},{"$f":"SUMIFS(Tabla_Diario[Importe],Tabla_Diario[Cta],Tabla5[Cuenta],Tabla_Diario[D/H],\"H\")","v":0},{"$f":"(Tabla5[[#This Row],[Debe]]-Tabla5[[#This Row],[Haber]])*Tabla5[[#This Row],[Multiplicador]]","v":0}]
[4040,-1,"PCV1",{"$f":"SUMIFS(Tabla_Diario[Importe],Tabla_Diario[Cta],Tabla5[Cuenta],Tabla_Diario[D/H],\"D\")","v":0},{"$f":"SUMIFS(Tabla_Diario[Importe],Tabla_Diario[Cta],Tabla5[Cuenta],Tabla_Diario[D/H],\"H\")","v":0},{"$f":"(Tabla5[[#This Row],[Debe]]-Tabla5[[#This Row],[Haber]])*Tabla5[[#This Row],[Multiplicador]]","v":0}]
[4050,-1,"PCV1",{"$f":"SUMIFS(Tabla_Diario[Importe],Tabla_Diario[Cta],Tabla5[Cuenta],Tabla_Diario[D/H],\"D\")","v":0},{"$f":"SUMIFS(Tabla_Diario[Importe],Tabla_Diario[Cta],Tabla5[Cuenta],Tabla_Diario[D/H],\"H\")","v":0},{"$f":"(Tabla5[[#This Row],[Debe]]-Tabla5[[#This Row],[Haber]])*Tabla5[[#This Row],[Multiplicador]]","v":0}]
[4060,1,"PCV1",{"$f":"SUMIFS(Tabla_Diario[Importe],Tabla_Diario[Cta],Tabla5[Cuenta],Tabla_Diario[D/H],\"D\")","v":0},{"$f":"SUMIFS(Tabla_Diario[Importe],Tabla_Diario[Cta],Tabla5[Cuenta],Tabla_Diario[D/H],\"H\")","v":0},{"$f":"(Tabla5[[#This Row],[Debe]]-Tabla5[[#This Row],[Haber]])*Tabla5[[#This Row],[Multiplicador]]","v":0}]
[4070,1,"ABII",{"$f":"SUMIFS(Tabla_Diario[Importe],Tabla_Diario[Cta],Tabla5[Cuenta],Tabla_Diario[D/H],\"D\")","v":0},{"$f":"SUMIFS(Tabla_Diario[Importe],Tabla_Diario[Cta],Tabla5[Cuenta],Tabla_Diario[D/H],\"H\")","v":0},{"$f":"(Tabla5[[#This Row],[Debe]]-Tabla5[[#This Row],[Haber]])*Tabla5[[#This Row],[Multiplicador]]","v":0}]
[4100,-1,"PCV2",{"$f":"SUMIFS(Tabla_Diario[Importe],Tabla_Diario[Cta],Tabla5[Cuenta],Tabla_Diario[D/H],\"D\")","v":0},{"$f":"SUMIFS(Tabla_Diario[Importe],Tabla_Diario[Cta],Tabla5[Cuenta],Tabla_Diario[D/H],\"H\")","v":0},{"$f":"(Tabla5[[#This Row],[Debe]]-Tabla5[[#This Row],[Haber]])*Tabla5[[#This Row],[Multiplicador]]","v":0}]
[4110,-1,"PCV2",{"$f":"SUMIFS(Tabla_Diario[Importe],Tabla_Diario[Cta],Tabla5[Cuenta],Tabla_Diario[D/H],\"D\")","v":0},{"$f":"SUMIFS(Tabla_Diario[Importe],Tabla_Diario[Cta],Tabla5[Cuenta],Tabla_Diario[D/H],\"H\")","v":3600},{"$f":"(Tabla5[[#This Row],[Debe]]-Tabla5[[#This Row],[Haber]])*Tabla5[[#This Row],[Multiplicador]]","v":3600}]
[4190,-1,"PCV2",{"$f":"SUMIFS(Tabla_Diario[Importe],Tabla_Diario[Cta],Tabla5[Cuenta],Tabla_Diario[D/H],\"D\")","v":0},{"$f":"SUMIFS(Tabla_Diario[Importe],Tabla_Diario[Cta],Tabla5[Cuenta],Tabla_Diario[D/H],\"H\")","v":0},{"$f":"(Tabla5[[#This Row],[Debe]]-Tabla5[[#This Row],[Haber]])*Tabla5[[#This Row],[Multiplicador]]","v":0}]
[4300,1,"ABIII1",{"$f":"SUMIFS(Tabla_Diario[Importe],Tabla_Diario[Cta],Tabla5[Cuenta],Tabla_Diario[D/H],\"D\")","v":1500},{"$f":"SUMIFS(Tabla_Diario[Importe],Tabla_Diario[Cta],Tabla5[Cuenta],Tabla_Diario[D/H],\"H\")","v":1500},{"$f":"(Tabla5[[#This Row],[Debe]]-Tabla5[[#This Row],[Haber]])*Tabla5[[#This Row],[Multiplicador]]","v":0}]
[4310,1,"ABIII1",{"$f":"SUMIFS(Tabla_Diario[Importe],Tabla_Diario[Cta],Tabla5[Cuenta],Tabla_Diario[D/H],\"D\")","v":3500},{"$f":"SUMIFS(Tabla_Diario[Importe],Tabla_Diario[Cta],Tabla5[Cuenta],Tabla_Diario[D/H],\"H\")","v":0},{"$f":"(Tabla5[[#This Row],[Debe]]-Tabla5[[#This Row],[Haber]])*Tabla5[[#This Row],[Multiplicador]]","v":3500}]
[4320,1,"ABIII1",{"$f":"SUMIFS(Tabla_Diario[Importe],Tabla_Diario[Cta],Tabla5[Cuenta],Tabla_Diario[D/H],\"D\")","v":0},{"$f":"SUMIFS(Tabla_Diario[Importe],Tabla_Diario[Cta],Tabla5[Cuenta],Tabla_Diario[D/H],\"H\")","v":0},{"$f":"(Tabla5[[#This Row],[Debe]]-Tabla5[[#This Row],[Haber]])*Tabla5[[#This Row],[Multiplicador]]","v":0}]
[4330,1,"ABIII1",{"$f":"SUMIFS(Tabla_Diario[Importe],Tabla_Diario[Cta],Tabla5[Cuenta],Tabla_Diario[D/H],\"D\")","v":0},{"$f":"SUMIFS(Tabla_Diario[Importe],Tabla_Diario[Cta],Tabla5[Cuenta],Tabla_Diario[D/H],\"H\")","v":0},{"$f":"(Tabla5[[#This Row],[Debe]]-Tabla5[[#This Row],[Haber]])*Tabla5[[#This Row],[Multiplicador]]","v":0}]
[4340,1,"ABIII1",{"$f":"SUMIFS(Tabla_Diario[Importe],Tabla_Diario[Cta],Tabla5[Cuenta],Tabla_Diario[D/H],\"D\")","v":0},{"$f":"SUMIFS(Tabla_Diario[Importe],Tabla_Diario[Cta],Tabla5[Cuenta],Tabla_Diario[D/H],\"H\")","v":0},{"$f":"(Tabla5[[#This Row],[Debe]]-Tabla5[[#This Row],[Haber]])*Tabla5[[#This Row],[Multiplicador]]","v":0}]
[4350,1,"ABIII1",{"$f":"SUMIFS(Tabla_Diario[Importe],Tabla_Diario[Cta],Tabla5[Cuenta],Tabla_Diario[D/H],\"D\")","v":0},{"$f":"SUMIFS(Tabla_Diario[Importe],Tabla_Diario[Cta],Tabla5[Cuenta],Tabla_Diario[D/H],\"H\")","v":0},{"$f":"(Tabla5[[#This Row],[Debe]]-Tabla5[[#This Row],[Haber]])*Tabla5[[#This Row],[Multiplicador]]","v":0}]
[4360,1,"ABIII1",{"$f":"SUMIFS(Tabla_Diario[Importe],Tabla_Diario[Cta],Tabla5[Cuenta],Tabla_Diario[D/H],\"D\")","v":0},{"$f":"SUMIFS(Tabla_Diario[Importe],Tabla_Diario[Cta],Tabla5[Cuenta],Tabla_Diario[D/H],\"H\")","v":0},{"$f":"(Tabla5[[#This Row],[Debe]]-Tabla5[[#This Row],[Haber]])*Tabla5[[#This Row],[Multiplicador]]","v":0}]
[4370,-1,"ABIII1",{"$f":"SUMIFS(Tabla_Diario[Importe],Tabla_Diario[Cta],Tabla5[Cuenta],Tabla_Diario[D/H],\"D\")","v":0},{"$f":"SUMIFS(Tabla_Diario[Importe],Tabla_Diario[Cta],Tabla5[Cuenta],Tabla_Diario[D/H],\"H\")","v":0},{"$f":"(Tabla5[[#This Row],[Debe]]-Tabla5[[#This Row],[Haber]])*Tabla5[[#This Row],[Multiplicador]]","v":0}]
[4380,-1,"PCV2",{"$f":"SUMIFS(Tabla_Diario[Importe],Tabla_Diario[Cta],Tabla5[Cuenta],Tabla_Diario[D/H],\"D\")","v":0},{"$f":"SUMIFS(Tabla_Diario[Importe],Tabla_Diario[Cta],Tabla5[Cuenta],Tabla_Diario[D/H],\"H\")","v":0},{"$f":"(Tabla5[[#This Row],[Debe]]-Tabla5[[#This Row],[Haber]])*Tabla5[[#This Row],[Multiplicador]]","v":0}]
[4400,1,"ABIII3",{"$f":"SUMIFS(Tabla_Diario[Importe],Tabla_Diario[Cta],Tabla5[Cuenta],Tabla_Diario[D/H],\"D\")","v":0},{"$f":"SUMIFS(Tabla_Diario[Importe],Tabla_Diario[Cta],Tabla5[Cuenta],Tabla_Diario[D/H],\"H\")","v":0},{"$f":"(Tabla5[[#This Row],[Debe]]-Tabla5[[#This Row],[Haber]])*Tabla5[[#This Row],[Multiplicador]]","v":0}]
[4410,1,"ABIII3",{"$f":"SUMIFS(Tabla_Diario[Importe],Tabla_Diario[Cta],Tabla5[Cuenta],Tabla_Diario[D/H],\"D\")","v":0},{"$f":"SUMIFS(Tabla_Diario[Importe],Tabla_Diario[Cta],Tabla5[Cuenta],Tabla_Diario[D/H],\"H\")","v":0},{"$f":"(Tabla5[[#This Row],[Debe]]-Tabla5[[#This Row],[Haber]])*Tabla5[[#This Row],[Multiplicador]]","v":0}]
[4460,1,"ABIII3",{"$f":"SUMIFS(Tabla_Diario[Importe],Tabla_Diario[Cta],Tabla5[Cuenta],Tabla_Diario[D/H],\"D\")","v":0},{"$f":"SUMIFS(Tabla_Diario[Importe],Tabla_Diario[Cta],Tabla5[Cuenta],Tabla_Diario[D/H],\"H\")","v":0},{"$f":"(Tabla5[[#This Row],[Debe]]-Tabla5[[#This Row],[Haber]])*Tabla5[[#This Row],[Multiplicador]]","v":0}]
[4490,1,"ABIII3",{"$f":"SUMIFS(Tabla_Diario[Importe],Tabla_Diario[Cta],Tabla5[Cuenta],Tabla_Diario[D/H],\"D\")","v":0},{"$f":"SUMIFS(Tabla_Diario[Importe],Tabla_Diario[Cta],Tabla5[Cuenta],Tabla_Diario[D/H],\"H\")","v":0},{"$f":"(Tabla5[[#This Row],[Debe]]-Tabla5[[#This Row],[Haber]])*Tabla5[[#This Row],[Multiplicador]]","v":0}]
[4600,1,"ABIII3",{"$f":"SUMIFS(Tabla_Diario[Importe],Tabla_Diario[Cta],Tabla5[Cuenta],Tabla_Diario[D/H],\"D\")","v":0},{"$f":"SUMIFS(Tabla_Diario[Importe],Tabla_Diario[Cta],Tabla5[Cuenta],Tabla_Diario[D/H],\"H\")","v":0},{"$f":"(Tabla5[[#This Row],[Debe]]-Tabla5[[#This Row],[Haber]])*Tabla5[[#This Row],[Multiplicador]]","v":0}]
[4650,-1,"PCV2",{"$f":"SUMIFS(Tabla_Diario[Importe],Tabla_Diario[Cta],Tabla5[Cuenta],Tabla_Diario[D/H],\"D\")","v":0},{"$f":"SUMIFS(Tabla_Diario[Importe],Tabla_Diario[Cta],Tabla5[Cuenta],Tabla_Diario[D/H],\"H\")","v":0},{"$f":"(Tabla5[[#This Row],[Debe]]-Tabla5[[#This Row],[Haber]])*Tabla5[[#This Row],[Multiplicador]]","v":0}]
[4660,-1,"PCV2",{"$f":"SUMIFS(Tabla_Diario[Importe],Tabla_Diario[Cta],Tabla5[Cuenta],Tabla_Diario[D/H],\"D\")","v":0},{"$f":"SUMIFS(Tabla_Diario[Importe],Tabla_Diario[Cta],Tabla5[Cuenta],Tabla_Diario[D/H],\"H\")","v":0},{"$f":"(Tabla5[[#This Row],[Debe]]-Tabla5[[#This Row],[Haber]])*Tabla5[[#This Row],[Multiplicador]]","v":0}]
[4700,1,"ABIII3",{"$f":"SUMIFS(Tabla_Diario[Importe],Tabla_Diario[Cta],Tabla5[Cuenta],Tabla_Diario[D/H],\"D\")","v":0},{"$f":"SUMIFS(Tabla_Diario[Importe],Tabla_Diario[Cta],Tabla5[Cuenta],Tabla_Diario[D/H],\"H\")","v":0},{"$f":"(Tabla5[[#This Row],[Debe]]-Tabla5[[#This Row],[Haber]])*Tabla5[[#This Row],[Multiplicador]]","v":0}]
[4710,1,"ABIII3",{"$f":"SUMIFS(Tabla_Diario[Importe],Tabla_Diario[Cta],Tabla5[Cuenta],Tabla_Diario[D/H],\"D\")","v":0},{"$f":"SUMIFS(Tabla_Diario[Importe],Tabla_Diario[Cta],Tabla5[Cuenta],Tabla_Diario[D/H],\"H\")","v":0},{"$f":"(Tabla5[[#This Row],[Debe]]-Tabla5[[#This Row],[Haber]])*Tabla5[[#This Row],[Multiplicador]]","v":0}]
[4720,1,"ABIII3",{"$f":"SUMIFS(Tabla_Diario[Importe],Tabla_Diario[Cta],Tabla5[Cuenta],Tabla_Diario[D/H],\"D\")","v":0},{"$f":"SUMIFS(Tabla_Diario[Importe],Tabla_Diario[Cta],Tabla5[Cuenta],Tabla_Diario[D/H],\"H\")","v":0},{"$f":"(Tabla5[[#This Row],[Debe]]-Tabla5[[#This Row],[Haber]])*Tabla5[[#This Row],[Multiplicador]]","v":0}]
[4730,1,"ABIII3",{"$f":"SUMIFS(Tabla_Diario[Importe],Tabla_Diario[Cta],Tabla5[Cuenta],Tabla_Diario[D/H],\"D\")","v":0},{"$f":"SUMIFS(Tabla_Diario[Importe],Tabla_Diario[Cta],Tabla5[Cuenta],Tabla_Diario[D/H],\"H\")","v":0},{"$f":"(Tabla5[[#This Row],[Debe]]-Tabla5[[#This Row],[Haber]])*Tabla5[[#This Row],[Multiplicador]]","v":0}]
[4740,1,"AAVI",{"$f":"SUMIFS(Tabla_Diario[Importe],Tabla_Diario[Cta],Tabla5[Cuenta],Tabla_Diario[D/H],\"D\")","v":0},{"$f":"SUMIFS(Tabla_Diario[Importe],Tabla_Diario[Cta],Tabla5[Cuenta],Tabla_Diario[D/H],\"H\")","v":0},{"$f":"(Tabla5[[#This Row],[Debe]]-Tabla5[[#This Row],[Haber]])*Tabla5[[#This Row],[Multiplicador]]","v":0}]
[4750,-1,"PCV2",{"$f":"SUMIFS(Tabla_Diario[Importe],Tabla_Diario[Cta],Tabla5[Cuenta],Tabla_Diario[D/H],\"D\")","v":0},{"$f":"SUMIFS(Tabla_Diario[Importe],Tabla_Diario[Cta],Tabla5[Cuenta],Tabla_Diario[D/H],\"H\")","v":0},{"$f":"(Tabla5[[#This Row],[Debe]]-Tabla5[[#This Row],[Haber]])*Tabla5[[#This Row],[Multiplicador]]","v":0}]
[4760,-1,"PCV2",{"$f":"SUMIFS(Tabla_Diario[Importe],Tabla_Diario[Cta],Tabla5[Cuenta],Tabla_Diario[D/H],\"D\")","v":0},{"$f":"SUMIFS(Tabla_Diario[Importe],Tabla_Diario[Cta],Tabla5[Cuenta],Tabla_Diario[D/H],\"H\")","v":0},{"$f":"(Tabla5[[#This Row],[Debe]]-Tabla5[[#This Row],[Haber]])*Tabla5[[#This Row],[Multiplicador]]","v":0}]
[4770,-1,"PCV2",{"$f":"SUMIFS(Tabla_Diario[Importe],Tabla_Diario[Cta],Tabla5[Cuenta],Tabla_Diario[D/H],\"D\")","v":0},{"$f":"SUMIFS(Tabla_Diario[Importe],Tabla_Diario[Cta],Tabla5[Cuenta],Tabla_Diario[D/H],\"H\")","v":0},{"$f":"(Tabla5[[#This Row],[Debe]]-Tabla5[[#This Row],[Haber]])*Tabla5[[#This Row],[Multiplicador]]","v":0}]
[4790,-1,"PBIV",{"$f":"SUMIFS(Tabla_Diario[Importe],Tabla_Diario[Cta],Tabla5[Cuenta],Tabla_Diario[D/H],\"D\")","v":0},{"$f":"SUMIFS(Tabla_Diario[Importe],Tabla_Diario[Cta],Tabla5[Cuenta],Tabla_Diario[D/H],\"H\")","v":0},{"$f":"(Tabla5[[#This Row],[Debe]]-Tabla5[[#This Row],[Haber]])*Tabla5[[#This Row],[Multiplicador]]","v":0}]
[4800,1,"ABVI",{"$f":"SUMIFS(Tabla_Diario[Importe],Tabla_Diario[Cta],Tabla5[Cuenta],Tabla_Diario[D/H],\"D\")","v":0},{"$f":"SUMIFS(Tabla_Diario[Importe],Tabla_Diario[Cta],Tabla5[Cuenta],Tabla_Diario[D/H],\"H\")","v":0},{"$f":"(Tabla5[[#This Row],[Debe]]-Tabla5[[#This Row],[Haber]])*Tabla5[[#This Row],[Multiplicador]]","v":0}]
[4850,-1,"PCVI",{"$f":"SUMIFS(Tabla_Diario[Importe],Tabla_Diario[Cta],Tabla5[Cuenta],Tabla_Diario[D/H],\"D\")","v":0},{"$f":"SUMIFS(Tabla_Diario[Importe],Tabla_Diario[Cta],Tabla5[Cuenta],Tabla_Diario[D/H],\"H\")","v":0},{"$f":"(Tabla5[[#This Row],[Debe]]-Tabla5[[#This Row],[Haber]])*Tabla5[[#This Row],[Multiplicador]]","v":0}]
[4900,-1,"ABIII1",{"$f":"SUMIFS(Tabla_Diario[Importe],Tabla_Diario[Cta],Tabla5[Cuenta],Tabla_Diario[D/H],\"D\")","v":0},{"$f":"SUMIFS(Tabla_Diario[Importe],Tabla_Diario[Cta],Tabla5[Cuenta],Tabla_Diario[D/H],\"H\")","v":0},{"$f":"(Tabla5[[#This Row],[Debe]]-Tabla5[[#This Row],[Haber]])*Tabla5[[#This Row],[Multiplicador]]","v":0}]
[4930,-1,"ABIII1",{"$f":"SUMIFS(Tabla_Diario[Importe],Tabla_Diario[Cta],Tabla5[Cuenta],Tabla_Diario[D/H],\"D\")","v":0},{"$f":"SUMIFS(Tabla_Diario[Importe],Tabla_Diario[Cta],Tabla5[Cuenta],Tabla_Diario[D/H],\"H\")","v":0},{"$f":"(Tabla5[[#This Row],[Debe]]-Tabla5[[#This Row],[Haber]])*Tabla5[[#This Row],[Multiplicador]]","v":0}]
[4990,-1,"PCII",{"$f":"SUMIFS(Tabla_Diario[Importe],Tabla_Diario[Cta],Tabla5[Cuenta],Tabla_Diario[D/H],\"D\")","v":0},{"$f":"SUMIFS(Tabla_Diario[Importe],Tabla_Diario[Cta],Tabla5[Cuenta],Tabla_Diario[D/H],\"H\")","v":0},{"$f":"(Tabla5[[#This Row],[Debe]]-Tabla5[[#This Row],[Haber]])*Tabla5[[#This Row],[Multiplicador]]","v":0}]
[5000,-1,"PCIII3",{"$f":"SUMIFS(Tabla_Diario[Importe],Tabla_Diario[Cta],Tabla5[Cuenta],Tabla_Diario[D/H],\"D\")","v":0},{"$f":"SUMIFS(Tabla_Diario[Importe],Tabla_Diario[Cta],Tabla5[Cuenta],Tabla_Diario[D/H],\"H\")","v":0},{"$f":"(Tabla5[[#This Row],[Debe]]-Tabla5[[#This Row],[Haber]])*Tabla5[[#This Row],[Multiplicador]]","v":0}]
[5010,-1,"PCIII3",{"$f":"SUMIFS(Tabla_Diario[Importe],Tabla_Diario[Cta],Tabla5[Cuenta],Tabla_Diario[D/H],\"D\")","v":0},{"$f":"SUMIFS(Tabla_Diario[Importe],Tabla_Diario[Cta],Tabla5[Cuenta],Tabla_Diario[D/H],\"H\")","v":0},{"$f":"(Tabla5[[#This Row],[Debe]]-Tabla5[[#This Row],[Haber]])*Tabla5[[#This Row],[Multiplicador]]","v":0}]
[5020,-1,"PCIII3",{"$f":"SUMIFS(Tabla_Diario[Importe],Tabla_Diario[Cta],Tabla5[Cuenta],Tabla_Diario[D/H],\"D\")","v":0},{"$f":"SUMIFS(Tabla_Diario[Importe],Tabla_Diario[Cta],Tabla5[Cuenta],Tabla_Diario[D/H],\"H\")","v":0},{"$f":"(Tabla5[[#This Row],[Debe]]-Tabla5[[#This Row],[Haber]])*Tabla5[[#This Row],[Multiplicador]]","v":0}]
[5050,-1,"PCIII3",{"$f":"SUMIFS(Tabla_Diario[Importe],Tabla_Diario[Cta],Tabla5[Cuenta],Tabla_Diario[D/H],\"D\")","v":0},{"$f":"SUMIFS(Tabla_Diario[Importe],Tabla_Diario[Cta],Tabla5[Cuenta],Tabla_Diario[D/H],\"H\")","v":0},{"$f":"(Tabla5[[#This Row],[Debe]]-Tabla5[[#This Row],[Haber]])*Tabla5[[#This Row],[Multiplicador]]","v":0}]
[5060,-1,"PCIII3",{"$f":"SUMIFS(Tabla_Diario[Importe],Tabla_Diario[Cta],Tabla5[Cuenta],Tabla_Diario[D/H],\"D\")","v":0},{"$f":"SUMIFS(Tabla_Diario[Importe],Tabla_Diario[Cta],Tabla5[Cuenta],Tabla_Diario[D/H],\"H\")","v":0},{"$f":"(Tabla5[[#This Row],[Debe]]-Tabla5[[#This Row],[Haber]])*Tabla5[[#This Row],[Multiplicador]]","v":0}]
[5070,-1,"PCIII3",{"$f":"SUMIFS(Tabla_Diario[Importe],Tabla_Diario[Cta],Tabla5[Cuenta],Tabla_Diario[D/H],\"D\")","v":0},{"$f":"SUMIFS(Tabla_Diario[Importe],Tabla_Diario[Cta],Tabla5[Cuenta],Tabla_Diario[D/H],\"H\")","v":0},{"$f":"(Tabla5[[#This Row],[Debe]]-Tabla5[[#This Row],[Haber]])*Tabla5[[#This Row],[Multiplicador]]","v":0}]
[5090,-1,"PCIII3",{"$f":"SUMIFS(Tabla_Diario[Importe],Tabla_Diario[Cta],Tabla5[Cuenta],Tabla_Diario[D/H],\"D\")","v":0},{"$f":"SUMIFS(Tabla_Diario[Importe],Tabla_Diario[Cta],Tabla5[Cuenta],Tabla_Diario[D/H],\"H\")","v":0},{"$f":"(Tabla5[[#This Row],[Debe]]-Tabla5[[#This Row],[Haber]])*Tabla5[[#This Row],[Multiplicador]]","v":0}]
[5100,-1,"PCIII1",{"$f":"SUMIFS(Tabla_Diario[Importe],Tabla_Diario[Cta],Tabla5[Cuenta],Tabla_Diario[D/H],\"D\")","v":0},{"$f":"SUMIFS(Tabla_Diario[Importe],Tabla_Diario[Cta],Tabla5[Cuenta],Tabla_Diario[D/H],\"H\")","v":0},{"$f":"(Tabla5[[#This Row],[Debe]]-Tabla5[[#This Row],[Haber]])*Tabla5[[#This Row],[Multiplicador]]","v":0}]
[5110,-1,"PCIII3",{"$f":"SUMIFS(Tabla_Diario[Importe],Tabla_Diario[Cta],Tabla5[Cuenta],Tabla_Diario[D/H],\"D\")","v":0},{"$f":"SUMIFS(Tabla_Diario[Importe],Tabla_Diario[Cta],Tabla5[Cuenta],Tabla_Diario[D/H],\"H\")","v":0},{"$f":"(Tabla5[[#This Row],[Debe]]-Tabla5[[#This Row],[Haber]])*Tabla5[[#This Row],[Multiplicador]]","v":0}]
[5120,-1,"PCIII2",{"$f":"SUMIFS(Tabla_Diario[Importe],Tabla_Diario[Cta],Tabla5[Cuenta],Tabla_Diario[D/H],\"D\")","v":0},{"$f":"SUMIFS(Tabla_Diario[Importe],Tabla_Diario[Cta],Tabla5[Cuenta],Tabla_Diario[D/H],\"H\")","v":0},{"$f":"(Tabla5[[#This Row],[Debe]]-Tabla5[[#This Row],[Haber]])*Tabla5[[#This Row],[Multiplicador]]","v":0}]
[5130,-1,"PCIII3",{"$f":"SUMIFS(Tabla_Diario[Importe],Tabla_Diario[Cta],Tabla5[Cuenta],Tabla_Diario[D/H],\"D\")","v":0},{"$f":"SUMIFS(Tabla_Diario[Importe],Tabla_Diario[Cta],Tabla5[Cuenta],Tabla_Diario[D/H],\"H\")","v":0},{"$f":"(Tabla5[[#This Row],[Debe]]-Tabla5[[#This Row],[Haber]])*Tabla5[[#This Row],[Multiplicador]]","v":0}]
[5140,-1,"PCIII3",{"$f":"SUMIFS(Tabla_Diario[Importe],Tabla_Diario[Cta],Tabla5[Cuenta],Tabla_Diario[D/H],\"D\")","v":0},{"$f":"SUMIFS(Tabla_Diario[Importe],Tabla_Diario[Cta],Tabla5[Cuenta],Tabla_Diario[D/H],\"H\")","v":0},{"$f":"(Tabla5[[#This Row],[Debe]]-Tabla5[[#This Row],[Haber]])*Tabla5[[#This Row],[Multiplicador]]","v":0}]
[5200,-1,"PCIII1",{"$f":"SUMIFS(Tabla_Diario[Importe],Tabla_Diario[Cta],Tabla5[Cuenta],Tabla_Diario[D/H],\"D\")","v":0},{"$f":"SUMIFS(Tabla_Diario[Importe],Tabla_Diario[Cta],Tabla5[Cuenta],Tabla_Diario[D/H],\"H\")","v":0},{"$f":"(Tabla5[[#This Row],[Debe]]-Tabla5[[#This Row],[Haber]])*Tabla5[[#This Row],[Multiplicador]]","v":0}]
[5210,-1,"PCIII3",{"$f":"SUMIFS(Tabla_Diario[Importe],Tabla_Diario[Cta],Tabla5[Cuenta],Tabla_Diario[D/H],\"D\")","v":0},{"$f":"SUMIFS(Tabla_Diario[Importe],Tabla_Diario[Cta],Tabla5[Cuenta],Tabla_Diario[D/H],\"H\")","v":0},{"$f":"(Tabla5[[#This Row],[Debe]]-Tabla5[[#This Row],[Haber]])*Tabla5[[#This Row],[Multiplicador]]","v":0}]
[5220,-1,"PCIII3",{"$f":"SUMIFS(Tabla_Diario[Importe],Tabla_Diario[Cta],Tabla5[Cuenta],Tabla_Diario[D/H],\"D\")","v":0},{"$f":"SUMIFS(Tabla_Diario[Importe],Tabla_Diario[Cta],Tabla5[Cuenta],Tabla_Diario[D/H],\"H\")","v":0},{"$f":"(Tabla5[[#This Row],[Debe]]-Tabla5[[#This Row],[Haber]])*Tabla5[[#This Row],[Multiplicador]]","v":0}]
[5230,-1,"PCIII3",{"$f":"SUMIFS(Tabla_Diario[Importe],Tabla_Diario[Cta],Tabla5[Cuenta],Tabla_Diario[D/H],\"D\")","v":0},{"$f":"SUMIFS(Tabla_Diario[Importe],Tabla_Diario[Cta],Tabla5[Cuenta],Tabla_Diario[D/H],\"H\")","v":0},{"$f":"(Tabla5[[#This Row],[Debe]]-Tabla5[[#This Row],[Haber]])*Tabla5[[#This Row],[Multiplicador]]","v":0}]
[5240,-1,"PCIII2",{"$f":"SUMIFS(Tabla_Diario[Importe],Tabla_Diario[Cta],Tabla5[Cuenta],Tabla_Diario[D/H],\"D\")","v":0},{"$f":"SUMIFS(Tabla_Diario[Importe],Tabla_Diario[Cta],Tabla5[Cuenta],Tabla_Diario[D/H],\"H\")","v":0},{"$f":"(Tabla5[[#This Row],[Debe]]-Tabla5[[#This Row],[Haber]])*Tabla5[[#This Row],[Multiplicador]]","v":0}]
[5250,-1,"PCIII3",{"$f":"SUMIFS(Tabla_Diario[Importe],Tabla_Diario[Cta],Tabla5[Cuenta],Tabla_Diario[D/H],\"D\")","v":0},{"$f":"SUMIFS(Tabla_Diario[Importe],Tabla_Diario[Cta],Tabla5[Cuenta],Tabla_Diario[D/H],\"H\")","v":0},{"$f":"(Tabla5[[#This Row],[Debe]]-Tabla5[[#This Row],[Haber]])*Tabla5[[#This Row],[Multiplicador]]","v":0}]
[5260,-1,"PCIII3",{"$f":"SUMIFS(Tabla_Diario[Importe],Tabla_Diario[Cta],Tabla5[Cuenta],Tabla_Diario[D/H],\"D\")","v":0},{"$f":"SUMIFS(Tabla_Diario[Importe],Tabla_Diario[Cta],Tabla5[Cuenta],Tabla_Diario[D/H],\"H\")","v":0},{"$f":"(Tabla5[[#This Row],[Debe]]-Tabla5[[#This Row],[Haber]])*Tabla5[[#This Row],[Multiplicador]]","v":0}]
[5270,-1,"PCIII1",{"$f":"SUMIFS(Tabla_Diario[Importe],Tabla_Diario[Cta],Tabla5[Cuenta],Tabla_Diario[D/H],\"D\")","v":0},{"$f":"SUMIFS(Tabla_Diario[Importe],Tabla_Diario[Cta],Tabla5[Cuenta],Tabla_Diario[D/H],\"H\")","v":0},{"$f":"(Tabla5[[#This Row],[Debe]]-Tabla5[[#This Row],[Haber]])*Tabla5[[#This Row],[Multiplicador]]","v":0}]
[5280,-1,"PCIII3",{"$f":"SUMIFS(Tabla_Diario[Importe],Tabla_Diario[Cta],Tabla5[Cuenta],Tabla_Diario[D/H],\"D\")","v":0},{"$f":"SUMIFS(Tabla_Diario[Importe],Tabla_Diario[Cta],Tabla5[Cuenta],Tabla_Diario[D/H],\"H\")","v":0},{"$f":"(Tabla5[[#This Row],[Debe]]-Tabla5[[#This Row],[Haber]])*Tabla5[[#This Row],[Multiplicador]]","v":0}]
[5290,-1,"PCII",{"$f":"SUMIFS(Tabla_Diario[Importe],Tabla_Diario[Cta],Tabla5[Cuenta],Tabla_Diario[D/H],\"D\")","v":0},{"$f":"SUMIFS(Tabla_Diario[Importe],Tabla_Diario[Cta],Tabla5[Cuenta],Tabla_Diario[D/H],\"H\")","v":0},{"$f":"(Tabla5[[#This Row],[Debe]]-Tabla5[[#This Row],[Haber]])*Tabla5[[#This Row],[Multiplicador]]","v":0}]
[5300,1,"ABV",{"$f":"SUMIFS(Tabla_Diario[Importe],Tabla_Diario[Cta],Tabla5[Cuenta],Tabla_Diario[D/H],\"D\")","v":0},{"$f":"SUMIFS(Tabla_Diario[Importe],Tabla_Diario[Cta],Tabla5[Cuenta],Tabla_Diario[D/H],\"H\")","v":0},{"$f":"(Tabla5[[#This Row],[Debe]]-Tabla5[[#This Row],[Haber]])*Tabla5[[#This Row],[Multiplicador]]","v":0}]
[5300,1,"ABV",{"$f":"SUMIFS(Tabla_Diario[Importe],Tabla_Diario[Cta],Tabla5[Cuenta],Tabla_Diario[D/H],\"D\")","v":0},{"$f":"SUMIFS(Tabla_Diario[Importe],Tabla_Diario[Cta],Tabla5[Cuenta],Tabla_Diario[D/H],\"H\")","v":0},{"$f":"(Tabla5[[#This Row],[Debe]]-Tabla5[[#This Row],[Haber]])*Tabla5[[#This Row],[Multiplicador]]","v":0}]
[5300,1,"ABV",{"$f":"SUMIFS(Tabla_Diario[Importe],Tabla_Diario[Cta],Tabla5[Cuenta],Tabla_Diario[D/H],\"D\")","v":0},{"$f":"SUMIFS(Tabla_Diario[Importe],Tabla_Diario[Cta],Tabla5[Cuenta],Tabla_Diario[D/H],\"H\")","v":0},{"$f":"(Tabla5[[#This Row],[Debe]]-Tabla5[[#This Row],[Haber]])*Tabla5[[#This Row],[Multiplicador]]","v":0}]
[5300,1,"ABV",{"$f":"SUMIFS(Tabla_Diario[Importe],Tabla_Diario[Cta],Tabla5[Cuenta],Tabla_Diario[D/H],\"D\")","v":0},{"$f":"SUMIFS(Tabla_Diario[Importe],Tabla_Diario[Cta],Tabla5[Cuenta],Tabla_Diario[D/H],\"H\")","v":0},{"$f":"(Tabla5[[#This Row],[Debe]]-Tabla5[[#This Row],[Haber]])*Tabla5[[#This Row],[Multiplicador]]","v":0}]
[5300,1,"ABV",{"$f":"SUMIFS(Tabla_Diario[Importe],Tabla_Diario[Cta],Tabla5[Cuenta],Tabla_Diario[D/H],\"D\")","v":0},{"$f":"SUMIFS(Tabla_Diario[Importe],Tabla_Diario[Cta],Tabla5[Cuenta],Tabla_Diario[D/H],\"H\")","v":0},{"$f":"(Tabla5[[#This Row],[Debe]]-Tabla5[[#This Row],[Haber]])*Tabla5[[#This Row],[Multiplicador]]","v":0}]
[5300,1,"ABV",{"$f":"SUMIFS(Tabla_Diario[Importe],Tabla_Diario[Cta],Tabla5[Cuenta],Tabla_Diario[D/H],\"D\")","v":0},{"$f":"SUMIFS(Tabla_Diario[Importe],Tabla_Diario[Cta],Tabla5[Cuenta],Tabla_Diario[D/H],\"H\")","v":0},{"$f":"(Tabla5[[#This Row],[Debe]]-Tabla5[[#This Row],[Haber]])*Tabla5[[#This Row],[Multiplicador]]","v":0}]
[5390,-1,"ABV",{"$f":"SUMIFS(Tabla_Diario[Importe],Tabla_Diario[Cta],Tabla5[Cuenta],Tabla_Diario[D/H],\"D\")","v":0},{"$f":"SUMIFS(Tabla_Diario[Importe],Tabla_Diario[Cta],Tabla5[Cuenta],Tabla_Diario[D/H],\"H\")","v":0},{"$f":"(Tabla5[[#This Row],[Debe]]-Tabla5[[#This Row],[Haber]])*Tabla5[[#This Row],[Multiplicador]]","v":0}]
[5400,1,"ABV",{"$f":"SUMIFS(Tabla_Diario[Importe],Tabla_Diario[Cta],Tabla5[Cuenta],Tabla_Diario[D/H],\"D\")","v":0},{"$f":"SUMIFS(Tabla_Diario[Importe],Tabla_Diario[Cta],Tabla5[Cuenta],Tabla_Diario[D/H],\"H\")","v":0},{"$f":"(Tabla5[[#This Row],[Debe]]-Tabla5[[#This Row],[Haber]])*Tabla5[[#This Row],[Multiplicador]]","v":0}]
[5410,1,"ABV",{"$f":"SUMIFS(Tabla_Diario[Importe],Tabla_Diario[Cta],Tabla5[Cuenta],Tabla_Diario[D/H],\"D\")","v":0},{"$f":"SUMIFS(Tabla_Diario[Importe],Tabla_Diario[Cta],Tabla5[Cuenta],Tabla_Diario[D/H],\"H\")","v":0},{"$f":"(Tabla5[[#This Row],[Debe]]-Tabla5[[#This Row],[Haber]])*Tabla5[[#This Row],[Multiplicador]]","v":0}]
[5420,1,"ABV",{"$f":"SUMIFS(Tabla_Diario[Importe],Tabla_Diario[Cta],Tabla5[Cuenta],Tabla_Diario[D/H],\"D\")","v":0},{"$f":"SUMIFS(Tabla_Diario[Importe],Tabla_Diario[Cta],Tabla5[Cuenta],Tabla_Diario[D/H],\"H\")","v":0},{"$f":"(Tabla5[[#This Row],[Debe]]-Tabla5[[#This Row],[Haber]])*Tabla5[[#This Row],[Multiplicador]]","v":0}]
[5430,1,"ABV",{"$f":"SUMIFS(Tabla_Diario[Importe],Tabla_Diario[Cta],Tabla5[Cuenta],Tabla_Diario[D/H],\"D\")","v":0},{"$f":"SUMIFS(Tabla_Diario[Importe],Tabla_Diario[Cta],Tabla5[Cuenta],Tabla_Diario[D/H],\"H\")","v":0},{"$f":"(Tabla5[[#This Row],[Debe]]-Tabla5[[#This Row],[Haber]])*Tabla5[[#This Row],[Multiplicador]]","v":0}]
[5440,1,"ABIII3",{"$f":"SUMIFS(Tabla_Diario[Importe],Tabla_Diario[Cta],Tabla5[Cuenta],Tabla_Diario[D/H],\"D\")","v":0},{"$f":"SUMIFS(Tabla_Diario[Importe],Tabla_Diario[Cta],Tabla5[Cuenta],Tabla_Diario[D/H],\"H\")","v":0},{"$f":"(Tabla5[[#This Row],[Debe]]-Tabla5[[#This Row],[Haber]])*Tabla5[[#This Row],[Multiplicador]]","v":0}]
[5450,1,"ABV",{"$f":"SUMIFS(Tabla_Diario[Importe],Tabla_Diario[Cta],Tabla5[Cuenta],Tabla_Diario[D/H],\"D\")","v":0},{"$f":"SUMIFS(Tabla_Diario[Importe],Tabla_Diario[Cta],Tabla5[Cuenta],Tabla_Diario[D/H],\"H\")","v":0},{"$f":"(Tabla5[[#This Row],[Debe]]-Tabla5[[#This Row],[Haber]])*Tabla5[[#This Row],[Multiplicador]]","v":0}]
[5460,1,"ABV",{"$f":"SUMIFS(Tabla_Diario[Importe],Tabla_Diario[Cta],Tabla5[Cuenta],Tabla_Diario[D/H],\"D\")","v":0},{"$f":"SUMIFS(Tabla_Diario[Importe],Tabla_Diario[Cta],Tabla5[Cuenta],Tabla_Diario[D/H],\"H\")","v":0},{"$f":"(Tabla5[[#This Row],[Debe]]-Tabla5[[#This Row],[Haber]])*Tabla5[[#This Row],[Multiplicador]]","v":0}]
[5470,1,"ABV",{"$f":"SUMIFS(Tabla_Diario[Importe],Tabla_Diario[Cta],Tabla5[Cuenta],Tabla_Diario[D/H],\"D\")","v":0},{"$f":"SUMIFS(Tabla_Diario[Importe],Tabla_Diario[Cta],Tabla5[Cuenta],Tabla_Diario[D/H],\"H\")","v":0},{"$f":"(Tabla5[[#This Row],[Debe]]-Tabla5[[#This Row],[Haber]])*Tabla5[[#This Row],[Multiplicador]]","v":0}]
[5480,1,"ABV",{"$f":"SUMIFS(Tabla_Diario[Importe],Tabla_Diario[Cta],Tabla5[Cuenta],Tabla_Diario[D/H],\"D\")","v":0},{"$f":"SUMIFS(Tabla_Diario[Importe],Tabla_Diario[Cta],Tabla5[Cuenta],Tabla_Diario[D/H],\"H\")","v":0},{"$f":"(Tabla5[[#This Row],[Debe]]-Tabla5[[#This Row],[Haber]])*Tabla5[[#This Row],[Multiplicador]]","v":0}]
[5490,-1,"ABV",{"$f":"SUMIFS(Tabla_Diario[Importe],Tabla_Diario[Cta],Tabla5[Cuenta],Tabla_Diario[D/H],\"D\")","v":0},{"$f":"SUMIFS(Tabla_Diario[Importe],Tabla_Diario[Cta],Tabla5[Cuenta],Tabla_Diario[D/H],\"H\")","v":0},{"$f":"(Tabla5[[#This Row],[Debe]]-Tabla5[[#This Row],[Haber]])*Tabla5[[#This Row],[Multiplicador]]","v":0}]
[5500,1,"ABV",{"$f":"SUMIFS(Tabla_Diario[Importe],Tabla_Diario[Cta],Tabla5[Cuenta],Tabla_Diario[D/H],\"D\")","v":0},{"$f":"SUMIFS(Tabla_Diario[Importe],Tabla_Diario[Cta],Tabla5[Cuenta],Tabla_Diario[D/H],\"H\")","v":0},{"$f":"(Tabla5[[#This Row],[Debe]]-Tabla5[[#This Row],[Haber]])*Tabla5[[#This Row],[Multiplicador]]","v":0}]
[5510,1,"ABV",{"$f":"SUMIFS(Tabla_Diario[Importe],Tabla_Diario[Cta],Tabla5[Cuenta],Tabla_Diario[D/H],\"D\")","v":0},{"$f":"SUMIFS(Tabla_Diario[Importe],Tabla_Diario[Cta],Tabla5[Cuenta],Tabla_Diario[D/H],\"H\")","v":0},{"$f":"(Tabla5[[#This Row],[Debe]]-Tabla5[[#This Row],[Haber]])*Tabla5[[#This Row],[Multiplicador]]","v":0}]
[5520,1,"ABV",{"$f":"SUMIFS(Tabla_Diario[Importe],Tabla_Diario[Cta],Tabla5[Cuenta],Tabla_Diario[D/H],\"D\")","v":0},{"$f":"SUMIFS(Tabla_Diario[Importe],Tabla_Diario[Cta],Tabla5[Cuenta],Tabla_Diario[D/H],\"H\")","v":0},{"$f":"(Tabla5[[#This Row],[Debe]]-Tabla5[[#This Row],[Haber]])*Tabla5[[#This Row],[Multiplicador]]","v":0}]
[5530,1,"ABIII3",{"$f":"SUMIFS(Tabla_Diario[Importe],Tabla_Diario[Cta],Tabla5[Cuenta],Tabla_Diario[D/H],\"D\")","v":0},{"$f":"SUMIFS(Tabla_Diario[Importe],Tabla_Diario[Cta],Tabla5[Cuenta],Tabla_Diario[D/H],\"H\")","v":0},{"$f":"(Tabla5[[#This Row],[Debe]]-Tabla5[[#This Row],[Haber]])*Tabla5[[#This Row],[Multiplicador]]","v":0}]
[5540,1,"ABIII3",{"$f":"SUMIFS(Tabla_Diario[Importe],Tabla_Diario[Cta],Tabla5[Cuenta],Tabla_Diario[D/H],\"D\")","v":0},{"$f":"SUMIFS(Tabla_Diario[Importe],Tabla_Diario[Cta],Tabla5[Cuenta],Tabla_Diario[D/H],\"H\")","v":0},{"$f":"(Tabla5[[#This Row],[Debe]]-Tabla5[[#This Row],[Haber]])*Tabla5[[#This Row],[Multiplicador]]","v":0}]
[5550,-1,"PCIII3",{"$f":"SUMIFS(Tabla_Diario[Importe],Tabla_Diario[Cta],Tabla5[Cuenta],Tabla_Diario[D/H],\"D\")","v":0},{"$f":"SUMIFS(Tabla_Diario[Importe],Tabla_Diario[Cta],Tabla5[Cuenta],Tabla_Diario[D/H],\"H\")","v":0},{"$f":"(Tabla5[[#This Row],[Debe]]-Tabla5[[#This Row],[Haber]])*Tabla5[[#This Row],[Multiplicador]]","v":0}]
[5560,-1,"PCIII3",{"$f":"SUMIFS(Tabla_Diario[Importe],Tabla_Diario[Cta],Tabla5[Cuenta],Tabla_Diario[D/H],\"D\")","v":0},{"$f":"SUMIFS(Tabla_Diario[Importe],Tabla_Diario[Cta],Tabla5[Cuenta],Tabla_Diario[D/H],\"H\")","v":0},{"$f":"(Tabla5[[#This Row],[Debe]]-Tabla5[[#This Row],[Haber]])*Tabla5[[#This Row],[Multiplicador]]","v":0}]
[5570,1,"PAVIII",{"$f":"SUMIFS(Tabla_Diario[Importe],Tabla_Diario[Cta],Tabla5[Cuenta],Tabla_Diario[D/H],\"D\")","v":0},{"$f":"SUMIFS(Tabla_Diario[Importe],Tabla_Diario[Cta],Tabla5[Cuenta],Tabla_Diario[D/H],\"H\")","v":0},{"$f":"(Tabla5[[#This Row],[Debe]]-Tabla5[[#This Row],[Haber]])*Tabla5[[#This Row],[Multiplicador]]","v":0}]
[5580,1,"ABIII2",{"$f":"SUMIFS(Tabla_Diario[Importe],Tabla_Diario[Cta],Tabla5[Cuenta],Tabla_Diario[D/H],\"D\")","v":0},{"$f":"SUMIFS(Tabla_Diario[Importe],Tabla_Diario[Cta],Tabla5[Cuenta],Tabla_Diario[D/H],\"H\")","v":0},{"$f":"(Tabla5[[#This Row],[Debe]]-Tabla5[[#This Row],[Haber]])*Tabla5[[#This Row],[Multiplicador]]","v":0}]
[5590,1,"ABV",{"$f":"SUMIFS(Tabla_Diario[Importe],Tabla_Diario[Cta],Tabla5[Cuenta],Tabla_Diario[D/H],\"D\")","v":0},{"$f":"SUMIFS(Tabla_Diario[Importe],Tabla_Diario[Cta],Tabla5[Cuenta],Tabla_Diario[D/H],\"H\")","v":0},{"$f":"(Tabla5[[#This Row],[Debe]]-Tabla5[[#This Row],[Haber]])*Tabla5[[#This Row],[Multiplicador]]","v":0}]
[5600,-1,"PCIII3",{"$f":"SUMIFS(Tabla_Diario[Importe],Tabla_Diario[Cta],Tabla5[Cuenta],Tabla_Diario[D/H],\"D\")","v":0},{"$f":"SUMIFS(Tabla_Diario[Importe],Tabla_Diario[Cta],Tabla5[Cuenta],Tabla_Diario[D/H],\"H\")","v":0},{"$f":"(Tabla5[[#This Row],[Debe]]-Tabla5[[#This Row],[Haber]])*Tabla5[[#This Row],[Multiplicador]]","v":0}]
[5610,-1,"PCIII3",{"$f":"SUMIFS(Tabla_Diario[Importe],Tabla_Diario[Cta],Tabla5[Cuenta],Tabla_Diario[D/H],\"D\")","v":0},{"$f":"SUMIFS(Tabla_Diario[Importe],Tabla_Diario[Cta],Tabla5[Cuenta],Tabla_Diario[D/H],\"H\")","v":0},{"$f":"(Tabla5[[#This Row],[Debe]]-Tabla5[[#This Row],[Haber]])*Tabla5[[#This Row],[Multiplicador]]","v":0}]
[5650,1,"ABV",{"$f":"SUMIFS(Tabla_Diario[Importe],Tabla_Diario[Cta],Tabla5[Cuenta],Tabla_Diario[D/H],\"D\")","v":0},{"$f":"SUMIFS(Tabla_Diario[Importe],Tabla_Diario[Cta],Tabla5[Cuenta],Tabla_Diario[D/H],\"H\")","v":0},{"$f":"(Tabla5[[#This Row],[Debe]]-Tabla5[[#This Row],[Haber]])*Tabla5[[#This Row],[Multiplicador]]","v":0}]
[5660,1,"ABV",{"$f":"SUMIFS(Tabla_Diario[Importe],Tabla_Diario[Cta],Tabla5[Cuenta],Tabla_Diario[D/H],\"D\")","v":0},{"$f":"SUMIFS(Tabla_Diario[Importe],Tabla_Diario[Cta],Tabla5[Cuenta],Tabla_Diario[D/H],\"H\")","v":0},{"$f":"(Tabla5[[#This Row],[Debe]]-Tabla5[[#This Row],[Haber]])*Tabla5[[#This Row],[Multiplicador]]","v":0}]
[5670,1,"ABVI",{"$f":"SUMIFS(Tabla_Diario[Importe],Tabla_Diario[Cta],Tabla5[Cuenta],Tabla_Diario[D/H],\"D\")","v":0},{"$f":"SUMIFS(Tabla_Diario[Importe],Tabla_Diario[Cta],Tabla5[Cuenta],Tabla_Diario[D/H],\"H\")","v":0},{"$f":"(Tabla5[[#This Row],[Debe]]-Tabla5[[#This Row],[Haber]])*Tabla5[[#This Row],[Multiplicador]]","v":0}]
[5680,-1,"PCVI",{"$f":"SUMIFS(Tabla_Diario[Importe],Tabla_Diario[Cta],Tabla5[Cuenta],Tabla_Diario[D/H],\"D\")","v":0},{"$f":"SUMIFS(Tabla_Diario[Importe],Tabla_Diario[Cta],Tabla5[Cuenta],Tabla_Diario[D/H],\"H\")","v":0},{"$f":"(Tabla5[[#This Row],[Debe]]-Tabla5[[#This Row],[Haber]])*Tabla5[[#This Row],[Multiplicador]]","v":0}]
[5690,-1,"PCIII3",{"$f":"SUMIFS(Tabla_Diario[Importe],Tabla_Diario[Cta],Tabla5[Cuenta],Tabla_Diario[D/H],\"D\")","v":0},{"$f":"SUMIFS(Tabla_Diario[Importe],Tabla_Diario[Cta],Tabla5[Cuenta],Tabla_Diario[D/H],\"H\")","v":0},{"$f":"(Tabla5[[#This Row],[Debe]]-Tabla5[[#This Row],[Haber]])*Tabla5[[#This Row],[Multiplicador]]","v":0}]
[5700,1,"ABVII",{"$f":"SUMIFS(Tabla_Diario[Importe],Tabla_Diario[Cta],Tabla5[Cuenta],Tabla_Diario[D/H],\"D\")","v":13500},{"$f":"SUMIFS(Tabla_Diario[Importe],Tabla_Diario[Cta],Tabla5[Cuenta],Tabla_Diario[D/H],\"H\")","v":11800},{"$f":"(Tabla5[[#This Row],[Debe]]-Tabla5[[#This Row],[Haber]])*Tabla5[[#This Row],[Multiplicador]]","v":1700}]
[5710,1,"ABVII",{"$f":"SUMIFS(Tabla_Diario[Importe],Tabla_Diario[Cta],Tabla5[Cuenta],Tabla_Diario[D/H],\"D\")","v":0},{"$f":"SUMIFS(Tabla_Diario[Importe],Tabla_Diario[Cta],Tabla5[Cuenta],Tabla_Diario[D/H],\"H\")","v":0},{"$f":"(Tabla5[[#This Row],[Debe]]-Tabla5[[#This Row],[Haber]])*Tabla5[[#This Row],[Multiplicador]]","v":0}]
[5720,1,"ABVII",{"$f":"SUMIFS(Tabla_Diario[Importe],Tabla_Diario[Cta],Tabla5[Cuenta],Tabla_Diario[D/H],\"D\")","v":9500},{"$f":"SUMIFS(Tabla_Diario[Importe],Tabla_Diario[Cta],Tabla5[Cuenta],Tabla_Diario[D/H],\"H\")","v":1450},{"$f":"(Tabla5[[#This Row],[Debe]]-Tabla5[[#This Row],[Haber]])*Tabla5[[#This Row],[Multiplicador]]","v":8050}]
[5730,1,"ABVII",{"$f":"SUMIFS(Tabla_Diario[Importe],Tabla_Diario[Cta],Tabla5[Cuenta],Tabla_Diario[D/H],\"D\")","v":0},{"$f":"SUMIFS(Tabla_Diario[Importe],Tabla_Diario[Cta],Tabla5[Cuenta],Tabla_Diario[D/H],\"H\")","v":0},{"$f":"(Tabla5[[#This Row],[Debe]]-Tabla5[[#This Row],[Haber]])*Tabla5[[#This Row],[Multiplicador]]","v":0}]
[5740,1,"ABVII",{"$f":"SUMIFS(Tabla_Diario[Importe],Tabla_Diario[Cta],Tabla5[Cuenta],Tabla_Diario[D/H],\"D\")","v":0},{"$f":"SUMIFS(Tabla_Diario[Importe],Tabla_Diario[Cta],Tabla5[Cuenta],Tabla_Diario[D/H],\"H\")","v":0},{"$f":"(Tabla5[[#This Row],[Debe]]-Tabla5[[#This Row],[Haber]])*Tabla5[[#This Row],[Multiplicador]]","v":0}]
[5750,1,"ABVII",{"$f":"SUMIFS(Tabla_Diario[Importe],Tabla_Diario[Cta],Tabla5[Cuenta],Tabla_Diario[D/H],\"D\")","v":0},{"$f":"SUMIFS(Tabla_Diario[Importe],Tabla_Diario[Cta],Tabla5[Cuenta],Tabla_Diario[D/H],\"H\")","v":0},{"$f":"(Tabla5[[#This Row],[Debe]]-Tabla5[[#This Row],[Haber]])*Tabla5[[#This Row],[Multiplicador]]","v":0}]
[5760,1,"ABVII",{"$f":"SUMIFS(Tabla_Diario[Importe],Tabla_Diario[Cta],Tabla5[Cuenta],Tabla_Diario[D/H],\"D\")","v":0},{"$f":"SUMIFS(Tabla_Diario[Importe],Tabla_Diario[Cta],Tabla5[Cuenta],Tabla_Diario[D/H],\"H\")","v":0},{"$f":"(Tabla5[[#This Row],[Debe]]-Tabla5[[#This Row],[Haber]])*Tabla5[[#This Row],[Multiplicador]]","v":0}]
[5800,1,"ABI",{"$f":"SUMIFS(Tabla_Diario[Importe],Tabla_Diario[Cta],Tabla5[Cuenta],Tabla_Diario[D/H],\"D\")","v":0},{"$f":"SUMIFS(Tabla_Diario[Importe],Tabla_Diario[Cta],Tabla5[Cuenta],Tabla_Diario[D/H],\"H\")","v":0},{"$f":"(Tabla5[[#This Row],[Debe]]-Tabla5[[#This Row],[Haber]])*Tabla5[[#This Row],[Multiplicador]]","v":0}]
[5810,1,"ABI",{"$f":"SUMIFS(Tabla_Diario[Importe],Tabla_Diario[Cta],Tabla5[Cuenta],Tabla_Diario[D/H],\"D\")","v":0},{"$f":"SUMIFS(Tabla_Diario[Importe],Tabla_Diario[Cta],Tabla5[Cuenta],Tabla_Diario[D/H],\"H\")","v":0},{"$f":"(Tabla5[[#This Row],[Debe]]-Tabla5[[#This Row],[Haber]])*Tabla5[[#This Row],[Multiplicador]]","v":0}]
[5820,1,"ABI",{"$f":"SUMIFS(Tabla_Diario[Importe],Tabla_Diario[Cta],Tabla5[Cuenta],Tabla_Diario[D/H],\"D\")","v":0},{"$f":"SUMIFS(Tabla_Diario[Importe],Tabla_Diario[Cta],Tabla5[Cuenta],Tabla_Diario[D/H],\"H\")","v":0},{"$f":"(Tabla5[[#This Row],[Debe]]-Tabla5[[#This Row],[Haber]])*Tabla5[[#This Row],[Multiplicador]]","v":0}]
[5830,1,"ABI",{"$f":"SUMIFS(Tabla_Diario[Importe],Tabla_Diario[Cta],Tabla5[Cuenta],Tabla_Diario[D/H],\"D\")","v":0},{"$f":"SUMIFS(Tabla_Diario[Importe],Tabla_Diario[Cta],Tabla5[Cuenta],Tabla_Diario[D/H],\"H\")","v":0},{"$f":"(Tabla5[[#This Row],[Debe]]-Tabla5[[#This Row],[Haber]])*Tabla5[[#This Row],[Multiplicador]]","v":0}]
[5840,1,"ABI",{"$f":"SUMIFS(Tabla_Diario[Importe],Tabla_Diario[Cta],Tabla5[Cuenta],Tabla_Diario[D/H],\"D\")","v":0},{"$f":"SUMIFS(Tabla_Diario[Importe],Tabla_Diario[Cta],Tabla5[Cuenta],Tabla_Diario[D/H],\"H\")","v":0},{"$f":"(Tabla5[[#This Row],[Debe]]-Tabla5[[#This Row],[Haber]])*Tabla5[[#This Row],[Multiplicador]]","v":0}]
[5850,-1,"PCI",{"$f":"SUMIFS(Tabla_Diario[Importe],Tabla_Diario[Cta],Tabla5[Cuenta],Tabla_Diario[D/H],\"D\")","v":0},{"$f":"SUMIFS(Tabla_Diario[Importe],Tabla_Diario[Cta],Tabla5[Cuenta],Tabla_Diario[D/H],\"H\")","v":0},{"$f":"(Tabla5[[#This Row],[Debe]]-Tabla5[[#This Row],[Haber]])*Tabla5[[#This Row],[Multiplicador]]","v":0}]
[5860,-1,"PCI",{"$f":"SUMIFS(Tabla_Diario[Importe],Tabla_Diario[Cta],Tabla5[Cuenta],Tabla_Diario[D/H],\"D\")","v":0},{"$f":"SUMIFS(Tabla_Diario[Importe],Tabla_Diario[Cta],Tabla5[Cuenta],Tabla_Diario[D/H],\"H\")","v":0},{"$f":"(Tabla5[[#This Row],[Debe]]-Tabla5[[#This Row],[Haber]])*Tabla5[[#This Row],[Multiplicador]]","v":0}]
[5870,-1,"PCI",{"$f":"SUMIFS(Tabla_Diario[Importe],Tabla_Diario[Cta],Tabla5[Cuenta],Tabla_Diario[D/H],\"D\")","v":0},{"$f":"SUMIFS(Tabla_Diario[Importe],Tabla_Diario[Cta],Tabla5[Cuenta],Tabla_Diario[D/H],\"H\")","v":0},{"$f":"(Tabla5[[#This Row],[Debe]]-Tabla5[[#This Row],[Haber]])*Tabla5[[#This Row],[Multiplicador]]","v":0}]
[5880,-1,"PCI",{"$f":"SUMIFS(Tabla_Diario[Importe],Tabla_Diario[Cta],Tabla5[Cuenta],Tabla_Diario[D/H],\"D\")","v":0},{"$f":"SUMIFS(Tabla_Diario[Importe],Tabla_Diario[Cta],Tabla5[Cuenta],Tabla_Diario[D/H],\"H\")","v":0},{"$f":"(Tabla5[[#This Row],[Debe]]-Tabla5[[#This Row],[Haber]])*Tabla5[[#This Row],[Multiplicador]]","v":0}]
[5890,-1,"PCI",{"$f":"SUMIFS(Tabla_Diario[Importe],Tabla_Diario[Cta],Tabla5[Cuenta],Tabla_Diario[D/H],\"D\")","v":0},{"$f":"SUMIFS(Tabla_Diario[Importe],Tabla_Diario[Cta],Tabla5[Cuenta],Tabla_Diario[D/H],\"H\")","v":0},{"$f":"(Tabla5[[#This Row],[Debe]]-Tabla5[[#This Row],[Haber]])*Tabla5[[#This Row],[Multiplicador]]","v":0}]
[5930,-1,"ABIV",{"$f":"SUMIFS(Tabla_Diario[Importe],Tabla_Diario[Cta],Tabla5[Cuenta],Tabla_Diario[D/H],\"D\")","v":0},{"$f":"SUMIFS(Tabla_Diario[Importe],Tabla_Diario[Cta],Tabla5[Cuenta],Tabla_Diario[D/H],\"H\")","v":0},{"$f":"(Tabla5[[#This Row],[Debe]]-Tabla5[[#This Row],[Haber]])*Tabla5[[#This Row],[Multiplicador]]","v":0}]
[5940,-1,"ABV",{"$f":"SUMIFS(Tabla_Diario[Importe],Tabla_Diario[Cta],Tabla5[Cuenta],Tabla_Diario[D/H],\"D\")","v":0},{"$f":"SUMIFS(Tabla_Diario[Importe],Tabla_Diario[Cta],Tabla5[Cuenta],Tabla_Diario[D/H],\"H\")","v":0},{"$f":"(Tabla5[[#This Row],[Debe]]-Tabla5[[#This Row],[Haber]])*Tabla5[[#This Row],[Multiplicador]]","v":0}]
[5950,-1,"ABV",{"$f":"SUMIFS(Tabla_Diario[Importe],Tabla_Diario[Cta],Tabla5[Cuenta],Tabla_Diario[D/H],\"D\")","v":0},{"$f":"SUMIFS(Tabla_Diario[Importe],Tabla_Diario[Cta],Tabla5[Cuenta],Tabla_Diario[D/H],\"H\")","v":0},{"$f":"(Tabla5[[#This Row],[Debe]]-Tabla5[[#This Row],[Haber]])*Tabla5[[#This Row],[Multiplicador]]","v":0}]
[5970,-1,"ABV",{"$f":"SUMIFS(Tabla_Diario[Importe],Tabla_Diario[Cta],Tabla5[Cuenta],Tabla_Diario[D/H],\"D\")","v":0},{"$f":"SUMIFS(Tabla_Diario[Importe],Tabla_Diario[Cta],Tabla5[Cuenta],Tabla_Diario[D/H],\"H\")","v":0},{"$f":"(Tabla5[[#This Row],[Debe]]-Tabla5[[#This Row],[Haber]])*Tabla5[[#This Row],[Multiplicador]]","v":0}]
[5980,-1,"ABV",{"$f":"SUMIFS(Tabla_Diario[Importe],Tabla_Diario[Cta],Tabla5[Cuenta],Tabla_Diario[D/H],\"D\")","v":0},{"$f":"SUMIFS(Tabla_Diario[Importe],Tabla_Diario[Cta],Tabla5[Cuenta],Tabla_Diario[D/H],\"H\")","v":0},{"$f":"(Tabla5[[#This Row],[Debe]]-Tabla5[[#This Row],[Haber]])*Tabla5[[#This Row],[Multiplicador]]","v":0}]
[5990,-1,"ABI",{"$f":"SUMIFS(Tabla_Diario[Importe],Tabla_Diario[Cta],Tabla5[Cuenta],Tabla_Diario[D/H],\"D\")","v":0},{"$f":"SUMIFS(Tabla_Diario[Importe],Tabla_Diario[Cta],Tabla5[Cuenta],Tabla_Diario[D/H],\"H\")","v":0},{"$f":"(Tabla5[[#This Row],[Debe]]-Tabla5[[#This Row],[Haber]])*Tabla5[[#This Row],[Multiplicador]]","v":0}]
[6000,1,"PYG4",{"$f":"SUMIFS(Tabla_Diario[Importe],Tabla_Diario[Cta],Tabla5[Cuenta],Tabla_Diario[D/H],\"D\")","v":5000},{"$f":"SUMIFS(Tabla_Diario[Importe],Tabla_Diario[Cta],Tabla5[Cuenta],Tabla_Diario[D/H],\"H\")","v":0},{"$f":"(Tabla5[[#This Row],[Debe]]-Tabla5[[#This Row],[Haber]])*Tabla5[[#This Row],[Multiplicador]]","v":5000}]
[6010,1,"PYG4",{"$f":"SUMIFS(Tabla_Diario[Importe],Tabla_Diario[Cta],Tabla5[Cuenta],Tabla_Diario[D/H],\"D\")","v":0},{"$f":"SUMIFS(Tabla_Diario[Importe],Tabla_Diario[Cta],Tabla5[Cuenta],Tabla_Diario[D/H],\"H\")","v":0},{"$f":"(Tabla5[[#This Row],[Debe]]-Tabla5[[#This Row],[Haber]])*Tabla5[[#This Row],[Multiplicador]]","v":0}]
[6020,1,"PYG4",{"$f":"SUMIFS(Tabla_Diario[Importe],Tabla_Diario[Cta],Tabla5[Cuenta],Tabla_Diario[D/H],\"D\")","v":0},{"$f":"SUMIFS(Tabla_Diario[Importe],Tabla_Diario[Cta],Tabla5[Cuenta],Tabla_Diario[D/H],\"H\")","v":0},{"$f":"(Tabla5[[#This Row],[Debe]]-Tabla5[[#This Row],[Haber]])*Tabla5[[#This Row],[Multiplicador]]","v":0}]
[6060,-1,"PYG4",{"$f":"SUMIFS(Tabla_Diario[Importe],Tabla_Diario[Cta],Tabla5[Cuenta],Tabla_Diario[D/H],\"D\")","v":0},{"$f":"SUMIFS(Tabla_Diario[Importe],Tabla_Diario[Cta],Tabla5[Cuenta],Tabla_Diario[D/H],\"H\")","v":0},{"$f":"(Tabla5[[#This Row],[Debe]]-Tabla5[[#This Row],[Haber]])*Tabla5[[#This Row],[Multiplicador]]","v":0}]
[6070,1,"PYG4",{"$f":"SUMIFS(Tabla_Diario[Importe],Tabla_Diario[Cta],Tabla5[Cuenta],Tabla_Diario[D/H],\"D\")","v":0},{"$f":"SUMIFS(Tabla_Diario[Importe],Tabla_Diario[Cta],Tabla5[Cuenta],Tabla_Diario[D/H],\"H\")","v":0},{"$f":"(Tabla5[[#This Row],[Debe]]-Tabla5[[#This Row],[Haber]])*Tabla5[[#This Row],[Multiplicador]]","v":0}]
[6080,-1,"PYG4",{"$f":"SUMIFS(Tabla_Diario[Importe],Tabla_Diario[Cta],Tabla5[Cuenta],Tabla_Diario[D/H],\"D\")","v":0},{"$f":"SUMIFS(Tabla_Diario[Importe],Tabla_Diario[Cta],Tabla5[Cuenta],Tabla_Diario[D/H],\"H\")","v":0},{"$f":"(Tabla5[[#This Row],[Debe]]-Tabla5[[#This Row],[Haber]])*Tabla5[[#This Row],[Multiplicador]]","v":0}]
[6090,-1,"PYG4",{"$f":"SUMIFS(Tabla_Diario[Importe],Tabla_Diario[Cta],Tabla5[Cuenta],Tabla_Diario[D/H],\"D\")","v":0},{"$f":"SUMIFS(Tabla_Diario[Importe],Tabla_Diario[Cta],Tabla5[Cuenta],Tabla_Diario[D/H],\"H\")","v":0},{"$f":"(Tabla5[[#This Row],[Debe]]-Tabla5[[#This Row],[Haber]])*Tabla5[[#This Row],[Multiplicador]]","v":0}]
[6100,1,"PYG4",{"$f":"SUMIFS(Tabla_Diario[Importe],Tabla_Diario[Cta],Tabla5[Cuenta],Tabla_Diario[D/H],\"D\")","v":0},{"$f":"SUMIFS(Tabla_Diario[Importe],Tabla_Diario[Cta],Tabla5[Cuenta],Tabla_Diario[D/H],\"H\")","v":1500},{"$f":"(Tabla5[[#This Row],[Debe]]-Tabla5[[#This Row],[Haber]])*Tabla5[[#This Row],[Multiplicador]]","v":-1500}]
[6110,1,"PYG4",{"$f":"SUMIFS(Tabla_Diario[Importe],Tabla_Diario[Cta],Tabla5[Cuenta],Tabla_Diario[D/H],\"D\")","v":0},{"$f":"SUMIFS(Tabla_Diario[Importe],Tabla_Diario[Cta],Tabla5[Cuenta],Tabla_Diario[D/H],\"H\")","v":0},{"$f":"(Tabla5[[#This Row],[Debe]]-Tabla5[[#This Row],[Haber]])*Tabla5[[#This Row],[Multiplicador]]","v":0}]
[6120,1,"PYG4",{"$f":"SUMIFS(Tabla_Diario[Importe],Tabla_Diario[Cta],Tabla5[Cuenta],Tabla_Diario[D/H],\"D\")","v":0},{"$f":"SUMIFS(Tabla_Diario[Importe],Tabla_Diario[Cta],Tabla5[Cuenta],Tabla_Diario[D/H],\"H\")","v":0},{"$f":"(Tabla5[[#This Row],[Debe]]-Tabla5[[#This Row],[Haber]])*Tabla5[[#This Row],[Multiplicador]]","v":0}]
[6200,1,"PYG7",{"$f":"SUMIFS(Tabla_Diario[Importe],Tabla_Diario[Cta],Tabla5[Cuenta],Tabla_Diario[D/H],\"D\")","v":0},{"$f":"SUMIFS(Tabla_Diario[Importe],Tabla_Diario[Cta],Tabla5[Cuenta],Tabla_Diario[D/H],\"H\")","v":0},{"$f":"(Tabla5[[#This Row],[Debe]]-Tabla5[[#This Row],[Haber]])*Tabla5[[#This Row],[Multiplicador]]","v":0}]
[6210,1,"PYG7",{"$f":"SUMIFS(Tabla_Diario[Importe],Tabla_Diario[Cta],Tabla5[Cuenta],Tabla_Diario[D/H],\"D\")","v":750},{"$f":"SUMIFS(Tabla_Diario[Importe],Tabla_Diario[Cta],Tabla5[Cuenta],Tabla_Diario[D/H],\"H\")","v":0},{"$f":"(Tabla5[[#This Row],[Debe]]-Tabla5[[#This Row],[Haber]])*Tabla5[[#This Row],[Multiplicador]]","v":750}]
[6220,1,"PYG7",{"$f":"SUMIFS(Tabla_Diario[Importe],Tabla_Diario[Cta],Tabla5[Cuenta],Tabla_Diario[D/H],\"D\")","v":0},{"$f":"SUMIFS(Tabla_Diario[Importe],Tabla_Diario[Cta],Tabla5[Cuenta],Tabla_Diario[D/H],\"H\")","v":0},{"$f":"(Tabla5[[#This Row],[Debe]]-Tabla5[[#This Row],[Haber]])*Tabla5[[#This Row],[Multiplicador]]","v":0}]
[6230,1,"PYG7",{"$f":"SUMIFS(Tabla_Diario[Importe],Tabla_Diario[Cta],Tabla5[Cuenta],Tabla_Diario[D/H],\"D\")","v":100},{"$f":"SUMIFS(Tabla_Diario[Importe],Tabla_Diario[Cta],Tabla5[Cuenta],Tabla_Diario[D/H],\"H\")","v":0},{"$f":"(Tabla5[[#This Row],[Debe]]-Tabla5[[#This Row],[Haber]])*Tabla5[[#This Row],[Multiplicador]]","v":100}]
[6240,1,"PYG7",{"$f":"SUMIFS(Tabla_Diario[Importe],Tabla_Diario[Cta],Tabla5[Cuenta],Tabla_Diario[D/H],\"D\")","v":0},{"$f":"SUMIFS(Tabla_Diario[Importe],Tabla_Diario[Cta],Tabla5[Cuenta],Tabla_Diario[D/H],\"H\")","v":0},{"$f":"(Tabla5[[#This Row],[Debe]]-Tabla5[[#This Row],[Haber]])*Tabla5[[#This Row],[Multiplicador]]","v":0}]
[6250,1,"PYG7",{"$f":"SUMIFS(Tabla_Diario[Importe],Tabla_Diario[Cta],Tabla5[Cuenta],Tabla_Diario[D/H],\"D\")","v":0},{"$f":"SUMIFS(Tabla_Diario[Importe],Tabla_Diario[Cta],Tabla5[Cuenta],Tabla_Diario[D/H],\"H\")","v":0},{"$f":"(Tabla5[[#This Row],[Debe]]-Tabla5[[#This Row],[Haber]])*Tabla5[[#This Row],[Multiplicador]]","v":0}]
[6260,1,"PYG7",{"$f":"SUMIFS(Tabla_Diario[Importe],Tabla_Diario[Cta],Tabla5[Cuenta],Tabla_Diario[D/H],\"D\")","v":0},{"$f":"SUMIFS(Tabla_Diario[Importe],Tabla_Diario[Cta],Tabla5[Cuenta],Tabla_Diario[D/H],\"H\")","v":0},{"$f":"(Tabla5[[#This Row],[Debe]]-Tabla5[[#This Row],[Haber]])*Tabla5[[#This Row],[Multiplicador]]","v":0}]
[6270,1,"PYG7",{"$f":"SUMIFS(Tabla_Diario[Importe],Tabla_Diario[Cta],Tabla5[Cuenta],Tabla_Diario[D/H],\"D\")","v":0},{"$f":"SUMIFS(Tabla_Diario[Importe],Tabla_Diario[Cta],Tabla5[Cuenta],Tabla_Diario[D/H],\"H\")","v":0},{"$f":"(Tabla5[[#This Row],[Debe]]-Tabla5[[#This Row],[Haber]])*Tabla5[[#This Row],[Multiplicador]]","v":0}]
[6280,1,"PYG7",{"$f":"SUMIFS(Tabla_Diario[Importe],Tabla_Diario[Cta],Tabla5[Cuenta],Tabla_Diario[D/H],\"D\")","v":100},{"$f":"SUMIFS(Tabla_Diario[Importe],Tabla_Diario[Cta],Tabla5[Cuenta],Tabla_Diario[D/H],\"H\")","v":0},{"$f":"(Tabla5[[#This Row],[Debe]]-Tabla5[[#This Row],[Haber]])*Tabla5[[#This Row],[Multiplicador]]","v":100}]
[6290,1,"PYG7",{"$f":"SUMIFS(Tabla_Diario[Importe],Tabla_Diario[Cta],Tabla5[Cuenta],Tabla_Diario[D/H],\"D\")","v":0},{"$f":"SUMIFS(Tabla_Diario[Importe],Tabla_Diario[Cta],Tabla5[Cuenta],Tabla_Diario[D/H],\"H\")","v":0},{"$f":"(Tabla5[[#This Row],[Debe]]-Tabla5[[#This Row],[Haber]])*Tabla5[[#This Row],[Multiplicador]]","v":0}]
[6300,1,"PYG17",{"$f":"SUMIFS(Tabla_Diario[Importe],Tabla_Diario[Cta],Tabla5[Cuenta],Tabla_Diario[D/H],\"D\")","v":0},{"$f":"SUMIFS(Tabla_Diario[Importe],Tabla_Diario[Cta],Tabla5[Cuenta],Tabla_Diario[D/H],\"H\")","v":0},{"$f":"(Tabla5[[#This Row],[Debe]]-Tabla5[[#This Row],[Haber]])*Tabla5[[#This Row],[Multiplicador]]","v":0}]
[6310,1,"PYG7",{"$f":"SUMIFS(Tabla_Diario[Importe],Tabla_Diario[Cta],Tabla5[Cuenta],Tabla_Diario[D/H],\"D\")","v":350},{"$f":"SUMIFS(Tabla_Diario[Importe],Tabla_Diario[Cta],Tabla5[Cuenta],Tabla_Diario[D/H],\"H\")","v":0},{"$f":"(Tabla5[[#This Row],[Debe]]-Tabla5[[#This Row],[Haber]])*Tabla5[[#This Row],[Multiplicador]]","v":350}]
[6330,1,"PYG17",{"$f":"SUMIFS(Tabla_Diario[Importe],Tabla_Diario[Cta],Tabla5[Cuenta],Tabla_Diario[D/H],\"D\")","v":0},{"$f":"SUMIFS(Tabla_Diario[Importe],Tabla_Diario[Cta],Tabla5[Cuenta],Tabla_Diario[D/H],\"H\")","v":0},{"$f":"(Tabla5[[#This Row],[Debe]]-Tabla5[[#This Row],[Haber]])*Tabla5[[#This Row],[Multiplicador]]","v":0}]
[6340,1,"PYG7",{"$f":"SUMIFS(Tabla_Diario[Importe],Tabla_Diario[Cta],Tabla5[Cuenta],Tabla_Diario[D/H],\"D\")","v":0},{"$f":"SUMIFS(Tabla_Diario[Importe],Tabla_Diario[Cta],Tabla5[Cuenta],Tabla_Diario[D/H],\"H\")","v":0},{"$f":"(Tabla5[[#This Row],[Debe]]-Tabla5[[#This Row],[Haber]])*Tabla5[[#This Row],[Multiplicador]]","v":0}]
[6360,-1,"PYG7",{"$f":"SUMIFS(Tabla_Diario[Importe],Tabla_Diario[Cta],Tabla5[Cuenta],Tabla_Diario[D/H],\"D\")","v":0},{"$f":"SUMIFS(Tabla_Diario[Importe],Tabla_Diario[Cta],Tabla5[Cuenta],Tabla_Diario[D/H],\"H\")","v":0},{"$f":"(Tabla5[[#This Row],[Debe]]-Tabla5[[#This Row],[Haber]])*Tabla5[[#This Row],[Multiplicador]]","v":0}]
[6380,-1,"PYG17",{"$f":"SUMIFS(Tabla_Diario[Importe],Tabla_Diario[Cta],Tabla5[Cuenta],Tabla_Diario[D/H],\"D\")","v":0},{"$f":"SUMIFS(Tabla_Diario[Importe],Tabla_Diario[Cta],Tabla5[Cuenta],Tabla_Diario[D/H],\"H\")","v":0},{"$f":"(Tabla5[[#This Row],[Debe]]-Tabla5[[#This Row],[Haber]])*Tabla5[[#This Row],[Multiplicador]]","v":0}]
[6390,-1,"PYG7",{"$f":"SUMIFS(Tabla_Diario[Importe],Tabla_Diario[Cta],Tabla5[Cuenta],Tabla_Diario[D/H],\"D\")","v":0},{"$f":"SUMIFS(Tabla_Diario[Importe],Tabla_Diario[Cta],Tabla5[Cuenta],Tabla_Diario[D/H],\"H\")","v":0},{"$f":"(Tabla5[[#This Row],[Debe]]-Tabla5[[#This Row],[Haber]])*Tabla5[[#This Row],[Multiplicador]]","v":0}]
[6400,1,"PYG6",{"$f":"SUMIFS(Tabla_Diario[Importe],Tabla_Diario[Cta],Tabla5[Cuenta],Tabla_Diario[D/H],\"D\")","v":1000},{"$f":"SUMIFS(Tabla_Diario[Importe],Tabla_Diario[Cta],Tabla5[Cuenta],Tabla_Diario[D/H],\"H\")","v":0},{"$f":"(Tabla5[[#This Row],[Debe]]-Tabla5[[#This Row],[Haber]])*Tabla5[[#This Row],[Multiplicador]]","v":1000}]
[6410,1,"PYG6",{"$f":"SUMIFS(Tabla_Diario[Importe],Tabla_Diario[Cta],Tabla5[Cuenta],Tabla_Diario[D/H],\"D\")","v":0},{"$f":"SUMIFS(Tabla_Diario[Importe],Tabla_Diario[Cta],Tabla5[Cuenta],Tabla_Diario[D/H],\"H\")","v":0},{"$f":"(Tabla5[[#This Row],[Debe]]-Tabla5[[#This Row],[Haber]])*Tabla5[[#This Row],[Multiplicador]]","v":0}]
[6420,1,"PYG6",{"$f":"SUMIFS(Tabla_Diario[Importe],Tabla_Diario[Cta],Tabla5[Cuenta],Tabla_Diario[D/H],\"D\")","v":450},{"$f":"SUMIFS(Tabla_Diario[Importe],Tabla_Diario[Cta],Tabla5[Cuenta],Tabla_Diario[D/H],\"H\")","v":0},{"$f":"(Tabla5[[#This Row],[Debe]]-Tabla5[[#This Row],[Haber]])*Tabla5[[#This Row],[Multiplicador]]","v":450}]
[6430,1,"PYG6",{"$f":"SUMIFS(Tabla_Diario[Importe],Tabla_Diario[Cta],Tabla5[Cuenta],Tabla_Diario[D/H],\"D\")","v":0},{"$f":"SUMIFS(Tabla_Diario[Importe],Tabla_Diario[Cta],Tabla5[Cuenta],Tabla_Diario[D/H],\"H\")","v":0},{"$f":"(Tabla5[[#This Row],[Debe]]-Tabla5[[#This Row],[Haber]])*Tabla5[[#This Row],[Multiplicador]]","v":0}]
[6440,1,"PYG6",{"$f":"SUMIFS(Tabla_Diario[Importe],Tabla_Diario[Cta],Tabla5[Cuenta],Tabla_Diario[D/H],\"D\")","v":0},{"$f":"SUMIFS(Tabla_Diario[Importe],Tabla_Diario[Cta],Tabla5[Cuenta],Tabla_Diario[D/H],\"H\")","v":0},{"$f":"(Tabla5[[#This Row],[Debe]]-Tabla5[[#This Row],[Haber]])*Tabla5[[#This Row],[Multiplicador]]","v":0}]
[6450,1,"PYG6",{"$f":"SUMIFS(Tabla_Diario[Importe],Tabla_Diario[Cta],Tabla5[Cuenta],Tabla_Diario[D/H],\"D\")","v":0},{"$f":"SUMIFS(Tabla_Diario[Importe],Tabla_Diario[Cta],Tabla5[Cuenta],Tabla_Diario[D/H],\"H\")","v":0},{"$f":"(Tabla5[[#This Row],[Debe]]-Tabla5[[#This Row],[Haber]])*Tabla5[[#This Row],[Multiplicador]]","v":0}]
[6490,1,"PYG6",{"$f":"SUMIFS(Tabla_Diario[Importe],Tabla_Diario[Cta],Tabla5[Cuenta],Tabla_Diario[D/H],\"D\")","v":0},{"$f":"SUMIFS(Tabla_Diario[Importe],Tabla_Diario[Cta],Tabla5[Cuenta],Tabla_Diario[D/H],\"H\")","v":0},{"$f":"(Tabla5[[#This Row],[Debe]]-Tabla5[[#This Row],[Haber]])*Tabla5[[#This Row],[Multiplicador]]","v":0}]
[6500,1,"PYG7",{"$f":"SUMIFS(Tabla_Diario[Importe],Tabla_Diario[Cta],Tabla5[Cuenta],Tabla_Diario[D/H],\"D\")","v":0},{"$f":"SUMIFS(Tabla_Diario[Importe],Tabla_Diario[Cta],Tabla5[Cuenta],Tabla_Diario[D/H],\"H\")","v":0},{"$f":"(Tabla5[[#This Row],[Debe]]-Tabla5[[#This Row],[Haber]])*Tabla5[[#This Row],[Multiplicador]]","v":0}]
[6510,1,"PYG7",{"$f":"SUMIFS(Tabla_Diario[Importe],Tabla_Diario[Cta],Tabla5[Cuenta],Tabla_Diario[D/H],\"D\")","v":0},{"$f":"SUMIFS(Tabla_Diario[Importe],Tabla_Diario[Cta],Tabla5[Cuenta],Tabla_Diario[D/H],\"H\")","v":0},{"$f":"(Tabla5[[#This Row],[Debe]]-Tabla5[[#This Row],[Haber]])*Tabla5[[#This Row],[Multiplicador]]","v":0}]
[6590,1,"PYG7",{"$f":"SUMIFS(Tabla_Diario[Importe],Tabla_Diario[Cta],Tabla5[Cuenta],Tabla_Diario[D/H],\"D\")","v":0},{"$f":"SUMIFS(Tabla_Diario[Importe],Tabla_Diario[Cta],Tabla5[Cuenta],Tabla_Diario[D/H],\"H\")","v":0},{"$f":"(Tabla5[[#This Row],[Debe]]-Tabla5[[#This Row],[Haber]])*Tabla5[[#This Row],[Multiplicador]]","v":0}]
[6600,1,"PYG13",{"$f":"SUMIFS(Tabla_Diario[Importe],Tabla_Diario[Cta],Tabla5[Cuenta],Tabla_Diario[D/H],\"D\")","v":0},{"$f":"SUMIFS(Tabla_Diario[Importe],Tabla_Diario[Cta],Tabla5[Cuenta],Tabla_Diario[D/H],\"H\")","v":0},{"$f":"(Tabla5[[#This Row],[Debe]]-Tabla5[[#This Row],[Haber]])*Tabla5[[#This Row],[Multiplicador]]","v":0}]
[6610,1,"PYG13",{"$f":"SUMIFS(Tabla_Diario[Importe],Tabla_Diario[Cta],Tabla5[Cuenta],Tabla_Diario[D/H],\"D\")","v":0},{"$f":"SUMIFS(Tabla_Diario[Importe],Tabla_Diario[Cta],Tabla5[Cuenta],Tabla_Diario[D/H],\"H\")","v":0},{"$f":"(Tabla5[[#This Row],[Debe]]-Tabla5[[#This Row],[Haber]])*Tabla5[[#This Row],[Multiplicador]]","v":0}]
[6620,1,"PYG13",{"$f":"SUMIFS(Tabla_Diario[Importe],Tabla_Diario[Cta],Tabla5[Cuenta],Tabla_Diario[D/H],\"D\")","v":0},{"$f":"SUMIFS(Tabla_Diario[Importe],Tabla_Diario[Cta],Tabla5[Cuenta],Tabla_Diario[D/H],\"H\")","v":0},{"$f":"(Tabla5[[#This Row],[Debe]]-Tabla5[[#This Row],[Haber]])*Tabla5[[#This Row],[Multiplicador]]","v":0}]
[6630,1,"PYG14",{"$f":"SUMIFS(Tabla_Diario[Importe],Tabla_Diario[Cta],Tabla5[Cuenta],Tabla_Diario[D/H],\"D\")","v":0},{"$f":"SUMIFS(Tabla_Diario[Importe],Tabla_Diario[Cta],Tabla5[Cuenta],Tabla_Diario[D/H],\"H\")","v":0},{"$f":"(Tabla5[[#This Row],[Debe]]-Tabla5[[#This Row],[Haber]])*Tabla5[[#This Row],[Multiplicador]]","v":0}]
[6640,1,"PYG13",{"$f":"SUMIFS(Tabla_Diario[Importe],Tabla_Diario[Cta],Tabla5[Cuenta],Tabla_Diario[D/H],\"D\")","v":0},{"$f":"SUMIFS(Tabla_Diario[Importe],Tabla_Diario[Cta],Tabla5[Cuenta],Tabla_Diario[D/H],\"H\")","v":0},{"$f":"(Tabla5[[#This Row],[Debe]]-Tabla5[[#This Row],[Haber]])*Tabla5[[#This Row],[Multiplicador]]","v":0}]
[6650,1,"PYG13",{"$f":"SUMIFS(Tabla_Diario[Importe],Tabla_Diario[Cta],Tabla5[Cuenta],Tabla_Diario[D/H],\"D\")","v":0},{"$f":"SUMIFS(Tabla_Diario[Importe],Tabla_Diario[Cta],Tabla5[Cuenta],Tabla_Diario[D/H],\"H\")","v":0},{"$f":"(Tabla5[[#This Row],[Debe]]-Tabla5[[#This Row],[Haber]])*Tabla5[[#This Row],[Multiplicador]]","v":0}]
[6660,1,"PYG16",{"$f":"SUMIFS(Tabla_Diario[Importe],Tabla_Diario[Cta],Tabla5[Cuenta],Tabla_Diario[D/H],\"D\")","v":0},{"$f":"SUMIFS(Tabla_Diario[Importe],Tabla_Diario[Cta],Tabla5[Cuenta],Tabla_Diario[D/H],\"H\")","v":0},{"$f":"(Tabla5[[#This Row],[Debe]]-Tabla5[[#This Row],[Haber]])*Tabla5[[#This Row],[Multiplicador]]","v":0}]
[6670,1,"PYG16",{"$f":"SUMIFS(Tabla_Diario[Importe],Tabla_Diario[Cta],Tabla5[Cuenta],Tabla_Diario[D/H],\"D\")","v":0},{"$f":"SUMIFS(Tabla_Diario[Importe],Tabla_Diario[Cta],Tabla5[Cuenta],Tabla_Diario[D/H],\"H\")","v":0},{"$f":"(Tabla5[[#This Row],[Debe]]-Tabla5[[#This Row],[Haber]])*Tabla5[[#This Row],[Multiplicador]]","v":0}]
[6680,1,"PYG15",{"$f":"SUMIFS(Tabla_Diario[Importe],Tabla_Diario[Cta],Tabla5[Cuenta],Tabla_Diario[D/H],\"D\")","v":0},{"$f":"SUMIFS(Tabla_Diario[Importe],Tabla_Diario[Cta],Tabla5[Cuenta],Tabla_Diario[D/H],\"H\")","v":0},{"$f":"(Tabla5[[#This Row],[Debe]]-Tabla5[[#This Row],[Haber]])*Tabla5[[#This Row],[Multiplicador]]","v":0}]
[6690,1,"PYG13",{"$f":"SUMIFS(Tabla_Diario[Importe],Tabla_Diario[Cta],Tabla5[Cuenta],Tabla_Diario[D/H],\"D\")","v":0},{"$f":"SUMIFS(Tabla_Diario[Importe],Tabla_Diario[Cta],Tabla5[Cuenta],Tabla_Diario[D/H],\"H\")","v":0},{"$f":"(Tabla5[[#This Row],[Debe]]-Tabla5[[#This Row],[Haber]])*Tabla5[[#This Row],[Multiplicador]]","v":0}]
[6700,1,"PYG11",{"$f":"SUMIFS(Tabla_Diario[Importe],Tabla_Diario[Cta],Tabla5[Cuenta],Tabla_Diario[D/H],\"D\")","v":0},{"$f":"SUMIFS(Tabla_Diario[Importe],Tabla_Diario[Cta],Tabla5[Cuenta],Tabla_Diario[D/H],\"H\")","v":0},{"$f":"(Tabla5[[#This Row],[Debe]]-Tabla5[[#This Row],[Haber]])*Tabla5[[#This Row],[Multiplicador]]","v":0}]
[6710,1,"PYG11",{"$f":"SUMIFS(Tabla_Diario[Importe],Tabla_Diario[Cta],Tabla5[Cuenta],Tabla_Diario[D/H],\"D\")","v":4000},{"$f":"SUMIFS(Tabla_Diario[Importe],Tabla_Diario[Cta],Tabla5[Cuenta],Tabla_Diario[D/H],\"H\")","v":0},{"$f":"(Tabla5[[#This Row],[Debe]]-Tabla5[[#This Row],[Haber]])*Tabla5[[#This Row],[Multiplicador]]","v":4000}]
[6720,1,"PYG11",{"$f":"SUMIFS(Tabla_Diario[Importe],Tabla_Diario[Cta],Tabla5[Cuenta],Tabla_Diario[D/H],\"D\")","v":0},{"$f":"SUMIFS(Tabla_Diario[Importe],Tabla_Diario[Cta],Tabla5[Cuenta],Tabla_Diario[D/H],\"H\")","v":0},{"$f":"(Tabla5[[#This Row],[Debe]]-Tabla5[[#This Row],[Haber]])*Tabla5[[#This Row],[Multiplicador]]","v":0}]
[6730,1,"PYG16",{"$f":"SUMIFS(Tabla_Diario[Importe],Tabla_Diario[Cta],Tabla5[Cuenta],Tabla_Diario[D/H],\"D\")","v":0},{"$f":"SUMIFS(Tabla_Diario[Importe],Tabla_Diario[Cta],Tabla5[Cuenta],Tabla_Diario[D/H],\"H\")","v":0},{"$f":"(Tabla5[[#This Row],[Debe]]-Tabla5[[#This Row],[Haber]])*Tabla5[[#This Row],[Multiplicador]]","v":0}]
[6750,1,"PYG16",{"$f":"SUMIFS(Tabla_Diario[Importe],Tabla_Diario[Cta],Tabla5[Cuenta],Tabla_Diario[D/H],\"D\")","v":0},{"$f":"SUMIFS(Tabla_Diario[Importe],Tabla_Diario[Cta],Tabla5[Cuenta],Tabla_Diario[D/H],\"H\")","v":0},{"$f":"(Tabla5[[#This Row],[Debe]]-Tabla5[[#This Row],[Haber]])*Tabla5[[#This Row],[Multiplicador]]","v":0}]
[6780,1,"PYG11",{"$f":"SUMIFS(Tabla_Diario[Importe],Tabla_Diario[Cta],Tabla5[Cuenta],Tabla_Diario[D/H],\"D\")","v":0},{"$f":"SUMIFS(Tabla_Diario[Importe],Tabla_Diario[Cta],Tabla5[Cuenta],Tabla_Diario[D/H],\"H\")","v":0},{"$f":"(Tabla5[[#This Row],[Debe]]-Tabla5[[#This Row],[Haber]])*Tabla5[[#This Row],[Multiplicador]]","v":0}]
[6800,1,"PYG8",{"$f":"SUMIFS(Tabla_Diario[Importe],Tabla_Diario[Cta],Tabla5[Cuenta],Tabla_Diario[D/H],\"D\")","v":0},{"$f":"SUMIFS(Tabla_Diario[Importe],Tabla_Diario[Cta],Tabla5[Cuenta],Tabla_Diario[D/H],\"H\")","v":0},{"$f":"(Tabla5[[#This Row],[Debe]]-Tabla5[[#This Row],[Haber]])*Tabla5[[#This Row],[Multiplicador]]","v":0}]
[6810,1,"PYG8",{"$f":"SUMIFS(Tabla_Diario[Importe],Tabla_Diario[Cta],Tabla5[Cuenta],Tabla_Diario[D/H],\"D\")","v":0},{"$f":"SUMIFS(Tabla_Diario[Importe],Tabla_Diario[Cta],Tabla5[Cuenta],Tabla_Diario[D/H],\"H\")","v":0},{"$f":"(Tabla5[[#This Row],[Debe]]-Tabla5[[#This Row],[Haber]])*Tabla5[[#This Row],[Multiplicador]]","v":0}]
[6820,1,"PYG8",{"$f":"SUMIFS(Tabla_Diario[Importe],Tabla_Diario[Cta],Tabla5[Cuenta],Tabla_Diario[D/H],\"D\")","v":0},{"$f":"SUMIFS(Tabla_Diario[Importe],Tabla_Diario[Cta],Tabla5[Cuenta],Tabla_Diario[D/H],\"H\")","v":0},{"$f":"(Tabla5[[#This Row],[Debe]]-Tabla5[[#This Row],[Haber]])*Tabla5[[#This Row],[Multiplicador]]","v":0}]
[6900,1,"PYG11",{"$f":"SUMIFS(Tabla_Diario[Importe],Tabla_Diario[Cta],Tabla5[Cuenta],Tabla_Diario[D/H],\"D\")","v":0},{"$f":"SUMIFS(Tabla_Diario[Importe],Tabla_Diario[Cta],Tabla5[Cuenta],Tabla_Diario[D/H],\"H\")","v":0},{"$f":"(Tabla5[[#This Row],[Debe]]-Tabla5[[#This Row],[Haber]])*Tabla5[[#This Row],[Multiplicador]]","v":0}]
[6910,1,"PYG11",{"$f":"SUMIFS(Tabla_Diario[Importe],Tabla_Diario[Cta],Tabla5[Cuenta],Tabla_Diario[D/H],\"D\")","v":0},{"$f":"SUMIFS(Tabla_Diario[Importe],Tabla_Diario[Cta],Tabla5[Cuenta],Tabla_Diario[D/H],\"H\")","v":0},{"$f":"(Tabla5[[#This Row],[Debe]]-Tabla5[[#This Row],[Haber]])*Tabla5[[#This Row],[Multiplicador]]","v":0}]
[6920,1,"PYG11",{"$f":"SUMIFS(Tabla_Diario[Importe],Tabla_Diario[Cta],Tabla5[Cuenta],Tabla_Diario[D/H],\"D\")","v":0},{"$f":"SUMIFS(Tabla_Diario[Importe],Tabla_Diario[Cta],Tabla5[Cuenta],Tabla_Diario[D/H],\"H\")","v":0},{"$f":"(Tabla5[[#This Row],[Debe]]-Tabla5[[#This Row],[Haber]])*Tabla5[[#This Row],[Multiplicador]]","v":0}]
[6930,1,"PYG2",{"$f":"SUMIFS(Tabla_Diario[Importe],Tabla_Diario[Cta],Tabla5[Cuenta],Tabla_Diario[D/H],\"D\")","v":0},{"$f":"SUMIFS(Tabla_Diario[Importe],Tabla_Diario[Cta],Tabla5[Cuenta],Tabla_Diario[D/H],\"H\")","v":0},{"$f":"(Tabla5[[#This Row],[Debe]]-Tabla5[[#This Row],[Haber]])*Tabla5[[#This Row],[Multiplicador]]","v":0}]
[6940,1,"PYG7",{"$f":"SUMIFS(Tabla_Diario[Importe],Tabla_Diario[Cta],Tabla5[Cuenta],Tabla_Diario[D/H],\"D\")","v":0},{"$f":"SUMIFS(Tabla_Diario[Importe],Tabla_Diario[Cta],Tabla5[Cuenta],Tabla_Diario[D/H],\"H\")","v":0},{"$f":"(Tabla5[[#This Row],[Debe]]-Tabla5[[#This Row],[Haber]])*Tabla5[[#This Row],[Multiplicador]]","v":0}]
[6950,1,"PYG7",{"$f":"SUMIFS(Tabla_Diario[Importe],Tabla_Diario[Cta],Tabla5[Cuenta],Tabla_Diario[D/H],\"D\")","v":0},{"$f":"SUMIFS(Tabla_Diario[Importe],Tabla_Diario[Cta],Tabla5[Cuenta],Tabla_Diario[D/H],\"H\")","v":0},{"$f":"(Tabla5[[#This Row],[Debe]]-Tabla5[[#This Row],[Haber]])*Tabla5[[#This Row],[Multiplicador]]","v":0}]
[6960,1,"PYG16",{"$f":"SUMIFS(Tabla_Diario[Importe],Tabla_Diario[Cta],Tabla5[Cuenta],Tabla_Diario[D/H],\"D\")","v":0},{"$f":"SUMIFS(Tabla_Diario[Importe],Tabla_Diario[Cta],Tabla5[Cuenta],Tabla_Diario[D/H],\"H\")","v":0},{"$f":"(Tabla5[[#This Row],[Debe]]-Tabla5[[#This Row],[Haber]])*Tabla5[[#This Row],[Multiplicador]]","v":0}]
[6970,1,"PYG16",{"$f":"SUMIFS(Tabla_Diario[Importe],Tabla_Diario[Cta],Tabla5[Cuenta],Tabla_Diario[D/H],\"D\")","v":0},{"$f":"SUMIFS(Tabla_Diario[Importe],Tabla_Diario[Cta],Tabla5[Cuenta],Tabla_Diario[D/H],\"H\")","v":0},{"$f":"(Tabla5[[#This Row],[Debe]]-Tabla5[[#This Row],[Haber]])*Tabla5[[#This Row],[Multiplicador]]","v":0}]
[6980,1,"PYG16",{"$f":"SUMIFS(Tabla_Diario[Importe],Tabla_Diario[Cta],Tabla5[Cuenta],Tabla_Diario[D/H],\"D\")","v":0},{"$f":"SUMIFS(Tabla_Diario[Importe],Tabla_Diario[Cta],Tabla5[Cuenta],Tabla_Diario[D/H],\"H\")","v":0},{"$f":"(Tabla5[[#This Row],[Debe]]-Tabla5[[#This Row],[Haber]])*Tabla5[[#This Row],[Multiplicador]]","v":0}]
[6990,1,"PYG16",{"$f":"SUMIFS(Tabla_Diario[Importe],Tabla_Diario[Cta],Tabla5[Cuenta],Tabla_Diario[D/H],\"D\")","v":0},{"$f":"SUMIFS(Tabla_Diario[Importe],Tabla_Diario[Cta],Tabla5[Cuenta],Tabla_Diario[D/H],\"H\")","v":0},{"$f":"(Tabla5[[#This Row],[Debe]]-Tabla5[[#This Row],[Haber]])*Tabla5[[#This Row],[Multiplicador]]","v":0}]
[7000,-1,"PYG1",{"$f":"SUMIFS(Tabla_Diario[Importe],Tabla_Diario[Cta],Tabla5[Cuenta],Tabla_Diario[D/H],\"D\")","v":0},{"$f":"SUMIFS(Tabla_Diario[Importe],Tabla_Diario[Cta],Tabla5[Cuenta],Tabla_Diario[D/H],\"H\")","v":5000},{"$f":"(Tabla5[[#This Row],[Debe]]-Tabla5[[#This Row],[Haber]])*Tabla5[[#This Row],[Multiplicador]]","v":5000}]
[7010,-1,"PYG1",{"$f":"SUMIFS(Tabla_Diario[Importe],Tabla_Diario[Cta],Tabla5[Cuenta],Tabla_Diario[D/H],\"D\")","v":0},{"$f":"SUMIFS(Tabla_Diario[Importe],Tabla_Diario[Cta],Tabla5[Cuenta],Tabla_Diario[D/H],\"H\")","v":0},{"$f":"(Tabla5[[#This Row],[Debe]]-Tabla5[[#This Row],[Haber]])*Tabla5[[#This Row],[Multiplicador]]","v":0}]
[7020,-1,"PYG1",{"$f":"SUMIFS(Tabla_Diario[Importe],Tabla_Diario[Cta],Tabla5[Cuenta],Tabla_Diario[D/H],\"D\")","v":0},{"$f":"SUMIFS(Tabla_Diario[Importe],Tabla_Diario[Cta],Tabla5[Cuenta],Tabla_Diario[D/H],\"H\")","v":0},{"$f":"(Tabla5[[#This Row],[Debe]]-Tabla5[[#This Row],[Haber]])*Tabla5[[#This Row],[Multiplicador]]","v":0}]
[7030,-1,"PYG1",{"$f":"SUMIFS(Tabla_Diario[Importe],Tabla_Diario[Cta],Tabla5[Cuenta],Tabla_Diario[D/H],\"D\")","v":0},{"$f":"SUMIFS(Tabla_Diario[Importe],Tabla_Diario[Cta],Tabla5[Cuenta],Tabla_Diario[D/H],\"H\")","v":0},{"$f":"(Tabla5[[#This Row],[Debe]]-Tabla5[[#This Row],[Haber]])*Tabla5[[#This Row],[Multiplicador]]","v":0}]
[7040,-1,"PYG1",{"$f":"SUMIFS(Tabla_Diario[Importe],Tabla_Diario[Cta],Tabla5[Cuenta],Tabla_Diario[D/H],\"D\")","v":0},{"$f":"SUMIFS(Tabla_Diario[Importe],Tabla_Diario[Cta],Tabla5[Cuenta],Tabla_Diario[D/H],\"H\")","v":0},{"$f":"(Tabla5[[#This Row],[Debe]]-Tabla5[[#This Row],[Haber]])*Tabla5[[#This Row],[Multiplicador]]","v":0}]
[7050,-1,"PYG1",{"$f":"SUMIFS(Tabla_Diario[Importe],Tabla_Diario[Cta],Tabla5[Cuenta],Tabla_Diario[D/H],\"D\")","v":0},{"$f":"SUMIFS(Tabla_Diario[Importe],Tabla_Diario[Cta],Tabla5[Cuenta],Tabla_Diario[D/H],\"H\")","v":0},{"$f":"(Tabla5[[#This Row],[Debe]]-Tabla5[[#This Row],[Haber]])*Tabla5[[#This Row],[Multiplicador]]","v":0}]
[7060,1,"PYG1",{"$f":"SUMIFS(Tabla_Diario[Importe],Tabla_Diario[Cta],Tabla5[Cuenta],Tabla_Diario[D/H],\"D\")","v":0},{"$f":"SUMIFS(Tabla_Diario[Importe],Tabla_Diario[Cta],Tabla5[Cuenta],Tabla_Diario[D/H],\"H\")","v":0},{"$f":"(Tabla5[[#This Row],[Debe]]-Tabla5[[#This Row],[Haber]])*Tabla5[[#This Row],[Multiplicador]]","v":0}]
[7080,1,"PYG1",{"$f":"SUMIFS(Tabla_Diario[Importe],Tabla_Diario[Cta],Tabla5[Cuenta],Tabla_Diario[D/H],\"D\")","v":0},{"$f":"SUMIFS(Tabla_Diario[Importe],Tabla_Diario[Cta],Tabla5[Cuenta],Tabla_Diario[D/H],\"H\")","v":0},{"$f":"(Tabla5[[#This Row],[Debe]]-Tabla5[[#This Row],[Haber]])*Tabla5[[#This Row],[Multiplicador]]","v":0}]
[7090,1,"PYG1",{"$f":"SUMIFS(Tabla_Diario[Importe],Tabla_Diario[Cta],Tabla5[Cuenta],Tabla_Diario[D/H],\"D\")","v":0},{"$f":"SUMIFS(Tabla_Diario[Importe],Tabla_Diario[Cta],Tabla5[Cuenta],Tabla_Diario[D/H],\"H\")","v":0},{"$f":"(Tabla5[[#This Row],[Debe]]-Tabla5[[#This Row],[Haber]])*Tabla5[[#This Row],[Multiplicador]]","v":0}]
[7100,-1,"PYG2",{"$f":"SUMIFS(Tabla_Diario[Importe],Tabla_Diario[Cta],Tabla5[Cuenta],Tabla_Diario[D/H],\"D\")","v":0},{"$f":"SUMIFS(Tabla_Diario[Importe],Tabla_Diario[Cta],Tabla5[Cuenta],Tabla_Diario[D/H],\"H\")","v":0},{"$f":"(Tabla5[[#This Row],[Debe]]-Tabla5[[#This Row],[Haber]])*Tabla5[[#This Row],[Multiplicador]]","v":0}]
[7110,-1,"PYG2",{"$f":"SUMIFS(Tabla_Diario[Importe],Tabla_Diario[Cta],Tabla5[Cuenta],Tabla_Diario[D/H],\"D\")","v":0},{"$f":"SUMIFS(Tabla_Diario[Importe],Tabla_Diario[Cta],Tabla5[Cuenta],Tabla_Diario[D/H],\"H\")","v":0},{"$f":"(Tabla5[[#This Row],[Debe]]-Tabla5[[#This Row],[Haber]])*Tabla5[[#This Row],[Multiplicador]]","v":0}]
[7120,-1,"PYG2",{"$f":"SUMIFS(Tabla_Diario[Importe],Tabla_Diario[Cta],Tabla5[Cuenta],Tabla_Diario[D/H],\"D\")","v":0},{"$f":"SUMIFS(Tabla_Diario[Importe],Tabla_Diario[Cta],Tabla5[Cuenta],Tabla_Diario[D/H],\"H\")","v":0},{"$f":"(Tabla5[[#This Row],[Debe]]-Tabla5[[#This Row],[Haber]])*Tabla5[[#This Row],[Multiplicador]]","v":0}]
[7130,-1,"PYG2",{"$f":"SUMIFS(Tabla_Diario[Importe],Tabla_Diario[Cta],Tabla5[Cuenta],Tabla_Diario[D/H],\"D\")","v":0},{"$f":"SUMIFS(Tabla_Diario[Importe],Tabla_Diario[Cta],Tabla5[Cuenta],Tabla_Diario[D/H],\"H\")","v":0},{"$f":"(Tabla5[[#This Row],[Debe]]-Tabla5[[#This Row],[Haber]])*Tabla5[[#This Row],[Multiplicador]]","v":0}]
[7300,-1,"PYG3",{"$f":"SUMIFS(Tabla_Diario[Importe],Tabla_Diario[Cta],Tabla5[Cuenta],Tabla_Diario[D/H],\"D\")","v":0},{"$f":"SUMIFS(Tabla_Diario[Importe],Tabla_Diario[Cta],Tabla5[Cuenta],Tabla_Diario[D/H],\"H\")","v":0},{"$f":"(Tabla5[[#This Row],[Debe]]-Tabla5[[#This Row],[Haber]])*Tabla5[[#This Row],[Multiplicador]]","v":0}]
[7310,-1,"PYG3",{"$f":"SUMIFS(Tabla_Diario[Importe],Tabla_Diario[Cta],Tabla5[Cuenta],Tabla_Diario[D/H],\"D\")","v":0},{"$f":"SUMIFS(Tabla_Diario[Importe],Tabla_Diario[Cta],Tabla5[Cuenta],Tabla_Diario[D/H],\"H\")","v":0},{"$f":"(Tabla5[[#This Row],[Debe]]-Tabla5[[#This Row],[Haber]])*Tabla5[[#This Row],[Multiplicador]]","v":0}]
[7320,-1,"PYG3",{"$f":"SUMIFS(Tabla_Diario[Importe],Tabla_Diario[Cta],Tabla5[Cuenta],Tabla_Diario[D/H],\"D\")","v":0},{"$f":"SUMIFS(Tabla_Diario[Importe],Tabla_Diario[Cta],Tabla5[Cuenta],Tabla_Diario[D/H],\"H\")","v":0},{"$f":"(Tabla5[[#This Row],[Debe]]-Tabla5[[#This Row],[Haber]])*Tabla5[[#This Row],[Multiplicador]]","v":0}]
[7330,-1,"PYG3",{"$f":"SUMIFS(Tabla_Diario[Importe],Tabla_Diario[Cta],Tabla5[Cuenta],Tabla_Diario[D/H],\"D\")","v":0},{"$f":"SUMIFS(Tabla_Diario[Importe],Tabla_Diario[Cta],Tabla5[Cuenta],Tabla_Diario[D/H],\"H\")","v":0},{"$f":"(Tabla5[[#This Row],[Debe]]-Tabla5[[#This Row],[Haber]])*Tabla5[[#This Row],[Multiplicador]]","v":0}]
[7400,-1,"PYG5",{"$f":"SUMIFS(Tabla_Diario[Importe],Tabla_Diario[Cta],Tabla5[Cuenta],Tabla_Diario[D/H],\"D\")","v":0},{"$f":"SUMIFS(Tabla_Diario[Importe],Tabla_Diario[Cta],Tabla5[Cuenta],Tabla_Diario[D/H],\"H\")","v":0},{"$f":"(Tabla5[[#This Row],[Debe]]-Tabla5[[#This Row],[Haber]])*Tabla5[[#This Row],[Multiplicador]]","v":0}]
[7460,-1,"PYG9",{"$f":"SUMIFS(Tabla_Diario[Importe],Tabla_Diario[Cta],Tabla5[Cuenta],Tabla_Diario[D/H],\"D\")","v":0},{"$f":"SUMIFS(Tabla_Diario[Importe],Tabla_Diario[Cta],Tabla5[Cuenta],Tabla_Diario[D/H],\"H\")","v":0},{"$f":"(Tabla5[[#This Row],[Debe]]-Tabla5[[#This Row],[Haber]])*Tabla5[[#This Row],[Multiplicador]]","v":0}]
[7470,-1,"PYG5",{"$f":"SUMIFS(Tabla_Diario[Importe],Tabla_Diario[Cta],Tabla5[Cuenta],Tabla_Diario[D/H],\"D\")","v":0},{"$f":"SUMIFS(Tabla_Diario[Importe],Tabla_Diario[Cta],Tabla5[Cuenta],Tabla_Diario[D/H],\"H\")","v":0},{"$f":"(Tabla5[[#This Row],[Debe]]-Tabla5[[#This Row],[Haber]])*Tabla5[[#This Row],[Multiplicador]]","v":0}]
[7510,-1,"PYG5",{"$f":"SUMIFS(Tabla_Diario[Importe],Tabla_Diario[Cta],Tabla5[Cuenta],Tabla_Diario[D/H],\"D\")","v":0},{"$f":"SUMIFS(Tabla_Diario[Importe],Tabla_Diario[Cta],Tabla5[Cuenta],Tabla_Diario[D/H],\"H\")","v":0},{"$f":"(Tabla5[[#This Row],[Debe]]-Tabla5[[#This Row],[Haber]])*Tabla5[[#This Row],[Multiplicador]]","v":0}]
[7520,-1,"PYG5",{"$f":"SUMIFS(Tabla_Diario[Importe],Tabla_Diario[Cta],Tabla5[Cuenta],Tabla_Diario[D/H],\"D\")","v":0},{"$f":"SUMIFS(Tabla_Diario[Importe],Tabla_Diario[Cta],Tabla5[Cuenta],Tabla_Diario[D/H],\"H\")","v":0},{"$f":"(Tabla5[[#This Row],[Debe]]-Tabla5[[#This Row],[Haber]])*Tabla5[[#This Row],[Multiplicador]]","v":0}]
[7530,-1,"PYG5",{"$f":"SUMIFS(Tabla_Diario[Importe],Tabla_Diario[Cta],Tabla5[Cuenta],Tabla_Diario[D/H],\"D\")","v":0},{"$f":"SUMIFS(Tabla_Diario[Importe],Tabla_Diario[Cta],Tabla5[Cuenta],Tabla_Diario[D/H],\"H\")","v":0},{"$f":"(Tabla5[[#This Row],[Debe]]-Tabla5[[#This Row],[Haber]])*Tabla5[[#This Row],[Multiplicador]]","v":0}]
[7540,-1,"PYG5",{"$f":"SUMIFS(Tabla_Diario[Importe],Tabla_Diario[Cta],Tabla5[Cuenta],Tabla_Diario[D/H],\"D\")","v":0},{"$f":"SUMIFS(Tabla_Diario[Importe],Tabla_Diario[Cta],Tabla5[Cuenta],Tabla_Diario[D/H],\"H\")","v":0},{"$f":"(Tabla5[[#This Row],[Debe]]-Tabla5[[#This Row],[Haber]])*Tabla5[[#This Row],[Multiplicador]]","v":0}]
[7550,-1,"PYG5",{"$f":"SUMIFS(Tabla_Diario[Importe],Tabla_Diario[Cta],Tabla5[Cuenta],Tabla_Diario[D/H],\"D\")","v":0},{"$f":"SUMIFS(Tabla_Diario[Importe],Tabla_Diario[Cta],Tabla5[Cuenta],Tabla_Diario[D/H],\"H\")","v":0},{"$f":"(Tabla5[[#This Row],[Debe]]-Tabla5[[#This Row],[Haber]])*Tabla5[[#This Row],[Multiplicador]]","v":0}]
[7590,-1,"PYG5",{"$f":"SUMIFS(Tabla_Diario[Importe],Tabla_Diario[Cta],Tabla5[Cuenta],Tabla_Diario[D/H],\"D\")","v":0},{"$f":"SUMIFS(Tabla_Diario[Importe],Tabla_Diario[Cta],Tabla5[Cuenta],Tabla_Diario[D/H],\"H\")","v":0},{"$f":"(Tabla5[[#This Row],[Debe]]-Tabla5[[#This Row],[Haber]])*Tabla5[[#This Row],[Multiplicador]]","v":0}]
[7600,-1,"PYG12",{"$f":"SUMIFS(Tabla_Diario[Importe],Tabla_Diario[Cta],Tabla5[Cuenta],Tabla_Diario[D/H],\"D\")","v":0},{"$f":"SUMIFS(Tabla_Diario[Importe],Tabla_Diario[Cta],Tabla5[Cuenta],Tabla_Diario[D/H],\"H\")","v":0},{"$f":"(Tabla5[[#This Row],[Debe]]-Tabla5[[#This Row],[Haber]])*Tabla5[[#This Row],[Multiplicador]]","v":0}]
[7610,-1,"PYG12",{"$f":"SUMIFS(Tabla_Diario[Importe],Tabla_Diario[Cta],Tabla5[Cuenta],Tabla_Diario[D/H],\"D\")","v":0},{"$f":"SUMIFS(Tabla_Diario[Importe],Tabla_Diario[Cta],Tabla5[Cuenta],Tabla_Diario[D/H],\"H\")","v":0},{"$f":"(Tabla5[[#This Row],[Debe]]-Tabla5[[#This Row],[Haber]])*Tabla5[[#This Row],[Multiplicador]]","v":0}]
[7620,-1,"PYG12",{"$f":"SUMIFS(Tabla_Diario[Importe],Tabla_Diario[Cta],Tabla5[Cuenta],Tabla_Diario[D/H],\"D\")","v":0},{"$f":"SUMIFS(Tabla_Diario[Importe],Tabla_Diario[Cta],Tabla5[Cuenta],Tabla_Diario[D/H],\"H\")","v":0},{"$f":"(Tabla5[[#This Row],[Debe]]-Tabla5[[#This Row],[Haber]])*Tabla5[[#This Row],[Multiplicador]]","v":0}]
[7630,-1,"PYG14",{"$f":"SUMIFS(Tabla_Diario[Importe],Tabla_Diario[Cta],Tabla5[Cuenta],Tabla_Diario[D/H],\"D\")","v":0},{"$f":"SUMIFS(Tabla_Diario[Importe],Tabla_Diario[Cta],Tabla5[Cuenta],Tabla_Diario[D/H],\"H\")","v":0},{"$f":"(Tabla5[[#This Row],[Debe]]-Tabla5[[#This Row],[Haber]])*Tabla5[[#This Row],[Multiplicador]]","v":0}]
[7660,-1,"PYG16",{"$f":"SUMIFS(Tabla_Diario[Importe],Tabla_Diario[Cta],Tabla5[Cuenta],Tabla_Diario[D/H],\"D\")","v":0},{"$f":"SUMIFS(Tabla_Diario[Importe],Tabla_Diario[Cta],Tabla5[Cuenta],Tabla_Diario[D/H],\"H\")","v":0},{"$f":"(Tabla5[[#This Row],[Debe]]-Tabla5[[#This Row],[Haber]])*Tabla5[[#This Row],[Multiplicador]]","v":0}]
[7670,-1,"PYG12",{"$f":"SUMIFS(Tabla_Diario[Importe],Tabla_Diario[Cta],Tabla5[Cuenta],Tabla_Diario[D/H],\"D\")","v":0},{"$f":"SUMIFS(Tabla_Diario[Importe],Tabla_Diario[Cta],Tabla5[Cuenta],Tabla_Diario[D/H],\"H\")","v":0},{"$f":"(Tabla5[[#This Row],[Debe]]-Tabla5[[#This Row],[Haber]])*Tabla5[[#This Row],[Multiplicador]]","v":0}]
[7680,-1,"PYG15",{"$f":"SUMIFS(Tabla_Diario[Importe],Tabla_Diario[Cta],Tabla5[Cuenta],Tabla_Diario[D/H],\"D\")","v":0},{"$f":"SUMIFS(Tabla_Diario[Importe],Tabla_Diario[Cta],Tabla5[Cuenta],Tabla_Diario[D/H],\"H\")","v":0},{"$f":"(Tabla5[[#This Row],[Debe]]-Tabla5[[#This Row],[Haber]])*Tabla5[[#This Row],[Multiplicador]]","v":0}]
[7690,-1,"PYG12",{"$f":"SUMIFS(Tabla_Diario[Importe],Tabla_Diario[Cta],Tabla5[Cuenta],Tabla_Diario[D/H],\"D\")","v":0},{"$f":"SUMIFS(Tabla_Diario[Importe],Tabla_Diario[Cta],Tabla5[Cuenta],Tabla_Diario[D/H],\"H\")","v":0},{"$f":"(Tabla5[[#This Row],[Debe]]-Tabla5[[#This Row],[Haber]])*Tabla5[[#This Row],[Multiplicador]]","v":0}]
[7700,-1,"PYG11",{"$f":"SUMIFS(Tabla_Diario[Importe],Tabla_Diario[Cta],Tabla5[Cuenta],Tabla_Diario[D/H],\"D\")","v":0},{"$f":"SUMIFS(Tabla_Diario[Importe],Tabla_Diario[Cta],Tabla5[Cuenta],Tabla_Diario[D/H],\"H\")","v":0},{"$f":"(Tabla5[[#This Row],[Debe]]-Tabla5[[#This Row],[Haber]])*Tabla5[[#This Row],[Multiplicador]]","v":0}]
[7710,-1,"PYG11",{"$f":"SUMIFS(Tabla_Diario[Importe],Tabla_Diario[Cta],Tabla5[Cuenta],Tabla_Diario[D/H],\"D\")","v":0},{"$f":"SUMIFS(Tabla_Diario[Importe],Tabla_Diario[Cta],Tabla5[Cuenta],Tabla_Diario[D/H],\"H\")","v":0},{"$f":"(Tabla5[[#This Row],[Debe]]-Tabla5[[#This Row],[Haber]])*Tabla5[[#This Row],[Multiplicador]]","v":0}]
[7720,-1,"PYG11",{"$f":"SUMIFS(Tabla_Diario[Importe],Tabla_Diario[Cta],Tabla5[Cuenta],Tabla_Diario[D/H],\"D\")","v":0},{"$f":"SUMIFS(Tabla_Diario[Importe],Tabla_Diario[Cta],Tabla5[Cuenta],Tabla_Diario[D/H],\"H\")","v":0},{"$f":"(Tabla5[[#This Row],[Debe]]-Tabla5[[#This Row],[Haber]])*Tabla5[[#This Row],[Multiplicador]]","v":0}]
[7730,-1,"PYG16",{"$f":"SUMIFS(Tabla_Diario[Importe],Tabla_Diario[Cta],Tabla5[Cuenta],Tabla_Diario[D/H],\"D\")","v":0},{"$f":"SUMIFS(Tabla_Diario[Importe],Tabla_Diario[Cta],Tabla5[Cuenta],Tabla_Diario[D/H],\"H\")","v":0},{"$f":"(Tabla5[[#This Row],[Debe]]-Tabla5[[#This Row],[Haber]])*Tabla5[[#This Row],[Multiplicador]]","v":0}]
[7740,1,"PYG16",{"$f":"SUMIFS(Tabla_Diario[Importe],Tabla_Diario[Cta],Tabla5[Cuenta],Tabla_Diario[D/H],\"D\")","v":0},{"$f":"SUMIFS(Tabla_Diario[Importe],Tabla_Diario[Cta],Tabla5[Cuenta],Tabla_Diario[D/H],\"H\")","v":0},{"$f":"(Tabla5[[#This Row],[Debe]]-Tabla5[[#This Row],[Haber]])*Tabla5[[#This Row],[Multiplicador]]","v":0}]
[7750,-1,"PYG16",{"$f":"SUMIFS(Tabla_Diario[Importe],Tabla_Diario[Cta],Tabla5[Cuenta],Tabla_Diario[D/H],\"D\")","v":0},{"$f":"SUMIFS(Tabla_Diario[Importe],Tabla_Diario[Cta],Tabla5[Cuenta],Tabla_Diario[D/H],\"H\")","v":0},{"$f":"(Tabla5[[#This Row],[Debe]]-Tabla5[[#This Row],[Haber]])*Tabla5[[#This Row],[Multiplicador]]","v":0}]
[7780,-1,"PYG16",{"$f":"SUMIFS(Tabla_Diario[Importe],Tabla_Diario[Cta],Tabla5[Cuenta],Tabla_Diario[D/H],\"D\")","v":0},{"$f":"SUMIFS(Tabla_Diario[Importe],Tabla_Diario[Cta],Tabla5[Cuenta],Tabla_Diario[D/H],\"H\")","v":0},{"$f":"(Tabla5[[#This Row],[Debe]]-Tabla5[[#This Row],[Haber]])*Tabla5[[#This Row],[Multiplicador]]","v":0}]
[7900,-1,"PYG11",{"$f":"SUMIFS(Tabla_Diario[Importe],Tabla_Diario[Cta],Tabla5[Cuenta],Tabla_Diario[D/H],\"D\")","v":0},{"$f":"SUMIFS(Tabla_Diario[Importe],Tabla_Diario[Cta],Tabla5[Cuenta],Tabla_Diario[D/H],\"H\")","v":0},{"$f":"(Tabla5[[#This Row],[Debe]]-Tabla5[[#This Row],[Haber]])*Tabla5[[#This Row],[Multiplicador]]","v":0}]
[7910,-1,"PYG11",{"$f":"SUMIFS(Tabla_Diario[Importe],Tabla_Diario[Cta],Tabla5[Cuenta],Tabla_Diario[D/H],\"D\")","v":0},{"$f":"SUMIFS(Tabla_Diario[Importe],Tabla_Diario[Cta],Tabla5[Cuenta],Tabla_Diario[D/H],\"H\")","v":0},{"$f":"(Tabla5[[#This Row],[Debe]]-Tabla5[[#This Row],[Haber]])*Tabla5[[#This Row],[Multiplicador]]","v":0}]
[7920,-1,"PYG11",{"$f":"SUMIFS(Tabla_Diario[Importe],Tabla_Diario[Cta],Tabla5[Cuenta],Tabla_Diario[D/H],\"D\")","v":0},{"$f":"SUMIFS(Tabla_Diario[Importe],Tabla_Diario[Cta],Tabla5[Cuenta],Tabla_Diario[D/H],\"H\")","v":0},{"$f":"(Tabla5[[#This Row],[Debe]]-Tabla5[[#This Row],[Haber]])*Tabla5[[#This Row],[Multiplicador]]","v":0}]
[7930,-1,"PYG2",{"$f":"SUMIFS(Tabla_Diario[Importe],Tabla_Diario[Cta],Tabla5[Cuenta],Tabla_Diario[D/H],\"D\")","v":0},{"$f":"SUMIFS(Tabla_Diario[Importe],Tabla_Diario[Cta],Tabla5[Cuenta],Tabla_Diario[D/H],\"H\")","v":0},{"$f":"(Tabla5[[#This Row],[Debe]]-Tabla5[[#This Row],[Haber]])*Tabla5[[#This Row],[Multiplicador]]","v":0}]
[7940,1,"PYG6",{"$f":"SUMIFS(Tabla_Diario[Importe],Tabla_Diario[Cta],Tabla5[Cuenta],Tabla_Diario[D/H],\"D\")","v":0},{"$f":"SUMIFS(Tabla_Diario[Importe],Tabla_Diario[Cta],Tabla5[Cuenta],Tabla_Diario[D/H],\"H\")","v":0},{"$f":"(Tabla5[[#This Row],[Debe]]-Tabla5[[#This Row],[Haber]])*Tabla5[[#This Row],[Multiplicador]]","v":0}]
[7950,1,"PYG10",{"$f":"SUMIFS(Tabla_Diario[Importe],Tabla_Diario[Cta],Tabla5[Cuenta],Tabla_Diario[D/H],\"D\")","v":0},{"$f":"SUMIFS(Tabla_Diario[Importe],Tabla_Diario[Cta],Tabla5[Cuenta],Tabla_Diario[D/H],\"H\")","v":0},{"$f":"(Tabla5[[#This Row],[Debe]]-Tabla5[[#This Row],[Haber]])*Tabla5[[#This Row],[Multiplicador]]","v":0}]
[7960,-1,"PYG16",{"$f":"SUMIFS(Tabla_Diario[Importe],Tabla_Diario[Cta],Tabla5[Cuenta],Tabla_Diario[D/H],\"D\")","v":0},{"$f":"SUMIFS(Tabla_Diario[Importe],Tabla_Diario[Cta],Tabla5[Cuenta],Tabla_Diario[D/H],\"H\")","v":0},{"$f":"(Tabla5[[#This Row],[Debe]]-Tabla5[[#This Row],[Haber]])*Tabla5[[#This Row],[Multiplicador]]","v":0}]
[7970,-1,"PYG16",{"$f":"SUMIFS(Tabla_Diario[Importe],Tabla_Diario[Cta],Tabla5[Cuenta],Tabla_Diario[D/H],\"D\")","v":0},{"$f":"SUMIFS(Tabla_Diario[Importe],Tabla_Diario[Cta],Tabla5[Cuenta],Tabla_Diario[D/H],\"H\")","v":0},{"$f":"(Tabla5[[#This Row],[Debe]]-Tabla5[[#This Row],[Haber]])*Tabla5[[#This Row],[Multiplicador]]","v":0}]
[7980,-1,"PYG16",{"$f":"SUMIFS(Tabla_Diario[Importe],Tabla_Diario[Cta],Tabla5[Cuenta],Tabla_Diario[D/H],\"D\")","v":0},{"$f":"SUMIFS(Tabla_Diario[Importe],Tabla_Diario[Cta],Tabla5[Cuenta],Tabla_Diario[D/H],\"H\")","v":0},{"$f":"(Tabla5[[#This Row],[Debe]]-Tabla5[[#This Row],[Haber]])*Tabla5[[#This Row],[Multiplicador]]","v":0}]
[7990,-1,"PYG16",{"$f":"SUMIFS(Tabla_Diario[Importe],Tabla_Diario[Cta],Tabla5[Cuenta],Tabla_Diario[D/H],\"D\")","v":0},{"$f":"SUMIFS(Tabla_Diario[Importe],Tabla_Diario[Cta],Tabla5[Cuenta],Tabla_Diario[D/H],\"H\")","v":0},{"$f":"(Tabla5[[#This Row],[Debe]]-Tabla5[[#This Row],[Haber]])*Tabla5[[#This Row],[Multiplicador]]","v":0}]
[8000,null,null,{"$f":"SUMIFS(Tabla_Diario[Importe],Tabla_Diario[Cta],Tabla5[Cuenta],Tabla_Diario[D/H],\"D\")","v":0},{"$f":"SUMIFS(Tabla_Diario[Importe],Tabla_Diario[Cta],Tabla5[Cuenta],Tabla_Diario[D/H],\"H\")","v":0},{"$f":"(Tabla5[[#This Row],[Debe]]-Tabla5[[#This Row],[Haber]])*Tabla5[[#This Row],[Multiplicador]]","v":0}]
[8020,null,null,{"$f":"SUMIFS(Tabla_Diario[Importe],Tabla_Diario[Cta],Tabla5[Cuenta],Tabla_Diario[D/H],\"D\")","v":0},{"$f":"SUMIFS(Tabla_Diario[Importe],Tabla_Diario[Cta],Tabla5[Cuenta],Tabla_Diario[D/H],\"H\")","v":0},{"$f":"(Tabla5[[#This Row],[Debe]]-Tabla5[[#This Row],[Haber]])*Tabla5[[#This Row],[Multiplicador]]","v":0}]
[8100,null,null,{"$f":"SUMIFS(Tabla_Diario[Importe],Tabla_Diario[Cta],Tabla5[Cuenta],Tabla_Diario[D/H],\"D\")","v":0},{"$f":"SUMIFS(Tabla_Diario[Importe],Tabla_Diario[Cta],Tabla5[Cuenta],Tabla_Diario[D/H],\"H\")","v":0},{"$f":"(Tabla5[[#This Row],[Debe]]-Tabla5[[#This Row],[Haber]])*Tabla5[[#This Row],[Multiplicador]]","v":0}]
[8110,null,null,{"$f":"SUMIFS(Tabla_Diario[Importe],Tabla_Diario[Cta],Tabla5[Cuenta],Tabla_Diario[D/H],\"D\")","v":0},{"$f":"SUMIFS(Tabla_Diario[Importe],Tabla_Diario[Cta],Tabla5[Cuenta],Tabla_Diario[D/H],\"H\")","v":0},{"$f":"(Tabla5[[#This Row],[Debe]]-Tabla5[[#This Row],[Haber]])*Tabla5[[#This Row],[Multiplicador]]","v":0}]
[8120,null,null,{"$f":"SUMIFS(Tabla_Diario[Importe],Tabla_Diario[Cta],Tabla5[Cuenta],Tabla_Diario[D/H],\"D\")","v":0},{"$f":"SUMIFS(Tabla_Diario[Importe],Tabla_Diario[Cta],Tabla5[Cuenta],Tabla_Diario[D/H],\"H\")","v":0},{"$f":"(Tabla5[[#This Row],[Debe]]-Tabla5[[#This Row],[Haber]])*Tabla5[[#This Row],[Multiplicador]]","v":0}]
[8130,null,null,{"$f":"SUMIFS(Tabla_Diario[Importe],Tabla_Diario[Cta],Tabla5[Cuenta],Tabla_Diario[D/H],\"D\")","v":0},{"$f":"SUMIFS(Tabla_Diario[Importe],Tabla_Diario[Cta],Tabla5[Cuenta],Tabla_Diario[D/H],\"H\")","v":0},{"$f":"(Tabla5[[#This Row],[Debe]]-Tabla5[[#This Row],[Haber]])*Tabla5[[#This Row],[Multiplicador]]","v":0}]
[8200,null,null,{"$f":"SUMIFS(Tabla_Diario[Importe],Tabla_Diario[Cta],Tabla5[Cuenta],Tabla_Diario[D/H],\"D\")","v":0},{"$f":"SUMIFS(Tabla_Diario[Importe],Tabla_Diario[Cta],Tabla5[Cuenta],Tabla_Diario[D/H],\"H\")","v":0},{"$f":"(Tabla5[[#This Row],[Debe]]-Tabla5[[#This Row],[Haber]])*Tabla5[[#This Row],[Multiplicador]]","v":0}]
[8210,null,null,{"$f":"SUMIFS(Tabla_Diario[Importe],Tabla_Diario[Cta],Tabla5[Cuenta],Tabla_Diario[D/H],\"D\")","v":0},{"$f":"SUMIFS(Tabla_Diario[Importe],Tabla_Diario[Cta],Tabla5[Cuenta],Tabla_Diario[D/H],\"H\")","v":0},{"$f":"(Tabla5[[#This Row],[Debe]]-Tabla5[[#This Row],[Haber]])*Tabla5[[#This Row],[Multiplicador]]","v":0}]
[8300,null,null,{"$f":"SUMIFS(Tabla_Diario[Importe],Tabla_Diario[Cta],Tabla5[Cuenta],Tabla_Diario[D/H],\"D\")","v":0},{"$f":"SUMIFS(Tabla_Diario[Importe],Tabla_Diario[Cta],Tabla5[Cuenta],Tabla_Diario[D/H],\"H\")","v":0},{"$f":"(Tabla5[[#This Row],[Debe]]-Tabla5[[#This Row],[Haber]])*Tabla5[[#This Row],[Multiplicador]]","v":0}]
[8330,null,null,{"$f":"SUMIFS(Tabla_Diario[Importe],Tabla_Diario[Cta],Tabla5[Cuenta],Tabla_Diario[D/H],\"D\")","v":0},{"$f":"SUMIFS(Tabla_Diario[Importe],Tabla_Diario[Cta],Tabla5[Cuenta],Tabla_Diario[D/H],\"H\")","v":0},{"$f":"(Tabla5[[#This Row],[Debe]]-Tabla5[[#This Row],[Haber]])*Tabla5[[#This Row],[Multiplicador]]","v":0}]
[8340,null,null,{"$f":"SUMIFS(Tabla_Diario[Importe],Tabla_Diario[Cta],Tabla5[Cuenta],Tabla_Diario[D/H],\"D\")","v":0},{"$f":"SUMIFS(Tabla_Diario[Importe],Tabla_Diario[Cta],Tabla5[Cuenta],Tabla_Diario[D/H],\"H\")","v":0},{"$f":"(Tabla5[[#This Row],[Debe]]-Tabla5[[#This Row],[Haber]])*Tabla5[[#This Row],[Multiplicador]]","v":0}]
[8350,null,null,{"$f":"SUMIFS(Tabla_Diario[Importe],Tabla_Diario[Cta],Tabla5[Cuenta],Tabla_Diario[D/H],\"D\")","v":0},{"$f":"SUMIFS(Tabla_Diario[Importe],Tabla_Diario[Cta],Tabla5[Cuenta],Tabla_Diario[D/H],\"H\")","v":0},{"$f":"(Tabla5[[#This Row],[Debe]]-Tabla5[[#This Row],[Haber]])*Tabla5[[#This Row],[Multiplicador]]","v":0}]
[8360,null,null,{"$f":"SUMIFS(Tabla_Diario[Importe],Tabla_Diario[Cta],Tabla5[Cuenta],Tabla_Diario[D/H],\"D\")","v":0},{"$f":"SUMIFS(Tabla_Diario[Importe],Tabla_Diario[Cta],Tabla5[Cuenta],Tabla_Diario[D/H],\"H\")","v":0},{"$f":"(Tabla5[[#This Row],[Debe]]-Tabla5[[#This Row],[Haber]])*Tabla5[[#This Row],[Multiplicador]]","v":0}]
[8370,null,null,{"$f":"SUMIFS(Tabla_Diario[Importe],Tabla_Diario[Cta],Tabla5[Cuenta],Tabla_Diario[D/H],\"D\")","v":0},{"$f":"SUMIFS(Tabla_Diario[Importe],Tabla_Diario[Cta],Tabla5[Cuenta],Tabla_Diario[D/H],\"H\")","v":0},{"$f":"(Tabla5[[#This Row],[Debe]]-Tabla5[[#This Row],[Haber]])*Tabla5[[#This Row],[Multiplicador]]","v":0}]
[8380,null,null,{"$f":"SUMIFS(Tabla_Diario[Importe],Tabla_Diario[Cta],Tabla5[Cuenta],Tabla_Diario[D/H],\"D\")","v":0},{"$f":"SUMIFS(Tabla_Diario[Importe],Tabla_Diario[Cta],Tabla5[Cuenta],Tabla_Diario[D/H],\"H\")","v":0},{"$f":"(Tabla5[[#This Row],[Debe]]-Tabla5[[#This Row],[Haber]])*Tabla5[[#This Row],[Multiplicador]]","v":0}]
[8400,null,null,{"$f":"SUMIFS(Tabla_Diario[Importe],Tabla_Diario[Cta],Tabla5[Cuenta],Tabla_Diario[D/H],\"D\")","v":0},{"$f":"SUMIFS(Tabla_Diario[Importe],Tabla_Diario[Cta],Tabla5[Cuenta],Tabla_Diario[D/H],\"H\")","v":0},{"$f":"(Tabla5[[#This Row],[Debe]]-Tabla5[[#This Row],[Haber]])*Tabla5[[#This Row],[Multiplicador]]","v":0}]
[8410,null,null,{"$f":"SUMIFS(Tabla_Diario[Importe],Tabla_Diario[Cta],Tabla5[Cuenta],Tabla_Diario[D/H],\"D\")","v":0},{"$f":"SUMIFS(Tabla_Diario[Importe],Tabla_Diario[Cta],Tabla5[Cuenta],Tabla_Diario[D/H],\"H\")","v":0},{"$f":"(Tabla5[[#This Row],[Debe]]-Tabla5[[#This Row],[Haber]])*Tabla5[[#This Row],[Multiplicador]]","v":0}]
[8420,null,null,{"$f":"SUMIFS(Tabla_Diario[Importe],Tabla_Diario[Cta],Tabla5[Cuenta],Tabla_Diario[D/H],\"D\")","v":0},{"$f":"SUMIFS(Tabla_Diario[Importe],Tabla_Diario[Cta],Tabla5[Cuenta],Tabla_Diario[D/H],\"H\")","v":0},{"$f":"(Tabla5[[#This Row],[Debe]]-Tabla5[[#This Row],[Haber]])*Tabla5[[#This Row],[Multiplicador]]","v":0}]
[8500,null,null,{"$f":"SUMIFS(Tabla_Diario[Importe],Tabla_Diario[Cta],Tabla5[Cuenta],Tabla_Diario[D/H],\"D\")","v":0},{"$f":"SUMIFS(Tabla_Diario[Importe],Tabla_Diario[Cta],Tabla5[Cuenta],Tabla_Diario[D/H],\"H\")","v":0},{"$f":"(Tabla5[[#This Row],[Debe]]-Tabla5[[#This Row],[Haber]])*Tabla5[[#This Row],[Multiplicador]]","v":0}]
[8510,null,null,{"$f":"SUMIFS(Tabla_Diario[Importe],Tabla_Diario[Cta],Tabla5[Cuenta],Tabla_Diario[D/H],\"D\")","v":0},{"$f":"SUMIFS(Tabla_Diario[Importe],Tabla_Diario[Cta],Tabla5[Cuenta],Tabla_Diario[D/H],\"H\")","v":0},{"$f":"(Tabla5[[#This Row],[Debe]]-Tabla5[[#This Row],[Haber]])*Tabla5[[#This Row],[Multiplicador]]","v":0}]
[8600,null,null,{"$f":"SUMIFS(Tabla_Diario[Importe],Tabla_Diario[Cta],Tabla5[Cuenta],Tabla_Diario[D/H],\"D\")","v":0},{"$f":"SUMIFS(Tabla_Diario[Importe],Tabla_Diario[Cta],Tabla5[Cuenta],Tabla_Diario[D/H],\"H\")","v":0},{"$f":"(Tabla5[[#This Row],[Debe]]-Tabla5[[#This Row],[Haber]])*Tabla5[[#This Row],[Multiplicador]]","v":0}]
[8620,null,null,{"$f":"SUMIFS(Tabla_Diario[Importe],Tabla_Diario[Cta],Tabla5[Cuenta],Tabla_Diario[D/H],\"D\")","v":0},{"$f":"SUMIFS(Tabla_Diario[Importe],Tabla_Diario[Cta],Tabla5[Cuenta],Tabla_Diario[D/H],\"H\")","v":0},{"$f":"(Tabla5[[#This Row],[Debe]]-Tabla5[[#This Row],[Haber]])*Tabla5[[#This Row],[Multiplicador]]","v":0}]
[8910,null,null,{"$f":"SUMIFS(Tabla_Diario[Importe],Tabla_Diario[Cta],Tabla5[Cuenta],Tabla_Diario[D/H],\"D\")","v":0},{"$f":"SUMIFS(Tabla_Diario[Importe],Tabla_Diario[Cta],Tabla5[Cuenta],Tabla_Diario[D/H],\"H\")","v":0},{"$f":"(Tabla5[[#This Row],[Debe]]-Tabla5[[#This Row],[Haber]])*Tabla5[[#This Row],[Multiplicador]]","v":0}]
[8920,null,null,{"$f":"SUMIFS(Tabla_Diario[Importe],Tabla_Diario[Cta],Tabla5[Cuenta],Tabla_Diario[D/H],\"D\")","v":0},{"$f":"SUMIFS(Tabla_Diario[Importe],Tabla_Diario[Cta],Tabla5[Cuenta],Tabla_Diario[D/H],\"H\")","v":0},{"$f":"(Tabla5[[#This Row],[Debe]]-Tabla5[[#This Row],[Haber]])*Tabla5[[#This Row],[Multiplicador]]","v":0}]
[9000,null,null,{"$f":"SUMIFS(Tabla_Diario[Importe],Tabla_Diario[Cta],Tabla5[Cuenta],Tabla_Diario[D/H],\"D\")","v":0},{"$f":"SUMIFS(Tabla_Diario[Importe],Tabla_Diario[Cta],Tabla5[Cuenta],Tabla_Diario[D/H],\"H\")","v":0},{"$f":"(Tabla5[[#This Row],[Debe]]-Tabla5[[#This Row],[Haber]])*Tabla5[[#This Row],[Multiplicador]]","v":0}]
[9020,null,null,{"$f":"SUMIFS(Tabla_Diario[Importe],Tabla_Diario[Cta],Tabla5[Cuenta],Tabla_Diario[D/H],\"D\")","v":0},{"$f":"SUMIFS(Tabla_Diario[Importe],Tabla_Diario[Cta],Tabla5[Cuenta],Tabla_Diario[D/H],\"H\")","v":0},{"$f":"(Tabla5[[#This Row],[Debe]]-Tabla5[[#This Row],[Haber]])*Tabla5[[#This Row],[Multiplicador]]","v":0}]
[9100,null,null,{"$f":"SUMIFS(Tabla_Diario[Importe],Tabla_Diario[Cta],Tabla5[Cuenta],Tabla_Diario[D/H],\"D\")","v":0},{"$f":"SUMIFS(Tabla_Diario[Importe],Tabla_Diario[Cta],Tabla5[Cuenta],Tabla_Diario[D/H],\"H\")","v":0},{"$f":"(Tabla5[[#This Row],[Debe]]-Tabla5[[#This Row],[Haber]])*Tabla5[[#This Row],[Multiplicador]]","v":0}]
[9110,null,null,{"$f":"SUMIFS(Tabla_Diario[Importe],Tabla_Diario[Cta],Tabla5[Cuenta],Tabla_Diario[D/H],\"D\")","v":0},{"$f":"SUMIFS(Tabla_Diario[Importe],Tabla_Diario[Cta],Tabla5[Cuenta],Tabla_Diario[D/H],\"H\")","v":0},{"$f":"(Tabla5[[#This Row],[Debe]]-Tabla5[[#This Row],[Haber]])*Tabla5[[#This Row],[Multiplicador]]","v":0}]
[9120,null,null,{"$f":"SUMIFS(Tabla_Diario[Importe],Tabla_Diario[Cta],Tabla5[Cuenta],Tabla_Diario[D/H],\"D\")","v":0},{"$f":"SUMIFS(Tabla_Diario[Importe],Tabla_Diario[Cta],Tabla5[Cuenta],Tabla_Diario[D/H],\"H\")","v":0},{"$f":"(Tabla5[[#This Row],[Debe]]-Tabla5[[#This Row],[Haber]])*Tabla5[[#This Row],[Multiplicador]]","v":0}]
[9130,null,null,{"$f":"SUMIFS(Tabla_Diario[Importe],Tabla_Diario[Cta],Tabla5[Cuenta],Tabla_Diario[D/H],\"D\")","v":0},{"$f":"SUMIFS(Tabla_Diario[Importe],Tabla_Diario[Cta],Tabla5[Cuenta],Tabla_Diario[D/H],\"H\")","v":0},{"$f":"(Tabla5[[#This Row],[Debe]]-Tabla5[[#This Row],[Haber]])*Tabla5[[#This Row],[Multiplicador]]","v":0}]
[9200,null,null,{"$f":"SUMIFS(Tabla_Diario[Importe],Tabla_Diario[Cta],Tabla5[Cuenta],Tabla_Diario[D/H],\"D\")","v":0},{"$f":"SUMIFS(Tabla_Diario[Importe],Tabla_Diario[Cta],Tabla5[Cuenta],Tabla_Diario[D/H],\"H\")","v":0},{"$f":"(Tabla5[[#This Row],[Debe]]-Tabla5[[#This Row],[Haber]])*Tabla5[[#This Row],[Multiplicador]]","v":0}]
[9210,null,null,{"$f":"SUMIFS(Tabla_Diario[Importe],Tabla_Diario[Cta],Tabla5[Cuenta],Tabla_Diario[D/H],\"D\")","v":0},{"$f":"SUMIFS(Tabla_Diario[Importe],Tabla_Diario[Cta],Tabla5[Cuenta],Tabla_Diario[D/H],\"H\")","v":0},{"$f":"(Tabla5[[#This Row],[Debe]]-Tabla5[[#This Row],[Haber]])*Tabla5[[#This Row],[Multiplicador]]","v":0}]
[9400,null,null,{"$f":"SUMIFS(Tabla_Diario[Importe],Tabla_Diario[Cta],Tabla5[Cuenta],Tabla_Diario[D/H],\"D\")","v":0},{"$f":"SUMIFS(Tabla_Diario[Importe],Tabla_Diario[Cta],Tabla5[Cuenta],Tabla_Diario[D/H],\"H\")","v":0},{"$f":"(Tabla5[[#This Row],[Debe]]-Tabla5[[#This Row],[Haber]])*Tabla5[[#This Row],[Multiplicador]]","v":0}]
[9410,null,null,{"$f":"SUMIFS(Tabla_Diario[Importe],Tabla_Diario[Cta],Tabla5[Cuenta],Tabla_Diario[D/H],\"D\")","v":0},{"$f":"SUMIFS(Tabla_Diario[Importe],Tabla_Diario[Cta],Tabla5[Cuenta],Tabla_Diario[D/H],\"H\")","v":0},{"$f":"(Tabla5[[#This Row],[Debe]]-Tabla5[[#This Row],[Haber]])*Tabla5[[#This Row],[Multiplicador]]","v":0}]
[9420,null,null,{"$f":"SUMIFS(Tabla_Diario[Importe],Tabla_Diario[Cta],Tabla5[Cuenta],Tabla_Diario[D/H],\"D\")","v":0},{"$f":"SUMIFS(Tabla_Diario[Importe],Tabla_Diario[Cta],Tabla5[Cuenta],Tabla_Diario[D/H],\"H\")","v":0},{"$f":"(Tabla5[[#This Row],[Debe]]-Tabla5[[#This Row],[Haber]])*Tabla5[[#This Row],[Multiplicador]]","v":0}]
[9500,null,null,{"$f":"SUMIFS(Tabla_Diario[Importe],Tabla_Diario[Cta],Tabla5[Cuenta],Tabla_Diario[D/H],\"D\")","v":0},{"$f":"SUMIFS(Tabla_Diario[Importe],Tabla_Diario[Cta],Tabla5[Cuenta],Tabla_Diario[D/H],\"H\")","v":0},{"$f":"(Tabla5[[#This Row],[Debe]]-Tabla5[[#This Row],[Haber]])*Tabla5[[#This Row],[Multiplicador]]","v":0}]
[9510,null,null,{"$f":"SUMIFS(Tabla_Diario[Importe],Tabla_Diario[Cta],Tabla5[Cuenta],Tabla_Diario[D/H],\"D\")","v":0},{"$f":"SUMIFS(Tabla_Diario[Importe],Tabla_Diario[Cta],Tabla5[Cuenta],Tabla_Diario[D/H],\"H\")","v":0},{"$f":"(Tabla5[[#This Row],[Debe]]-Tabla5[[#This Row],[Haber]])*Tabla5[[#This Row],[Multiplicador]]","v":0}]
[9600,null,null,{"$f":"SUMIFS(Tabla_Diario[Importe],Tabla_Diario[Cta],Tabla5[Cuenta],Tabla_Diario[D/H],\"D\")","v":0},{"$f":"SUMIFS(Tabla_Diario[Importe],Tabla_Diario[Cta],Tabla5[Cuenta],Tabla_Diario[D/H],\"H\")","v":0},{"$f":"(Tabla5[[#This Row],[Debe]]-Tabla5[[#This Row],[Haber]])*Tabla5[[#This Row],[Multiplicador]]","v":0}]
[9620,null,null,{"$f":"SUMIFS(Tabla_Diario[Importe],Tabla_Diario[Cta],Tabla5[Cuenta],Tabla_Diario[D/H],\"D\")","v":0},{"$f":"SUMIFS(Tabla_Diario[Importe],Tabla_Diario[Cta],Tabla5[Cuenta],Tabla_Diario[D/H],\"H\")","v":0},{"$f":"(Tabla5[[#This Row],[Debe]]-Tabla5[[#This Row],[Haber]])*Tabla5[[#This Row],[Multiplicador]]","v":0}]
[9910,null,null,{"$f":"SUMIFS(Tabla_Diario[Importe],Tabla_Diario[Cta],Tabla5[Cuenta],Tabla_Diario[D/H],\"D\")","v":0},{"$f":"SUMIFS(Tabla_Diario[Importe],Tabla_Diario[Cta],Tabla5[Cuenta],Tabla_Diario[D/H],\"H\")","v":0},{"$f":"(Tabla5[[#This Row],[Debe]]-Tabla5[[#This Row],[Haber]])*Tabla5[[#This Row],[Multiplicador]]","v":0}]
[9920,null,null,{"$f":"SUMIFS(Tabla_Diario[Importe],Tabla_Diario[Cta],Tabla5[Cuenta],Tabla_Diario[D/H],\"D\")","v":0},{"$f":"SUMIFS(Tabla_Diario[Importe],Tabla_Diario[Cta],Tabla5[Cuenta],Tabla_Diario[D/H],\"H\")","v":0},{"$f":"(Tabla5[[#This Row],[Debe]]-Tabla5[[#This Row],[Haber]])*Tabla5[[#This Row],[Multiplicador]]","v":0},null,null,{"$f":"SUM(D3:D463)","v":45850},{"$f":"SUM(E3:E463)","v":45850}]
[9930,null,null,{"$f":"SUMIFS(Tabla_Diario[Importe],Tabla_Diario[Cta],Tabla5[Cuenta],Tabla_Diario[D/H],\"D\")","v":0},{"$f":"SUMIFS(Tabla_Diario[Importe],Tabla_Diario[Cta],Tabla5[Cuenta],Tabla_Diario[D/H],\"H\")","v":0},{"$f":"(Tabla5[[#This Row],[Debe]]-Tabla5[[#This Row],[Haber]])*Tabla5[[#This Row],[Multiplicador]]","v":0}]
[9940,null,null,{"$f":"SUMIFS(Tabla_Diario[Importe],Tabla_Diario[Cta],Tabla5[Cuenta],Tabla_Diario[D/H],\"D\")","v":0},{"$f":"SUMIFS(Tabla_Diario[Importe],Tabla_Diario[Cta],Tabla5[Cuenta],Tabla_Diario[D/H],\"H\")","v":0},{"$f":"(Tabla5[[#This Row],[Debe]]-Tabla5[[#This Row],[Haber]])*Tabla5[[#This Row],[Multiplicador]]","v":0}]

{"sheet":"Solucion","index":9,"n_rows":39,"n_cols":16,"rows_kept":39,"cut":false,"hidden":true,"merged":[]}
["Nº As","Importe","Cta","Descripción","D/H","Fecha","Observaciones","Codigo","Codigo 2",null,null,null,null,null,null,"joseignacioicod@gmail.com"]
[0,0,0,0,"D",42005,"Apertura","0-0","0-0-D-0",null,null,null,null,null,null,"Sociedad Blue SL"]
[1,12000,5700,"Caja, euros","D",42006,"creacion de la sociedad","5700-Caja, euros","1-5700-D-12000",null,null,null,null,null,null,42276.685812731484]
[1,12000,1000,"Capital social","H",42006,"creacion de la sociedad","1000-Capital social","1-1000-H-12000",null,null,null,null,null,null,6858]
[2,9500,5720,"Bancos e instituciones de crédito c/c vista, euros","D",42014,"N/I:1234","5720-Bancos e instituciones de crédito c/c vista, euros","2-5720-D-9500"]
[2,9500,5700,"Caja, euros","H",42014,"N/I:1234","5700-Caja, euros","2-5700-H-9500"]
[3,3000,6000,"Compras de mercaderías","D",42019,"S/F:1234-B","6000-Compras de mercaderías","3-6000-D-3000"]
[3,3000,4000,"Proveedores","H",42019,"S/F:1234-B","4000-Proveedores","3-4000-H-3000"]
[4,1500,4300,"Clientes","D",42019,"N/F nº: 1-A","4300-Clientes","4-4300-D-1500"]
[4,1500,7000,"Ventas de mercaderías","H",42019,"N/F nº: 1-A","7000-Ventas de mercaderías","4-7000-H-1500"]
[5,1000,6400,"Sueldos y salarios","D",42070,"N/T nº:3434","6400-Sueldos y salarios","5-6400-D-1000"]
[5,1000,5720,"Bancos e instituciones de crédito c/c vista, euros","H",42070,"N/T nº:3434","5720-Bancos e instituciones de crédito c/c vista, euros","5-5720-H-1000"]
[6,450,6420,"Seguridad Social a cargo de la empresa","D",42097,"N/T nº:3435","6420-Seguridad Social a cargo de la empresa","6-6420-D-450"]
[6,450,5720,"Bancos e instituciones de crédito c/c vista, euros","H",42097,"N/T nº:3435","5720-Bancos e instituciones de crédito c/c vista, euros","6-5720-H-450"]
[7,600,2160,"Mobiliario","D",42149,"S/F nº:3432","2160-Mobiliario","7-2160-D-600"]
[7,600,5700,"Caja, euros","H",42149,"S/F nº:3432","5700-Caja, euros","7-5700-H-600"]
[8,750,6210,"Arrendamientos y cánones","D",42166,"S/R Nº:2545","6210-Arrendamientos y cánones","8-6210-D-750"]
[8,750,5700,"Caja, euros","H",42166,"S/R Nº:2545","5700-Caja, euros","8-5700-H-750"]
[9,100,6280,"Suministros","D",42175,"pago suministros varios","6280-Suministros","9-6280-D-100"]
[9,100,5700,"Caja, euros","H",42175,"pago suministros varios","5700-Caja, euros","9-5700-H-100"]
[10,4000,2180,"Elementos de transporte","D",42175,"S/F nº:53456","2180-Elementos de transporte","10-2180-D-4000"]
[10,3600,4110,"Acreedores, efectos comerciales a pagar","H",42175,"S/F nº:53456","4110-Acreedores, efectos comerciales a pagar","10-4110-H-3600"]
[10,400,5700,"Caja, euros","H",42175,"S/F nº:53456","5700-Caja, euros","10-5700-H-400"]
[11,1500,4310,"Clientes, efectos comerciales a cobrar","D",42193,"N/F nº 2-A","4310-Clientes, efectos comerciales a cobrar","11-4310-D-1500"]
[11,1500,7000,"Ventas de mercaderías","H",42193,"N/F nº 2-A","7000-Ventas de mercaderías","11-7000-H-1500"]
[12,350,6310,"Otros tributos","D",42236,"pago impuestos locales","6310-Otros tributos","12-6310-D-350"]
[12,350,5700,"Caja, euros","H",42236,"pago impuestos locales","5700-Caja, euros","12-5700-H-350"]
[13,2000,6000,"Compras de mercaderías","D",42262,"S/F nº:965B","6000-Compras de mercaderías","13-6000-D-2000"]
[13,2000,4000,"Proveedores","H",42262,"S/F nº:965B","4000-Proveedores","13-4000-H-2000"]
[14,100,6230,"Servicios de profesionales independientes","D",42302,"N/R nº: 1","6230-Servicios de profesionales independientes","14-6230-D-100"]
[14,100,5700,"Caja, euros","H",42302,"N/R nº: 1","5700-Caja, euros","14-5700-H-100"]
[15,1500,5700,"Caja, euros","D",42330,"N/R nº: 2","5700-Caja, euros","15-5700-D-1500"]
[15,1500,4300,"Clientes","H",42330,"N/R nº:2","4300-Clientes","15-4300-H-1500"]
[16,2000,4310,"Clientes, efectos comerciales a cobrar","D",42339,"N/F: nº 3-A","4310-Clientes, efectos comerciales a cobrar","16-4310-D-2000"]
[16,2000,7000,"Ventas de mercaderías","H",42339,"N/F: nº 3-A","7000-Ventas de mercaderías","16-7000-H-2000"]
[17,4000,6710,"Pérdidas procedentes del inmovilizado material","D",42353,"Accidente furgoneta, siniestro total","6710-Pérdidas procedentes del inmovilizado material","17-6710-D-4000"]
[17,4000,2180,"Elementos de transporte","H",42353,"Accidente furgoneta, siniestro total","2180-Elementos de transporte","17-2180-H-4000"]
[18,1500,3000,"Mercaderías A","D",42353,"Regularización de Existencias","3000-Mercaderías A","18-3000-D-1500"]
[18,1500,6100,"Variación de existencias de mercaderías","H",42353,"Regularización de Existencias","6100-Variación de existencias de mercaderías","18-6100-H-1500"]